POE-Component-Client-SimpleFTP v0.004 Perl 5 v5.22.3 x86_64-linux

Status
Pass
From
Andreas J. König (ANDK)
Dist
POE-Component-Client-SimpleFTP v0.004
Platform
Perl 5 v5.22.3 x86_64-linux
Date
2017-11-16 13:19:44
ID
cf93a428-cad0-11e7-9f31-a23cfadfd12c
This distribution has been tested as part of the CPAN Testers
project, supporting the Perl programming language.  See
http://wiki.cpantesters.org/ for more information or email
questions to cpan-testers-discuss@perl.org


--
Dear Apocalypse,

This is a computer-generated report for POE-Component-Client-SimpleFTP-0.004
on perl 5.22.3, created by CPAN-Reporter-1.2018.

Thank you for uploading your work to CPAN.  Congratulations!
All tests were successful.

Sections of this report:

    * Tester comments
    * Program output
    * Prerequisites
    * Environment and other context

------------------------------
TESTER COMMENTS
------------------------------

Additional comments from tester:

this report is from an automated smoke testing program
and was not reviewed by a human for accuracy

------------------------------
PROGRAM OUTPUT
------------------------------

Output from './Build test':

t/00-compile.t ......... ok
# 
# Versions for all modules listed in MYMETA.json (including optional ones):
# 
# === Configure Requires ===
# 
#     Module               Want    Have
#     ------------------- ----- -------
#     ExtUtils::MakeMaker   any 7.31_04
#     Module::Build::Tiny 0.039   0.039
# 
# === Test Requires ===
# 
#     Module              Want     Have
#     ------------------- ---- --------
#     ExtUtils::MakeMaker  any  7.31_04
#     File::Spec           any     3.62
#     File::Temp           any   0.2304
#     IO::Handle           any     1.35
#     IPC::Open3           any     1.18
#     Test::Deep           any    1.127
#     Test::More           any 1.302106
# 
# === Test Recommends ===
# 
#     Module         Want     Have
#     ---------- -------- --------
#     CPAN::Meta 2.120900 2.150010
# 
# === Runtime Requires ===
# 
#     Module                       Want   Have
#     ---------------------------- ---- ------
#     DateTime::Format::Strptime    any   1.74
#     Exporter                      any   5.72
#     Moose::Util::TypeConstraints  any 2.2006
#     MooseX::POE::SweetArgs        any  0.215
#     POE                           any  1.367
#     POE::Driver::SysRW            any  1.367
#     POE::Filter::Line             any  1.367
#     POE::Filter::Stream           any  1.367
#     POE::Wheel::ReadWrite         any  1.367
#     POE::Wheel::SocketFactory     any  1.367
#     Socket                        any  2.018
#     parent                        any  0.236
#     strict                        any   1.09
#     warnings                      any   1.34
# 
t/00-report-prereqs.t .. ok
t/apocalypse.t ......... skipped: Test::Apocalypse required for validating the distribution
t/utils.t .............. ok
All tests successful.
Files=4, Tests=56,  3 wallclock secs ( 0.01 usr  0.05 sys +  1.16 cusr  0.20 csys =  1.42 CPU)
Result: PASS

------------------------------
PREREQUISITES
------------------------------

Prerequisite modules loaded:

requires:

    Module                       Need  Have    
    ---------------------------- ----- --------
    DateTime::Format::Strptime   0     1.74    
    Exporter                     0     5.72    
    Moose::Util::TypeConstraints 0     2.2006  
    MooseX::POE::SweetArgs       0     0.215   
    parent                       0     0.236   
    perl                         5.006 5.022003
    POE                          0     1.367   
    POE::Driver::SysRW           0     1.367   
    POE::Filter::Line            0     1.367   
    POE::Filter::Stream          0     1.367   
    POE::Wheel::ReadWrite        0     1.367   
    POE::Wheel::SocketFactory    0     1.367   
    Socket                       0     2.018   
    strict                       0     1.09    
    warnings                     0     1.34    

build_requires:

    Module                       Need  Have    
    ---------------------------- ----- --------
    ExtUtils::MakeMaker          0     7.31_04 
    File::Spec                   0     3.62    
    File::Temp                   0     0.2304  
    IO::Handle                   0     1.35    
    IPC::Open3                   0     1.18    
    perl                         5.006 5.022003
    Test::Deep                   0     1.127   
    Test::More                   0     1.302106

configure_requires:

    Module                       Need  Have    
    ---------------------------- ----- --------
    ExtUtils::MakeMaker          0     7.31_04 
    Module::Build::Tiny          0.039 0.039   
    perl                         5.006 5.022003


------------------------------
ENVIRONMENT AND OTHER CONTEXT
------------------------------

Environment variables:

    AUTOMATED_TESTING = 1
    LANG = en_US.UTF-8
    PATH = /home/sand/bin:/usr/local/bin:/usr/bin:/bin:/usr/games:/usr/local/perl/bin:/usr/X11/bin:/sbin:/usr/sbin
    PERL5LIB = /tmp/loop_over_bdir-28667-sjp4_x/MooseX-POE-0.215-0/blib/arch:/tmp/loop_over_bdir-28667-sjp4_x/MooseX-POE-0.215-0/blib/lib
    PERL5OPT = 
    PERL5_CPANPLUS_IS_RUNNING = 28672
    PERL5_CPAN_IS_RUNNING = 28672
    PERL5_CPAN_IS_RUNNING_IN_RECURSION = 20021,28672
    PERL_CANARY_STABILITY_NOPROMPT = 1
    PERL_MM_USE_DEFAULT = 1
    PERL_USE_UNSAFE_INC = 1
    SHELL = /usr/bin/zsh
    TERM = screen

Perl special variables (and OS-specific diagnostics, for MSWin32):

    $^X = /home/sand/src/perl/repoperls/installed-perls/host/k93msid/v5.22.3/d2d1/bin/perl
    $UID/$EUID = 1005 / 1005
    $GID = 1005 1005
    $EGID = 1005 1005

Perl module toolchain versions installed:

    Module              Have    
    ------------------- --------
    CPAN                2.18    
    CPAN::Meta          2.150010
    Cwd                 3.62    
    ExtUtils::CBuilder  0.280226
    ExtUtils::Command   7.31_04 
    ExtUtils::Install   2.06    
    ExtUtils::MakeMaker 7.31_04 
    ExtUtils::Manifest  1.70    
    ExtUtils::ParseXS   3.35    
    File::Spec          3.62    
    JSON                2.94    
    JSON::PP            2.94    
    Module::Build       0.4224  
    Module::Signature   0.81    
    Parse::CPAN::Meta   2.150010
    Test::Harness       3.39    
    Test::More          1.302106
    YAML                1.24    
    YAML::Syck          1.30    
    version             0.9909  


--

Summary of my perl5 (revision 5 version 22 subversion 3) configuration:
  Derived from: 16b638b0a20de774856b3a21a75a5e373af5262c
  Platform:
    osname=linux, osvers=4.12.0-2-amd64, archname=x86_64-linux
    uname='linux k93msid 4.12.0-2-amd64 #1 smp debian 4.12.13-1 (2017-09-19) x86_64 gnulinux '
    config_args='-Dprefix=/home/sand/src/perl/repoperls/installed-perls/host/k93msid/v5.22.3/d2d1 -Dmyhostname=k93msid -Dinstallusrbinperl=n -Uversiononly -Dusedevel -des -Ui_db -Dlibswanted=cl pthread socket inet nsl gdbm dbm malloc dl ld sun m crypt sec util c cposix posix ucb BSD gdbm_compat -Uuseithreads -Uuselongdouble -DDEBUGGING=both'
    hint=recommended, useposix=true, d_sigaction=define
    useithreads=undef, usemultiplicity=undef
    use64bitint=define, use64bitall=define, uselongdouble=undef
    usemymalloc=n, bincompat5005=undef
  Compiler:
    cc='cc', ccflags ='-fwrapv -DDEBUGGING -fno-strict-aliasing -pipe -fstack-protector-strong -I/usr/local/include -D_LARGEFILE_SOURCE -D_FILE_OFFSET_BITS=64',
    optimize='-O2 -g',
    cppflags='-fwrapv -DDEBUGGING -fno-strict-aliasing -pipe -fstack-protector-strong -I/usr/local/include'
    ccversion='', gccversion='7.2.0', gccosandvers=''
    intsize=4, longsize=8, ptrsize=8, doublesize=8, byteorder=12345678, doublekind=3
    d_longlong=define, longlongsize=8, d_longdbl=define, longdblsize=16, longdblkind=3
    ivtype='long', ivsize=8, nvtype='double', nvsize=8, Off_t='off_t', lseeksize=8
    alignbytes=8, prototype=define
  Linker and Libraries:
    ld='cc', ldflags =' -fstack-protector-strong -L/usr/local/lib'
    libpth=/usr/local/lib /usr/lib/gcc/x86_64-linux-gnu/7/include-fixed /usr/include/x86_64-linux-gnu /usr/lib /lib/x86_64-linux-gnu /lib/../lib /usr/lib/x86_64-linux-gnu /usr/lib/../lib /lib
    libs=-lpthread -lnsl -ldl -lm -lcrypt -lutil -lc
    perllibs=-lpthread -lnsl -ldl -lm -lcrypt -lutil -lc
    libc=libc-2.24.so, so=so, useshrplib=false, libperl=libperl.a
    gnulibc_version='2.24'
  Dynamic Linking:
    dlsrc=dl_dlopen.xs, dlext=so, d_dlsymun=undef, ccdlflags='-Wl,-E'
    cccdlflags='-fPIC', lddlflags='-shared -O2 -g -L/usr/local/lib -fstack-protector-strong'


Characteristics of this binary (from libperl): 
  Compile-time options: DEBUGGING HAS_TIMES PERLIO_LAYERS
                        PERL_DONT_CREATE_GVSV
                        PERL_HASH_FUNC_ONE_AT_A_TIME_HARD PERL_MALLOC_WRAP
                        PERL_NEW_COPY_ON_WRITE PERL_PRESERVE_IVUV
                        PERL_USE_DEVEL USE_64_BIT_ALL USE_64_BIT_INT
                        USE_LARGE_FILES USE_LOCALE USE_LOCALE_COLLATE
                        USE_LOCALE_CTYPE USE_LOCALE_NUMERIC USE_LOCALE_TIME
                        USE_PERLIO USE_PERL_ATOF
  Locally applied patches:
	uncommitted-changes
  Built under linux
  Compiled at Oct  3 2017 16:11:03
  %ENV:
    PERL5LIB="/tmp/loop_over_bdir-28667-sjp4_x/MooseX-POE-0.215-0/blib/arch:/tmp/loop_over_bdir-28667-sjp4_x/MooseX-POE-0.215-0/blib/lib"
    PERL5OPT=""
    PERL5_CPANPLUS_IS_RUNNING="28672"
    PERL5_CPAN_IS_RUNNING="28672"
    PERL5_CPAN_IS_RUNNING_IN_RECURSION="20021,28672"
    PERL_CANARY_STABILITY_NOPROMPT="1"
    PERL_MM_USE_DEFAULT="1"
    PERL_USE_UNSAFE_INC="1"
  @INC:
    /tmp/loop_over_bdir-28667-sjp4_x/MooseX-POE-0.215-0/blib/arch
    /tmp/loop_over_bdir-28667-sjp4_x/MooseX-POE-0.215-0/blib/lib
    /home/sand/src/perl/repoperls/installed-perls/host/k93msid/v5.22.3/d2d1/lib/site_perl/5.22.3/x86_64-linux
    /home/sand/src/perl/repoperls/installed-perls/host/k93msid/v5.22.3/d2d1/lib/site_perl/5.22.3
    /home/sand/src/perl/repoperls/installed-perls/host/k93msid/v5.22.3/d2d1/lib/5.22.3/x86_64-linux
    /home/sand/src/perl/repoperls/installed-perls/host/k93msid/v5.22.3/d2d1/lib/5.22.3
    .