Dist-Zilla-Plugin-StaticInstall v0.012 Perl 5 v5.39.9 x86_64-linux-thread-multi
- Status
- Pass
- From
- Andreas J. König (ANDK)
- Dist
-
Dist-Zilla-Plugin-StaticInstall v0.012
- Platform
- Perl 5 v5.39.9 x86_64-linux-thread-multi
- Date
- 2024-04-19 06:34:02
- ID
- cf947f4e-fe16-11ee-ae4b-80c0c95e1c1b
This distribution has been tested as part of the CPAN Testers
project, supporting the Perl programming language. See
http://wiki.cpantesters.org/ for more information or email
questions to cpan-testers-discuss@perl.org
--
Dear Karen Etheridge,
This is a computer-generated report for Dist-Zilla-Plugin-StaticInstall-0.012
on perl 5.39.9, created by CPAN-Reporter-1.2019.
Thank you for uploading your work to CPAN. Congratulations!
All tests were successful.
Sections of this report:
* Tester comments
* Program output
* Prerequisites
* Environment and other context
------------------------------
TESTER COMMENTS
------------------------------
Additional comments from tester:
this report is from an automated smoke testing program
and was not reviewed by a human for accuracy
------------------------------
PROGRAM OUTPUT
------------------------------
Output from './Build test':
#
# Versions for all modules listed in MYMETA.json (including optional ones):
#
# === Configure Requires ===
#
# Module Want Have
# ------------------- ----- -----
# Module::Build::Tiny 0.034 0.047
#
# === Test Requires ===
#
# Module Want Have
# ------------------------------- ---- --------
# Dist::Zilla::Role::FileMunger any 6.031
# Dist::Zilla::Role::PrereqSource any 6.031
# File::Spec any 3.90
# Module::Metadata any 1.000038
# Module::Runtime any 0.016
# Test::DZil any 6.031
# Test::Deep any 1.204
# Test::Fatal any 0.017
# Test::More 0.96 1.302198
# Test::Needs any 0.002010
# if any 0.0610
# lib any 0.65
#
# === Test Recommends ===
#
# Module Want Have
# ---------- -------- --------
# CPAN::Meta 2.120900 2.150010
#
# === Runtime Requires ===
#
# Module Want Have
# ------------------------------- -------- ------
# Dist::Zilla 4.300039 6.031
# Dist::Zilla::Role::InstallTool any 6.031
# Dist::Zilla::Role::MetaProvider any 6.031
# List::Util 1.33 1.63
# Moose any 2.2207
# Moose::Util::TypeConstraints any 2.2207
# MooseX::Types::Moose any 0.50
# Path::Tiny any 0.144
# Scalar::Util any 1.63
# Term::ANSIColor 3.00 5.01
# autovivification any 0.18
# namespace::autoclean any 0.29
# strict any 1.13
# warnings any 1.68
#
# === Other Modules ===
#
# Module Have
# ---------------------------------------------- --------
# CPAN::Meta 2.150010
# CPAN::Meta::Merge 2.150010
# Dist::Zilla::Plugin::MakeMaker::Awesome 0.49
# Dist::Zilla::Plugin::MakeMaker::Fallback 0.032
# Dist::Zilla::Plugin::ModuleBuildTiny 0.017
# Dist::Zilla::Plugin::ModuleBuildTiny::Fallback 0.027
# Encode 3.21
# File::Temp 0.2311
# JSON::PP 4.16
# Module::Runtime 0.016
# Pod::Coverage 0.23
# Sub::Name 0.27
# YAML 1.31
# autodie 2.37
#
t/00-report-prereqs.t .... ok
t/01-basic.t ............. ok
t/02-auto.t .............. ok
t/03-dry_run.t ........... ok
t/04-on-fatal.t .......... ok
t/05-mbt-auto.t .......... ok
t/06-off-notfatal.t ...... ok
t/07-two-sources-good.t .. ok
t/08-two-sources-bad.t ... ok
t/09-two-sources-ugly.t .. ok
t/10-dry_run-not-auto.t .. ok
t/zzz-check-breaks.t ..... ok
All tests successful.
Files=12, Tests=58, 11 wallclock secs ( 0.07 usr 0.02 sys + 10.60 cusr 0.97 csys = 11.66 CPU)
Result: PASS
------------------------------
PREREQUISITES
------------------------------
Prerequisite modules loaded:
requires:
Module Need Have
------------------------------- -------- --------
autovivification 0 0.18
Dist::Zilla 4.300039 6.031
Dist::Zilla::Role::InstallTool 0 6.031
Dist::Zilla::Role::MetaProvider 0 6.031
List::Util 1.33 1.63
Moose 0 2.2207
Moose::Util::TypeConstraints 0 2.2207
MooseX::Types::Moose 0 0.50
namespace::autoclean 0 0.29
Path::Tiny 0 0.144
perl 5.006 5.039009
Scalar::Util 0 1.63
strict 0 1.13
Term::ANSIColor 3.00 5.01
warnings 0 1.68
build_requires:
Module Need Have
------------------------------- -------- --------
Dist::Zilla::Role::FileMunger 0 6.031
Dist::Zilla::Role::PrereqSource 0 6.031
File::Spec 0 3.90
if 0 0.0610
lib 0 0.65
Module::Metadata 0 1.000038
Module::Runtime 0 0.016
perl 5.006 5.039009
Test::Deep 0 1.204
Test::DZil 0 6.031
Test::Fatal 0 0.017
Test::More 0.96 1.302198
Test::Needs 0 0.002010
configure_requires:
Module Need Have
------------------------------- -------- --------
Module::Build::Tiny 0.034 0.047
perl 5.006 5.039009
------------------------------
ENVIRONMENT AND OTHER CONTEXT
------------------------------
Environment variables:
AUTOMATED_TESTING = 1
LANG = en_US.UTF-8
LC_ADDRESS = de_DE.UTF-8
LC_IDENTIFICATION = de_DE.UTF-8
LC_MEASUREMENT = de_DE.UTF-8
LC_MONETARY = de_DE.UTF-8
LC_NAME = de_DE.UTF-8
LC_NUMERIC = de_DE.UTF-8
LC_PAPER = de_DE.UTF-8
LC_TELEPHONE = de_DE.UTF-8
LC_TIME = de_DE.UTF-8
PATH = /home/sand/bin:/usr/local/bin:/usr/local/sbin:/usr/sbin:/usr/bin:/sbin:/bin:/usr/games:/usr/local/games:/snap/bin:/usr/local/perl/bin:/usr/X11/bin
PERL5LIB = /tmp/loop_over_bdir-2252-sV_wnq/Alien-SNMP-MIBDEV-2.020000-0/blib/arch:/tmp/loop_over_bdir-2252-sV_wnq/Alien-SNMP-MIBDEV-2.020000-0/blib/lib
PERL5OPT =
PERL5_CPANPLUS_IS_RUNNING = 2260
PERL5_CPAN_IS_RUNNING = 2260
PERL_CANARY_STABILITY_NOPROMPT = 1
PERL_MM_USE_DEFAULT = 1
PERL_USE_UNSAFE_INC = 1
SHELL = /usr/bin/zsh
TERM = screen
Perl special variables (and OS-specific diagnostics, for MSWin32):
$^X = /tmp/basesmoker-reloperl-kgdL/bin/perl
$UID/$EUID = 1005 / 1005
$GID = 1005 1005
$EGID = 1005 1005
Perl module toolchain versions installed:
Module Have
------------------- --------
CPAN 2.36
CPAN::Meta 2.150010
Cwd 3.90
ExtUtils::CBuilder 0.280240
ExtUtils::Command 7.70
ExtUtils::Install 2.22
ExtUtils::MakeMaker 7.70
ExtUtils::Manifest 1.75
ExtUtils::ParseXS 3.51
File::Spec 3.90
JSON 4.10
JSON::PP 4.16
Module::Build 0.4234
Module::Signature 0.88
Parse::CPAN::Meta 2.150010
Test2 1.302198
Test::Harness 3.48
Test::More 1.302198
YAML 1.31
YAML::Syck 1.34
version 0.9930
--
Summary of my perl5 (revision 5 version 39 subversion 9) configuration:
Commit id: 824a7e0bf8052e62e6913c5fb807a6a8331a2d81
Platform:
osname=linux
osvers=6.5.0-25-generic
archname=x86_64-linux-thread-multi
uname='linux k93jammy 6.5.0-25-generic #25~22.04.1-ubuntu smp preempt_dynamic tue feb 20 16:09:15 utc 2 x86_64 x86_64 x86_64 gnulinux '
config_args='-Dprefix=/home/sand/src/perl/repoperls/installed-perls/host/k93jammy/v5.39.9/b4f3 -Dmyhostname=k93jammy -Dinstallusrbinperl=n -Uversiononly -Dusedevel -des -Ui_db -Dlibswanted=cl pthread socket inet nsl gdbm dbm malloc dl ld sun m crypt sec util c cposix posix ucb BSD gdbm_compat -Duseithreads -Uuselongdouble -DEBUGGING=-g'
hint=recommended
useposix=true
d_sigaction=define
useithreads=define
usemultiplicity=define
use64bitint=define
use64bitall=define
uselongdouble=undef
usemymalloc=n
default_inc_excludes_dot=define
Compiler:
cc='cc'
ccflags ='-D_REENTRANT -D_GNU_SOURCE -fwrapv -fno-strict-aliasing -pipe -fstack-protector-strong -I/usr/local/include -D_LARGEFILE_SOURCE -D_FILE_OFFSET_BITS=64'
optimize='-O2 -g'
cppflags='-D_REENTRANT -D_GNU_SOURCE -fwrapv -fno-strict-aliasing -pipe -fstack-protector-strong -I/usr/local/include'
ccversion=''
gccversion='11.4.0'
gccosandvers=''
intsize=4
longsize=8
ptrsize=8
doublesize=8
byteorder=12345678
doublekind=3
d_longlong=define
longlongsize=8
d_longdbl=define
longdblsize=16
longdblkind=3
ivtype='long'
ivsize=8
nvtype='double'
nvsize=8
Off_t='off_t'
lseeksize=8
alignbytes=8
prototype=define
Linker and Libraries:
ld='cc'
ldflags =' -fstack-protector-strong -L/usr/local/lib'
libpth=/usr/local/lib /usr/lib/x86_64-linux-gnu /usr/lib /usr/lib64
libs=-lpthread -lnsl -ldl -lm -lcrypt -lutil -lc
perllibs=-lpthread -lnsl -ldl -lm -lcrypt -lutil -lc
libc=/lib/x86_64-linux-gnu/libc.so.6
so=so
useshrplib=false
libperl=libperl.a
gnulibc_version='2.35'
Dynamic Linking:
dlsrc=dl_dlopen.xs
dlext=so
d_dlsymun=undef
ccdlflags='-Wl,-E'
cccdlflags='-fPIC'
lddlflags='-shared -O2 -g -L/usr/local/lib -fstack-protector-strong'
Characteristics of this binary (from libperl):
Compile-time options:
HAS_LONG_DOUBLE
HAS_STRTOLD
HAS_TIMES
MULTIPLICITY
PERLIO_LAYERS
PERL_COPY_ON_WRITE
PERL_DONT_CREATE_GVSV
PERL_HASH_FUNC_SIPHASH13
PERL_HASH_USE_SBOX32
PERL_MALLOC_WRAP
PERL_OP_PARENT
PERL_PRESERVE_IVUV
PERL_USE_DEVEL
PERL_USE_SAFE_PUTENV
USE_64_BIT_ALL
USE_64_BIT_INT
USE_ITHREADS
USE_LARGE_FILES
USE_LOCALE
USE_LOCALE_COLLATE
USE_LOCALE_CTYPE
USE_LOCALE_NUMERIC
USE_LOCALE_TIME
USE_PERLIO
USE_PERL_ATOF
USE_REENTRANT_API
USE_THREAD_SAFE_LOCALE
Built under linux
Compiled at Mar 21 2024 05:21:06
%ENV:
PERL5LIB="/tmp/loop_over_bdir-2252-sV_wnq/Alien-SNMP-MIBDEV-2.020000-0/blib/arch:/tmp/loop_over_bdir-2252-sV_wnq/Alien-SNMP-MIBDEV-2.020000-0/blib/lib"
PERL5OPT=""
PERL5_CPANPLUS_IS_RUNNING="2260"
PERL5_CPAN_IS_RUNNING="2260"
PERL_CANARY_STABILITY_NOPROMPT="1"
PERL_MM_USE_DEFAULT="1"
PERL_USE_UNSAFE_INC="1"
@INC:
/tmp/loop_over_bdir-2252-sV_wnq/Alien-SNMP-MIBDEV-2.020000-0/blib/arch
/tmp/loop_over_bdir-2252-sV_wnq/Alien-SNMP-MIBDEV-2.020000-0/blib/lib
/home/sand/src/perl/repoperls/installed-perls/host/k93jammy/v5.39.9/b4f3/lib/site_perl/5.39.9/x86_64-linux-thread-multi
/home/sand/src/perl/repoperls/installed-perls/host/k93jammy/v5.39.9/b4f3/lib/site_perl/5.39.9
/home/sand/src/perl/repoperls/installed-perls/host/k93jammy/v5.39.9/b4f3/lib/5.39.9/x86_64-linux-thread-multi
/home/sand/src/perl/repoperls/installed-perls/host/k93jammy/v5.39.9/b4f3/lib/5.39.9
.