Back
From: metabase:user:314402c4-2aae-11df-837a-5e0a49663a4f
Subject: UNKNOWN JIRA-Client-REST-0.06 v5.25.12 GNU/Linux
Date: 2017-04-23T12:24:35Z
This distribution has been tested as part of the CPAN Testers
project, supporting the Perl programming language. See
http://wiki.cpantesters.org/ for more information or email
questions to cpan-testers-discuss@perl.org
--
Dear Cory G Watson,
This is a computer-generated report for JIRA-Client-REST-0.06
on perl 5.25.12, created by CPAN-Reporter-1.2018.
Thank you for uploading your work to CPAN. However, attempting to
test your distribution gave an inconclusive result.
This could be because your distribution had an error during the make/build
stage, did not define tests, tests could not be found, because your tests were
interrupted before they finished, or because the results of the tests could not
be parsed. You may wish to consult the CPAN Testers Wiki:
http://wiki.cpantesters.org/wiki/CPANAuthorNotes
Sections of this report:
* Tester comments
* Program output
* Prerequisites
* Environment and other context
------------------------------
TESTER COMMENTS
------------------------------
Additional comments from tester:
none provided
------------------------------
PROGRAM OUTPUT
------------------------------
Output from '/usr/bin/make test':
PERL_DL_NONLAZY=1 "/opt/perl-5.25.12/bin/perl5.25.12" "-MExtUtils::Command::MM" "-MTest::Harness" "-e" "undef *Test::Harness::Switches; test_harness(0, 'blib/lib', 'blib/arch')" t/*.t
Passing a list of values to enum is deprecated. Enum values should be wrapped in an arrayref. at /opt/perl-5.25.12/lib/site_perl/5.25.12/Net/HTTP/Spore/Meta/Types.pm line 18.
require Net/HTTP/Spore/Meta/Types.pm called at /opt/perl-5.25.12/lib/site_perl/5.25.12/Net/HTTP/Spore/Meta/Method.pm line 16
Net::HTTP::Spore::Meta::Method::BEGIN() called at /opt/perl-5.25.12/lib/site_perl/5.25.12/Net/HTTP/Spore/Meta/Types.pm line 0
eval {...} called at /opt/perl-5.25.12/lib/site_perl/5.25.12/Net/HTTP/Spore/Meta/Types.pm line 0
require Net/HTTP/Spore/Meta/Method.pm called at /opt/perl-5.25.12/lib/site_perl/5.25.12/Net/HTTP/Spore/Meta/Method/Spore.pm line 11
Net::HTTP::Spore::Meta::Method::Spore::BEGIN() called at /opt/perl-5.25.12/lib/site_perl/5.25.12/Net/HTTP/Spore/Meta/Types.pm line 0
eval {...} called at /opt/perl-5.25.12/lib/site_perl/5.25.12/Net/HTTP/Spore/Meta/Types.pm line 0
require Net/HTTP/Spore/Meta/Method/Spore.pm called at /opt/perl-5.25.12/lib/site_perl/5.25.12/Module/Runtime.pm line 317
Module::Runtime::require_module("Net::HTTP::Spore::Meta::Method::Spore") called at /opt/perl-5.25.12/lib/site_perl/5.25.12/Module/Runtime.pm line 381
eval {...} called at /opt/perl-5.25.12/lib/site_perl/5.25.12/Module/Runtime.pm line 381
Module::Runtime::use_package_optimistically("Net::HTTP::Spore::Meta::Method::Spore") called at /opt/perl-5.25.12/lib/site_perl/5.25.12/x86_64-linux/Moose/Util.pm line 352
Moose::Util::_load_user_class("Net::HTTP::Spore::Meta::Method::Spore", undef) called at /opt/perl-5.25.12/lib/site_perl/5.25.12/x86_64-linux/Moose/Util.pm line 147
Moose::Util::_apply_all_roles(Moose::Meta::Role=HASH(0x35a1dd0), undef, "Net::HTTP::Spore::Meta::Method::Spore") called at /opt/perl-5.25.12/lib/site_perl/5.25.12/x86_64-linux/Moose/Util.pm line 114
Moose::Util::apply_all_roles(Moose::Meta::Role=HASH(0x35a1dd0), "Net::HTTP::Spore::Meta::Method::Spore") called at /opt/perl-5.25.12/lib/site_perl/5.25.12/x86_64-linux/Moose/Role.pm line 25
Moose::Role::with(Moose::Meta::Role=HASH(0x35a1dd0), "Net::HTTP::Spore::Meta::Method::Spore") called at /opt/perl-5.25.12/lib/site_perl/5.25.12/x86_64-linux/Moose/Exporter.pm line 419
Moose::Role::with("Net::HTTP::Spore::Meta::Method::Spore") called at /opt/perl-5.25.12/lib/site_perl/5.25.12/Net/HTTP/Spore/Meta/Class.pm line 10
require Net/HTTP/Spore/Meta/Class.pm called at /opt/perl-5.25.12/lib/site_perl/5.25.12/Module/Runtime.pm line 317
Module::Runtime::require_module("Net::HTTP::Spore::Meta::Class") called at /opt/perl-5.25.12/lib/site_perl/5.25.12/Module/Runtime.pm line 381
eval {...} called at /opt/perl-5.25.12/lib/site_perl/5.25.12/Module/Runtime.pm line 381
Module::Runtime::use_package_optimistically("Net::HTTP::Spore::Meta::Class") called at /opt/perl-5.25.12/lib/site_perl/5.25.12/x86_64-linux/Moose/Util.pm line 352
Moose::Util::_load_user_class("Net::HTTP::Spore::Meta::Class", undef) called at /opt/perl-5.25.12/lib/site_perl/5.25.12/x86_64-linux/Moose/Util.pm line 147
Moose::Util::_apply_all_roles(Moose::Meta::Class=HASH(0x3593030), undef, "Net::HTTP::Spore::Meta::Class") called at /opt/perl-5.25.12/lib/site_perl/5.25.12/x86_64-linux/Moose/Util.pm line 114
Moose::Util::apply_all_roles(Moose::Meta::Class=HASH(0x3593030), "Net::HTTP::Spore::Meta::Class") called at /opt/perl-5.25.12/lib/site_perl/5.25.12/x86_64-linux/Moose/Meta/Class.pm line 88
Moose::Meta::Class::create("Moose::Meta::Class", "Moose::Meta::Class::__ANON__::SERIAL::1", "roles", ARRAY(0x358ab98), "superclasses", ARRAY(0x3592b20), "weaken", "") called at /opt/perl-5.25.12/lib/site_perl/5.25.12/x86_64-linux/Class/MOP/Package.pm line 120
Class::MOP::Package::create_anon("Moose::Meta::Class", "superclasses", ARRAY(0x3592b20), "roles", ARRAY(0x358ab98), "cache", 1) called at /opt/perl-5.25.12/lib/site_perl/5.25.12/x86_64-linux/Class/MOP/Class.pm line 472
Class::MOP::Class::create_anon_class("Moose::Meta::Class", "superclasses", ARRAY(0x3592b20), "roles", ARRAY(0x358ab98), "cache", 1) called at /opt/perl-5.25.12/lib/site_perl/5.25.12/x86_64-linux/Moose/Util/MetaRole.pm line 108
Moose::Util::MetaRole::_make_new_class("Moose::Meta::Class", ARRAY(0x358ab98)) called at /opt/perl-5.25.12/lib/site_perl/5.25.12/x86_64-linux/Moose/Util/MetaRole.pm line 53
Moose::Util::MetaRole::_make_new_metaclass(Moose::Meta::Class=HASH(0x3592598), HASH(0x351c768), "class") called at /opt/perl-5.25.12/lib/site_perl/5.25.12/x86_64-linux/Moose/Util/MetaRole.pm line 21
Moose::Util::MetaRole::apply_metaroles("for", "Net::HTTP::Spore::Core", "class_metaroles", HASH(0x351c768)) called at /opt/perl-5.25.12/lib/site_perl/5.25.12/Net/HTTP/Spore/Meta.pm line 28
Net::HTTP::Spore::Meta::init_meta("Net::HTTP::Spore::Meta", "for_class", "Net::HTTP::Spore::Meta::Types", "metaclass", undef, "meta_name", "meta") called at /opt/perl-5.25.12/lib/site_perl/5.25.12/x86_64-linux/Moose/Exporter.pm line 484
Net::HTTP::Spore::Meta::import("Net::HTTP::Spore::Meta") called at /opt/perl-5.25.12/lib/site_perl/5.25.12/Net/HTTP/Spore/Core.pm line 6
Net::HTTP::Spore::Core::BEGIN() called at /opt/perl-5.25.12/lib/site_perl/5.25.12/Net/HTTP/Spore/Meta/Types.pm line 0
eval {...} called at /opt/perl-5.25.12/lib/site_perl/5.25.12/Net/HTTP/Spore/Meta/Types.pm line 0
require Net/HTTP/Spore/Core.pm called at /opt/perl-5.25.12/lib/site_perl/5.25.12/Net/HTTP/Spore.pm line 16
Net::HTTP::Spore::BEGIN() called at /opt/perl-5.25.12/lib/site_perl/5.25.12/Net/HTTP/Spore/Meta/Types.pm line 0
eval {...} called at /opt/perl-5.25.12/lib/site_perl/5.25.12/Net/HTTP/Spore/Meta/Types.pm line 0
require Net/HTTP/Spore.pm called at /home/cpansand/.cpan/build/2017042312/JIRA-Client-REST-0.06-0/blib/lib/JIRA/Client/REST.pm line 10
JIRA::Client::REST::BEGIN() called at /opt/perl-5.25.12/lib/site_perl/5.25.12/Net/HTTP/Spore/Meta/Types.pm line 0
eval {...} called at /opt/perl-5.25.12/lib/site_perl/5.25.12/Net/HTTP/Spore/Meta/Types.pm line 0
require JIRA/Client/REST.pm called at t/issue.t line 3
main::BEGIN() called at /opt/perl-5.25.12/lib/site_perl/5.25.12/Net/HTTP/Spore/Meta/Types.pm line 0
eval {...} called at /opt/perl-5.25.12/lib/site_perl/5.25.12/Net/HTTP/Spore/Meta/Types.pm line 0
t/issue.t ............... skipped: Set JIRA_CLIENT_REST_URL
Passing a list of values to enum is deprecated. Enum values should be wrapped in an arrayref. at /opt/perl-5.25.12/lib/site_perl/5.25.12/Net/HTTP/Spore/Meta/Types.pm line 18.
require Net/HTTP/Spore/Meta/Types.pm called at /opt/perl-5.25.12/lib/site_perl/5.25.12/Net/HTTP/Spore/Meta/Method.pm line 16
Net::HTTP::Spore::Meta::Method::BEGIN() called at /opt/perl-5.25.12/lib/site_perl/5.25.12/Net/HTTP/Spore/Meta/Types.pm line 0
eval {...} called at /opt/perl-5.25.12/lib/site_perl/5.25.12/Net/HTTP/Spore/Meta/Types.pm line 0
require Net/HTTP/Spore/Meta/Method.pm called at /opt/perl-5.25.12/lib/site_perl/5.25.12/Net/HTTP/Spore/Meta/Method/Spore.pm line 11
Net::HTTP::Spore::Meta::Method::Spore::BEGIN() called at /opt/perl-5.25.12/lib/site_perl/5.25.12/Net/HTTP/Spore/Meta/Types.pm line 0
eval {...} called at /opt/perl-5.25.12/lib/site_perl/5.25.12/Net/HTTP/Spore/Meta/Types.pm line 0
require Net/HTTP/Spore/Meta/Method/Spore.pm called at /opt/perl-5.25.12/lib/site_perl/5.25.12/Module/Runtime.pm line 317
Module::Runtime::require_module("Net::HTTP::Spore::Meta::Method::Spore") called at /opt/perl-5.25.12/lib/site_perl/5.25.12/Module/Runtime.pm line 381
eval {...} called at /opt/perl-5.25.12/lib/site_perl/5.25.12/Module/Runtime.pm line 381
Module::Runtime::use_package_optimistically("Net::HTTP::Spore::Meta::Method::Spore") called at /opt/perl-5.25.12/lib/site_perl/5.25.12/x86_64-linux/Moose/Util.pm line 352
Moose::Util::_load_user_class("Net::HTTP::Spore::Meta::Method::Spore", undef) called at /opt/perl-5.25.12/lib/site_perl/5.25.12/x86_64-linux/Moose/Util.pm line 147
Moose::Util::_apply_all_roles(Moose::Meta::Role=HASH(0x37303e0), undef, "Net::HTTP::Spore::Meta::Method::Spore") called at /opt/perl-5.25.12/lib/site_perl/5.25.12/x86_64-linux/Moose/Util.pm line 114
Moose::Util::apply_all_roles(Moose::Meta::Role=HASH(0x37303e0), "Net::HTTP::Spore::Meta::Method::Spore") called at /opt/perl-5.25.12/lib/site_perl/5.25.12/x86_64-linux/Moose/Role.pm line 25
Moose::Role::with(Moose::Meta::Role=HASH(0x37303e0), "Net::HTTP::Spore::Meta::Method::Spore") called at /opt/perl-5.25.12/lib/site_perl/5.25.12/x86_64-linux/Moose/Exporter.pm line 419
Moose::Role::with("Net::HTTP::Spore::Meta::Method::Spore") called at /opt/perl-5.25.12/lib/site_perl/5.25.12/Net/HTTP/Spore/Meta/Class.pm line 10
require Net/HTTP/Spore/Meta/Class.pm called at /opt/perl-5.25.12/lib/site_perl/5.25.12/Module/Runtime.pm line 317
Module::Runtime::require_module("Net::HTTP::Spore::Meta::Class") called at /opt/perl-5.25.12/lib/site_perl/5.25.12/Module/Runtime.pm line 381
eval {...} called at /opt/perl-5.25.12/lib/site_perl/5.25.12/Module/Runtime.pm line 381
Module::Runtime::use_package_optimistically("Net::HTTP::Spore::Meta::Class") called at /opt/perl-5.25.12/lib/site_perl/5.25.12/x86_64-linux/Moose/Util.pm line 352
Moose::Util::_load_user_class("Net::HTTP::Spore::Meta::Class", undef) called at /opt/perl-5.25.12/lib/site_perl/5.25.12/x86_64-linux/Moose/Util.pm line 147
Moose::Util::_apply_all_roles(Moose::Meta::Class=HASH(0x37217a0), undef, "Net::HTTP::Spore::Meta::Class") called at /opt/perl-5.25.12/lib/site_perl/5.25.12/x86_64-linux/Moose/Util.pm line 114
Moose::Util::apply_all_roles(Moose::Meta::Class=HASH(0x37217a0), "Net::HTTP::Spore::Meta::Class") called at /opt/perl-5.25.12/lib/site_perl/5.25.12/x86_64-linux/Moose/Meta/Class.pm line 88
Moose::Meta::Class::create("Moose::Meta::Class", "Moose::Meta::Class::__ANON__::SERIAL::1", "superclasses", ARRAY(0x3721290), "weaken", "", "roles", ARRAY(0x3719298)) called at /opt/perl-5.25.12/lib/site_perl/5.25.12/x86_64-linux/Class/MOP/Package.pm line 120
Class::MOP::Package::create_anon("Moose::Meta::Class", "superclasses", ARRAY(0x3721290), "roles", ARRAY(0x3719298), "cache", 1) called at /opt/perl-5.25.12/lib/site_perl/5.25.12/x86_64-linux/Class/MOP/Class.pm line 472
Class::MOP::Class::create_anon_class("Moose::Meta::Class", "superclasses", ARRAY(0x3721290), "roles", ARRAY(0x3719298), "cache", 1) called at /opt/perl-5.25.12/lib/site_perl/5.25.12/x86_64-linux/Moose/Util/MetaRole.pm line 108
Moose::Util::MetaRole::_make_new_class("Moose::Meta::Class", ARRAY(0x3719298)) called at /opt/perl-5.25.12/lib/site_perl/5.25.12/x86_64-linux/Moose/Util/MetaRole.pm line 53
Moose::Util::MetaRole::_make_new_metaclass(Moose::Meta::Class=HASH(0x3720d08), HASH(0x371a2c8), "class") called at /opt/perl-5.25.12/lib/site_perl/5.25.12/x86_64-linux/Moose/Util/MetaRole.pm line 21
Moose::Util::MetaRole::apply_metaroles("for", "Net::HTTP::Spore::Core", "class_metaroles", HASH(0x371a2c8)) called at /opt/perl-5.25.12/lib/site_perl/5.25.12/Net/HTTP/Spore/Meta.pm line 28
Net::HTTP::Spore::Meta::init_meta("Net::HTTP::Spore::Meta", "for_class", "Net::HTTP::Spore::Meta::Types", "metaclass", undef, "meta_name", "meta") called at /opt/perl-5.25.12/lib/site_perl/5.25.12/x86_64-linux/Moose/Exporter.pm line 484
Net::HTTP::Spore::Meta::import("Net::HTTP::Spore::Meta") called at /opt/perl-5.25.12/lib/site_perl/5.25.12/Net/HTTP/Spore/Core.pm line 6
Net::HTTP::Spore::Core::BEGIN() called at /opt/perl-5.25.12/lib/site_perl/5.25.12/Net/HTTP/Spore/Meta/Types.pm line 0
eval {...} called at /opt/perl-5.25.12/lib/site_perl/5.25.12/Net/HTTP/Spore/Meta/Types.pm line 0
require Net/HTTP/Spore/Core.pm called at /opt/perl-5.25.12/lib/site_perl/5.25.12/Net/HTTP/Spore.pm line 16
Net::HTTP::Spore::BEGIN() called at /opt/perl-5.25.12/lib/site_perl/5.25.12/Net/HTTP/Spore/Meta/Types.pm line 0
eval {...} called at /opt/perl-5.25.12/lib/site_perl/5.25.12/Net/HTTP/Spore/Meta/Types.pm line 0
require Net/HTTP/Spore.pm called at /home/cpansand/.cpan/build/2017042312/JIRA-Client-REST-0.06-0/blib/lib/JIRA/Client/REST.pm line 10
JIRA::Client::REST::BEGIN() called at /opt/perl-5.25.12/lib/site_perl/5.25.12/Net/HTTP/Spore/Meta/Types.pm line 0
eval {...} called at /opt/perl-5.25.12/lib/site_perl/5.25.12/Net/HTTP/Spore/Meta/Types.pm line 0
require JIRA/Client/REST.pm called at t/project.t line 3
main::BEGIN() called at /opt/perl-5.25.12/lib/site_perl/5.25.12/Net/HTTP/Spore/Meta/Types.pm line 0
eval {...} called at /opt/perl-5.25.12/lib/site_perl/5.25.12/Net/HTTP/Spore/Meta/Types.pm line 0
t/project.t ............. skipped: Set JIRA_CLIENT_REST_URL
t/release-pod-syntax.t .. skipped: these tests are for release candidate testing
t/release-synopsis.t .... skipped: these tests are for release candidate testing
Passing a list of values to enum is deprecated. Enum values should be wrapped in an arrayref. at /opt/perl-5.25.12/lib/site_perl/5.25.12/Net/HTTP/Spore/Meta/Types.pm line 18.
require Net/HTTP/Spore/Meta/Types.pm called at /opt/perl-5.25.12/lib/site_perl/5.25.12/Net/HTTP/Spore/Meta/Method.pm line 16
Net::HTTP::Spore::Meta::Method::BEGIN() called at /opt/perl-5.25.12/lib/site_perl/5.25.12/Net/HTTP/Spore/Meta/Types.pm line 0
eval {...} called at /opt/perl-5.25.12/lib/site_perl/5.25.12/Net/HTTP/Spore/Meta/Types.pm line 0
require Net/HTTP/Spore/Meta/Method.pm called at /opt/perl-5.25.12/lib/site_perl/5.25.12/Net/HTTP/Spore/Meta/Method/Spore.pm line 11
Net::HTTP::Spore::Meta::Method::Spore::BEGIN() called at /opt/perl-5.25.12/lib/site_perl/5.25.12/Net/HTTP/Spore/Meta/Types.pm line 0
eval {...} called at /opt/perl-5.25.12/lib/site_perl/5.25.12/Net/HTTP/Spore/Meta/Types.pm line 0
require Net/HTTP/Spore/Meta/Method/Spore.pm called at /opt/perl-5.25.12/lib/site_perl/5.25.12/Module/Runtime.pm line 317
Module::Runtime::require_module("Net::HTTP::Spore::Meta::Method::Spore") called at /opt/perl-5.25.12/lib/site_perl/5.25.12/Module/Runtime.pm line 381
eval {...} called at /opt/perl-5.25.12/lib/site_perl/5.25.12/Module/Runtime.pm line 381
Module::Runtime::use_package_optimistically("Net::HTTP::Spore::Meta::Method::Spore") called at /opt/perl-5.25.12/lib/site_perl/5.25.12/x86_64-linux/Moose/Util.pm line 352
Moose::Util::_load_user_class("Net::HTTP::Spore::Meta::Method::Spore", undef) called at /opt/perl-5.25.12/lib/site_perl/5.25.12/x86_64-linux/Moose/Util.pm line 147
Moose::Util::_apply_all_roles(Moose::Meta::Role=HASH(0x1f726c0), undef, "Net::HTTP::Spore::Meta::Method::Spore") called at /opt/perl-5.25.12/lib/site_perl/5.25.12/x86_64-linux/Moose/Util.pm line 114
Moose::Util::apply_all_roles(Moose::Meta::Role=HASH(0x1f726c0), "Net::HTTP::Spore::Meta::Method::Spore") called at /opt/perl-5.25.12/lib/site_perl/5.25.12/x86_64-linux/Moose/Role.pm line 25
Moose::Role::with(Moose::Meta::Role=HASH(0x1f726c0), "Net::HTTP::Spore::Meta::Method::Spore") called at /opt/perl-5.25.12/lib/site_perl/5.25.12/x86_64-linux/Moose/Exporter.pm line 419
Moose::Role::with("Net::HTTP::Spore::Meta::Method::Spore") called at /opt/perl-5.25.12/lib/site_perl/5.25.12/Net/HTTP/Spore/Meta/Class.pm line 10
require Net/HTTP/Spore/Meta/Class.pm called at /opt/perl-5.25.12/lib/site_perl/5.25.12/Module/Runtime.pm line 317
Module::Runtime::require_module("Net::HTTP::Spore::Meta::Class") called at /opt/perl-5.25.12/lib/site_perl/5.25.12/Module/Runtime.pm line 381
eval {...} called at /opt/perl-5.25.12/lib/site_perl/5.25.12/Module/Runtime.pm line 381
Module::Runtime::use_package_optimistically("Net::HTTP::Spore::Meta::Class") called at /opt/perl-5.25.12/lib/site_perl/5.25.12/x86_64-linux/Moose/Util.pm line 352
Moose::Util::_load_user_class("Net::HTTP::Spore::Meta::Class", undef) called at /opt/perl-5.25.12/lib/site_perl/5.25.12/x86_64-linux/Moose/Util.pm line 147
Moose::Util::_apply_all_roles(Moose::Meta::Class=HASH(0x1f63a70), undef, "Net::HTTP::Spore::Meta::Class") called at /opt/perl-5.25.12/lib/site_perl/5.25.12/x86_64-linux/Moose/Util.pm line 114
Moose::Util::apply_all_roles(Moose::Meta::Class=HASH(0x1f63a70), "Net::HTTP::Spore::Meta::Class") called at /opt/perl-5.25.12/lib/site_perl/5.25.12/x86_64-linux/Moose/Meta/Class.pm line 88
Moose::Meta::Class::create("Moose::Meta::Class", "Moose::Meta::Class::__ANON__::SERIAL::1", "superclasses", ARRAY(0x1f63560), "roles", ARRAY(0x1f5b620), "weaken", "") called at /opt/perl-5.25.12/lib/site_perl/5.25.12/x86_64-linux/Class/MOP/Package.pm line 120
Class::MOP::Package::create_anon("Moose::Meta::Class", "superclasses", ARRAY(0x1f63560), "roles", ARRAY(0x1f5b620), "cache", 1) called at /opt/perl-5.25.12/lib/site_perl/5.25.12/x86_64-linux/Class/MOP/Class.pm line 472
Class::MOP::Class::create_anon_class("Moose::Meta::Class", "superclasses", ARRAY(0x1f63560), "roles", ARRAY(0x1f5b620), "cache", 1) called at /opt/perl-5.25.12/lib/site_perl/5.25.12/x86_64-linux/Moose/Util/MetaRole.pm line 108
Moose::Util::MetaRole::_make_new_class("Moose::Meta::Class", ARRAY(0x1f5b620)) called at /opt/perl-5.25.12/lib/site_perl/5.25.12/x86_64-linux/Moose/Util/MetaRole.pm line 53
Moose::Util::MetaRole::_make_new_metaclass(Moose::Meta::Class=HASH(0x1f62fd8), HASH(0x1f5bf08), "class") called at /opt/perl-5.25.12/lib/site_perl/5.25.12/x86_64-linux/Moose/Util/MetaRole.pm line 21
Moose::Util::MetaRole::apply_metaroles("for", "Net::HTTP::Spore::Core", "class_metaroles", HASH(0x1f5bf08)) called at /opt/perl-5.25.12/lib/site_perl/5.25.12/Net/HTTP/Spore/Meta.pm line 28
Net::HTTP::Spore::Meta::init_meta("Net::HTTP::Spore::Meta", "for_class", "Net::HTTP::Spore::Meta::Types", "metaclass", undef, "meta_name", "meta") called at /opt/perl-5.25.12/lib/site_perl/5.25.12/x86_64-linux/Moose/Exporter.pm line 484
Net::HTTP::Spore::Meta::import("Net::HTTP::Spore::Meta") called at /opt/perl-5.25.12/lib/site_perl/5.25.12/Net/HTTP/Spore/Core.pm line 6
Net::HTTP::Spore::Core::BEGIN() called at /opt/perl-5.25.12/lib/site_perl/5.25.12/Net/HTTP/Spore/Meta/Types.pm line 0
eval {...} called at /opt/perl-5.25.12/lib/site_perl/5.25.12/Net/HTTP/Spore/Meta/Types.pm line 0
require Net/HTTP/Spore/Core.pm called at /opt/perl-5.25.12/lib/site_perl/5.25.12/Net/HTTP/Spore.pm line 16
Net::HTTP::Spore::BEGIN() called at /opt/perl-5.25.12/lib/site_perl/5.25.12/Net/HTTP/Spore/Meta/Types.pm line 0
eval {...} called at /opt/perl-5.25.12/lib/site_perl/5.25.12/Net/HTTP/Spore/Meta/Types.pm line 0
require Net/HTTP/Spore.pm called at /home/cpansand/.cpan/build/2017042312/JIRA-Client-REST-0.06-0/blib/lib/JIRA/Client/REST.pm line 10
JIRA::Client::REST::BEGIN() called at /opt/perl-5.25.12/lib/site_perl/5.25.12/Net/HTTP/Spore/Meta/Types.pm line 0
eval {...} called at /opt/perl-5.25.12/lib/site_perl/5.25.12/Net/HTTP/Spore/Meta/Types.pm line 0
require JIRA/Client/REST.pm called at t/version.t line 3
main::BEGIN() called at /opt/perl-5.25.12/lib/site_perl/5.25.12/Net/HTTP/Spore/Meta/Types.pm line 0
eval {...} called at /opt/perl-5.25.12/lib/site_perl/5.25.12/Net/HTTP/Spore/Meta/Types.pm line 0
t/version.t ............. skipped: Set JIRA_CLIENT_REST_URL
Files=5, Tests=0, 3 wallclock secs ( 0.04 usr 0.02 sys + 2.62 cusr 0.15 csys = 2.83 CPU)
Result: NOTESTS
------------------------------
PREREQUISITES
------------------------------
Prerequisite modules loaded:
requires:
Module Need Have
------------------- ---- --------
JSON 0 2.90
JSON::XS 0 3.03
Moose 0 2.2004
Net::HTTP::Spore 0 0.06
build_requires:
Module Need Have
------------------- ---- --------
strict 0 1.11
Test::More 0 1.302083
configure_requires:
Module Need Have
------------------- ---- --------
ExtUtils::MakeMaker 6.30 7.24
------------------------------
ENVIRONMENT AND OTHER CONTEXT
------------------------------
Environment variables:
LANG = en_US.UTF-8
PATH = /usr/local/bin:/usr/bin:/bin:/usr/local/sbin:/usr/sbin:/sbin:/home/cpansand/bin/linux-gnu:/home/cpansand/bin/sh:/home/cpansand/bin:/usr/games:/home/cpansand/devel:/home/eserte/src/srezic-misc/scripts
PERL5LIB =
PERL5OPT =
PERL5_CPANPLUS_IS_RUNNING = 23808
PERL5_CPAN_IS_RUNNING = 23808
PERL5_CPAN_IS_RUNNING_IN_RECURSION = 12789,23808
PERLDOC = -MPod::Perldoc::ToTextOverstrike
PERL_BATCH = yes
PERL_CANARY_STABILITY_NOPROMPT = 1
PERL_CPAN_REPORTER_CONFIG = /var/tmp/cpansmoker-1002/2017042309/cpanreporter_003_config.ini
PERL_EXTUTILS_AUTOINSTALL = --defaultdeps
PERL_USE_UNSAFE_INC = 1
SHELL = /bin/zsh
TERM = screen
TMPDIR = /var/tmp/cpansmoker-1002/2017042309
Perl special variables (and OS-specific diagnostics, for MSWin32):
$^X = /opt/perl-5.25.12/bin/perl5.25.12
$UID/$EUID = 1002 / 1002
$GID = 1002 1002
$EGID = 1002 1002
Perl module toolchain versions installed:
Module Have
------------------- --------
CPAN 2.18
CPAN::Meta 2.150010
Cwd 3.62
ExtUtils::CBuilder 0.280224
ExtUtils::Command 7.24
ExtUtils::Install 2.04
ExtUtils::MakeMaker 7.24
ExtUtils::Manifest 1.70
ExtUtils::ParseXS 3.30
File::Spec 3.62
JSON 2.90
JSON::PP 2.27400
Module::Build 0.4222
Module::Signature 0.81
Parse::CPAN::Meta 2.150010
Test::Harness 3.39
Test::More 1.302083
YAML 1.23
YAML::Syck 1.30
version 0.9917
--
Summary of my perl5 (revision 5 version 25 subversion 12) configuration:
Platform:
osname=linux
osvers=4.4.0-72-generic
archname=x86_64-linux
uname='linux prod3 4.4.0-72-generic #93-ubuntu smp fri mar 31 14:07:41 utc 2017 x86_64 x86_64 x86_64 gnulinux '
config_args='-ds -e -Dprefix=/opt/perl-5.25.12 -Dusedevel -Dusemallocwrap=no -Dcf_email=srezic@cpan.org'
hint=recommended
useposix=true
d_sigaction=define
useithreads=undef
usemultiplicity=undef
use64bitint=define
use64bitall=define
uselongdouble=undef
usemymalloc=n
default_inc_excludes_dot=define
bincompat5005=undef
Compiler:
cc='cc'
ccflags ='-fwrapv -fno-strict-aliasing -pipe -fstack-protector-strong -I/usr/local/include -D_LARGEFILE_SOURCE -D_FILE_OFFSET_BITS=64'
optimize='-O2'
cppflags='-fwrapv -fno-strict-aliasing -pipe -fstack-protector-strong -I/usr/local/include'
ccversion=''
gccversion='5.4.0 20160609'
gccosandvers=''
intsize=4
longsize=8
ptrsize=8
doublesize=8
byteorder=12345678
doublekind=3
d_longlong=define
longlongsize=8
d_longdbl=define
longdblsize=16
longdblkind=3
ivtype='long'
ivsize=8
nvtype='double'
nvsize=8
Off_t='off_t'
lseeksize=8
alignbytes=8
prototype=define
Linker and Libraries:
ld='cc'
ldflags =' -fstack-protector-strong -L/usr/local/lib'
libpth=/usr/local/lib /usr/lib/gcc/x86_64-linux-gnu/5/include-fixed /usr/include/x86_64-linux-gnu /usr/lib /lib/x86_64-linux-gnu /lib/../lib /usr/lib/x86_64-linux-gnu /usr/lib/../lib /lib
libs=-lpthread -lnsl -lgdbm -ldb -ldl -lm -lcrypt -lutil -lc -lgdbm_compat
perllibs=-lpthread -lnsl -ldl -lm -lcrypt -lutil -lc
libc=libc-2.23.so
so=so
useshrplib=false
libperl=libperl.a
gnulibc_version='2.23'
Dynamic Linking:
dlsrc=dl_dlopen.xs
dlext=so
d_dlsymun=undef
ccdlflags='-Wl,-E'
cccdlflags='-fPIC'
lddlflags='-shared -O2 -L/usr/local/lib -fstack-protector-strong'
Characteristics of this binary (from libperl):
Compile-time options:
HAS_TIMES
PERLIO_LAYERS
PERL_COPY_ON_WRITE
PERL_DONT_CREATE_GVSV
PERL_OP_PARENT
PERL_PRESERVE_IVUV
PERL_USE_DEVEL
USE_64_BIT_ALL
USE_64_BIT_INT
USE_LARGE_FILES
USE_LOCALE
USE_LOCALE_COLLATE
USE_LOCALE_CTYPE
USE_LOCALE_NUMERIC
USE_LOCALE_TIME
USE_PERLIO
USE_PERL_ATOF
Built under linux
Compiled at Apr 20 2017 19:58:01
%ENV:
PERL5LIB=""
PERL5OPT=""
PERL5_CPANPLUS_IS_RUNNING="23808"
PERL5_CPAN_IS_RUNNING="23808"
PERL5_CPAN_IS_RUNNING_IN_RECURSION="12789,23808"
PERLDOC="-MPod::Perldoc::ToTextOverstrike"
PERL_BATCH="yes"
PERL_CANARY_STABILITY_NOPROMPT="1"
PERL_CPAN_REPORTER_CONFIG="/var/tmp/cpansmoker-1002/2017042309/cpanreporter_003_config.ini"
PERL_EXTUTILS_AUTOINSTALL="--defaultdeps"
PERL_USE_UNSAFE_INC="1"
@INC:
/opt/perl-5.25.12/lib/site_perl/5.25.12/x86_64-linux
/opt/perl-5.25.12/lib/site_perl/5.25.12
/opt/perl-5.25.12/lib/5.25.12/x86_64-linux
/opt/perl-5.25.12/lib/5.25.12
.