Back
From: metabase:user:30f0bd62-2aae-11df-837a-5e0a49663a4f
Subject: PASS CGI-Builder-Auth-0.06 v5.15.7 MirOS BSD
Date: 2012-04-21T15:01:02Z
This distribution has been tested as part of the CPAN Testers
project, supporting the Perl programming language. See
http://wiki.cpantesters.org/ for more information or email
questions to cpan-testers-discuss@perl.org
--
Dear Vincent E. Veselosky,
This is a computer-generated report for CGI-Builder-Auth-0.06
on perl 5.15.7, created by CPAN-Reporter-1.2005.
Thank you for uploading your work to CPAN. Congratulations!
All tests were successful.
Sections of this report:
* Tester comments
* Program output
* Prerequisites
* Environment and other context
------------------------------
TESTER COMMENTS
------------------------------
Additional comments from tester:
this report is from an automated smoke testing program
and was not reviewed by a human for accuracy
------------------------------
PROGRAM OUTPUT
------------------------------
Output from '/usr/bin/make test':
PERL_DL_NONLAZY=1 /home/sts/cpansmoke/perl-5.15.7/bin/perl5.15.7 "-MExtUtils::Command::MM" "-e" "test_harness(0, 'blib/lib', 'blib/arch')" t/*.t
defined(@array) is deprecated at /home/sts/cpansmoke/perl-5.15.7/cpan/build/CGI-Builder-Auth-0.06-WKkMSq/blib/lib/CGI/Builder/Auth/AdminBase.pm line 93.
(Maybe you should just omit the defined()?)
defined(@array) is deprecated at /home/sts/cpansmoke/perl-5.15.7/cpan/build/CGI-Builder-Auth-0.06-WKkMSq/blib/lib/CGI/Builder/Auth/AdminBase.pm line 99.
(Maybe you should just omit the defined()?)
t/01realms.t ........ ok
defined(@array) is deprecated at /home/sts/cpansmoke/perl-5.15.7/cpan/build/CGI-Builder-Auth-0.06-WKkMSq/blib/lib/CGI/Builder/Auth/AdminBase.pm line 93.
(Maybe you should just omit the defined()?)
defined(@array) is deprecated at /home/sts/cpansmoke/perl-5.15.7/cpan/build/CGI-Builder-Auth-0.06-WKkMSq/blib/lib/CGI/Builder/Auth/AdminBase.pm line 99.
(Maybe you should just omit the defined()?)
t/02text.t .......... ok
defined(@array) is deprecated at /home/sts/cpansmoke/perl-5.15.7/cpan/build/CGI-Builder-Auth-0.06-WKkMSq/blib/lib/CGI/Builder/Auth/AdminBase.pm line 93.
(Maybe you should just omit the defined()?)
defined(@array) is deprecated at /home/sts/cpansmoke/perl-5.15.7/cpan/build/CGI-Builder-Auth-0.06-WKkMSq/blib/lib/CGI/Builder/Auth/AdminBase.pm line 99.
(Maybe you should just omit the defined()?)
t/03dbm.t ........... ok
defined(@array) is deprecated at /home/sts/cpansmoke/perl-5.15.7/cpan/build/CGI-Builder-Auth-0.06-WKkMSq/blib/lib/CGI/Builder/Auth/AdminBase.pm line 93.
(Maybe you should just omit the defined()?)
defined(@array) is deprecated at /home/sts/cpansmoke/perl-5.15.7/cpan/build/CGI-Builder-Auth-0.06-WKkMSq/blib/lib/CGI/Builder/Auth/AdminBase.pm line 99.
(Maybe you should just omit the defined()?)
t/04db.t ............ ok
defined(@array) is deprecated at /home/sts/cpansmoke/perl-5.15.7/cpan/build/CGI-Builder-Auth-0.06-WKkMSq/blib/lib/CGI/Builder/Auth/AdminBase.pm line 93.
(Maybe you should just omit the defined()?)
defined(@array) is deprecated at /home/sts/cpansmoke/perl-5.15.7/cpan/build/CGI-Builder-Auth-0.06-WKkMSq/blib/lib/CGI/Builder/Auth/AdminBase.pm line 99.
(Maybe you should just omit the defined()?)
t/05user.t .......... ok
defined(@array) is deprecated at /home/sts/cpansmoke/perl-5.15.7/cpan/build/CGI-Builder-Auth-0.06-WKkMSq/blib/lib/CGI/Builder/Auth/AdminBase.pm line 93.
(Maybe you should just omit the defined()?)
defined(@array) is deprecated at /home/sts/cpansmoke/perl-5.15.7/cpan/build/CGI-Builder-Auth-0.06-WKkMSq/blib/lib/CGI/Builder/Auth/AdminBase.pm line 99.
(Maybe you should just omit the defined()?)
t/06group.t ......... ok
Name "Class::groups::PROPS" used only once: possible typo at /home/sts/cpansmoke/perl-5.15.7/cpan/build/OOTools-2.3-CjQN90/blib/lib/Class/groups.pm line 43.
defined(@array) is deprecated at /home/sts/cpansmoke/perl-5.15.7/cpan/build/CGI-Builder-Auth-0.06-WKkMSq/blib/lib/CGI/Builder/Auth/AdminBase.pm line 93.
(Maybe you should just omit the defined()?)
defined(@array) is deprecated at /home/sts/cpansmoke/perl-5.15.7/cpan/build/CGI-Builder-Auth-0.06-WKkMSq/blib/lib/CGI/Builder/Auth/AdminBase.pm line 99.
(Maybe you should just omit the defined()?)
t/07auth_context.t .. ok
All tests successful.
Files=7, Tests=145, 3 wallclock secs ( 0.12 usr 0.00 sys + 0.63 cusr 0.10 csys = 0.85 CPU)
Result: PASS
------------------------------
PREREQUISITES
------------------------------
Prerequisite modules loaded:
requires:
Module Need Have
------------------- ---- -------
Carp 0 1.24
! CGI::Builder 1.11 n/a
Class::constr 1.75 2.3
Class::props 1.7 2.3
File::Basename 0 2.84
Scalar::Util 0 1.23
Test::More 0 0.98
build_requires:
Module Need Have
------------------- ---- -------
ExtUtils::MakeMaker 0 6.63_02
------------------------------
ENVIRONMENT AND OTHER CONTEXT
------------------------------
Environment variables:
AUTOMATED_TESTING = 1
LC_CTYPE = en_US.UTF-8
PATH = /home/sts/bin:/home/sts/.etc/bin:/usr/local/bin:/usr/mpkg/bin:/usr/bin:/bin:/usr/X11R6/bin:/usr/sbin:/sbin:/usr/mpkg/sbin:/usr/games
PERL5LIB = /home/sts/cpansmoke/perl-5.15.7/cpan/build/IO-Util-1.5-dPMGNd/blib/arch:/home/sts/cpansmoke/perl-5.15.7/cpan/build/IO-Util-1.5-dPMGNd/blib/lib:/home/sts/cpansmoke/perl-5.15.7/cpan/build/OOTools-2.3-CjQN90/blib/arch:/home/sts/cpansmoke/perl-5.15.7/cpan/build/OOTools-2.3-CjQN90/blib/lib
PERL5OPT =
PERL5_CPANPLUS_IS_RUNNING = 30597
PERL5_CPAN_IS_RUNNING = 30597
PERL5_CPAN_IS_RUNNING_IN_RECURSION = 9200,30597
PERL_CR_SMOKER_CURRENT = CGI-Builder-Auth-0.06
PERL_EXTUTILS_AUTOINSTALL = --defaultdeps
PERL_MM_USE_DEFAULT = 1
SHELL = /bin/mksh
TERM = screen
TMPDIR = /home/sts/cpansmoke/tmp
Perl special variables (and OS-specific diagnostics, for MSWin32):
$^X = /home/sts/cpansmoke/perl-5.15.7/bin/perl5.15.7
$UID/$EUID = 3000 / 3000
$GID = 3000 3000 0 9 20
$EGID = 3000 3000 0 9 20
Perl module toolchain versions installed:
Module Have
------------------- --------
CPAN 1.9800
CPAN::Meta 2.113640
Cwd 3.39_01
ExtUtils::CBuilder 0.280205
ExtUtils::Command 1.17
ExtUtils::Install 1.57
ExtUtils::MakeMaker 6.63_02
ExtUtils::Manifest 1.61
ExtUtils::ParseXS 3.12
File::Spec 3.39_01
JSON n/a
JSON::PP 2.27200
Module::Build 0.39_01
Module::Signature n/a
Parse::CPAN::Meta 1.4401
Test::Harness 3.23
Test::More 0.98
YAML n/a
YAML::Syck n/a
version 0.96
--
Summary of my perl5 (revision 5 version 15 subversion 7) configuration:
Platform:
osname=mirbsd, osvers=10, archname=MirBSD.i386-mirbsd-thread-multi
uname='mirbsd cpansmoke8 10 kv#10uaf-20110818 generic#1330 i386 '
config_args='-des -Dusedevel -Dusethreads -Dprefix=/home/sts/cpansmoke/perl-5.15.7'
hint=recommended, useposix=true, d_sigaction=define
useithreads=define, usemultiplicity=define
useperlio=define, d_sfio=undef, uselargefiles=define, usesocks=undef
use64bitint=undef, use64bitall=undef, uselongdouble=undef
usemymalloc=n, bincompat5005=undef
Compiler:
cc='mgcc', ccflags ='-pthread -fhonour-copts -I/usr/mpkg/include -I/usr/local/include',
optimize='-O2',
cppflags='-fhonour-copts -I/usr/mpkg/include -pthread -fhonour-copts -I/usr/mpkg/include -I/usr/local/include'
ccversion='', gccversion='3.4.6 (propolice; gpc; MirOS 0AAB)', gccosandvers='mirbsd10'
intsize=4, longsize=4, ptrsize=4, doublesize=8, byteorder=1234
d_longlong=define, longlongsize=8, d_longdbl=define, longdblsize=12
ivtype='long', ivsize=4, nvtype='double', nvsize=8, Off_t='off_t', lseeksize=8
alignbytes=4, prototype=define
Linker and Libraries:
ld='mgcc', ldflags ='-pthread -Wl,-E -L/usr/mpkg/lib -L/usr/local/lib'
libpth=/usr/mpkg/lib /usr/local/lib /usr/lib
libs=-lm -lutil -lc
perllibs=-lm -lutil -lc
libc=/usr/lib/libc.so.41.9, so=so, useshrplib=false, libperl=libperl.a
gnulibc_version=''
Dynamic Linking:
dlsrc=dl_dlopen.xs, dlext=so, d_dlsymun=undef, ccdlflags=' '
cccdlflags='-DPIC -fPIC ', lddlflags='-shared -fPIC -L/usr/mpkg/lib -L/usr/local/lib'
Characteristics of this binary (from libperl):
Compile-time options: HAS_TIMES MULTIPLICITY PERLIO_LAYERS
PERL_DONT_CREATE_GVSV PERL_IMPLICIT_CONTEXT
PERL_MALLOC_WRAP PERL_PRESERVE_IVUV PERL_USE_DEVEL
USE_ITHREADS USE_LARGE_FILES USE_LOCALE
USE_LOCALE_COLLATE USE_LOCALE_CTYPE
USE_LOCALE_NUMERIC USE_PERLIO USE_PERL_ATOF
USE_REENTRANT_API
Built under mirbsd
Compiled at Feb 8 2012 18:12:56
%ENV:
PERL5LIB="/home/sts/cpansmoke/perl-5.15.7/cpan/build/IO-Util-1.5-dPMGNd/blib/arch:/home/sts/cpansmoke/perl-5.15.7/cpan/build/IO-Util-1.5-dPMGNd/blib/lib:/home/sts/cpansmoke/perl-5.15.7/cpan/build/OOTools-2.3-CjQN90/blib/arch:/home/sts/cpansmoke/perl-5.15.7/cpan/build/OOTools-2.3-CjQN90/blib/lib"
PERL5OPT=""
PERL5_CPANPLUS_IS_RUNNING="30597"
PERL5_CPAN_IS_RUNNING="30597"
PERL5_CPAN_IS_RUNNING_IN_RECURSION="9200,30597"
PERL_CR_SMOKER_CURRENT="CGI-Builder-Auth-0.06"
PERL_EXTUTILS_AUTOINSTALL="--defaultdeps"
PERL_MM_USE_DEFAULT="1"
@INC:
/home/sts/cpansmoke/perl-5.15.7/cpan/build/IO-Util-1.5-dPMGNd/blib/arch
/home/sts/cpansmoke/perl-5.15.7/cpan/build/IO-Util-1.5-dPMGNd/blib/lib
/home/sts/cpansmoke/perl-5.15.7/cpan/build/OOTools-2.3-CjQN90/blib/arch
/home/sts/cpansmoke/perl-5.15.7/cpan/build/OOTools-2.3-CjQN90/blib/lib
/home/sts/cpansmoke/perl-5.15.7/lib/site_perl/5.15.7/MirBSD.i386-mirbsd-thread-multi
/home/sts/cpansmoke/perl-5.15.7/lib/site_perl/5.15.7
/home/sts/cpansmoke/perl-5.15.7/lib/5.15.7/MirBSD.i386-mirbsd-thread-multi
/home/sts/cpansmoke/perl-5.15.7/lib/5.15.7
.