Format-Util v0.14 Perl 5 v5.14.0 x86_64-dragonfly

Status
Pass
From
Nigel Horne
Dist
Format-Util v0.14
Platform
Perl 5 v5.14.0 x86_64-dragonfly
Date
2018-05-11 05:40:28
ID
cfa9851c-54dd-11e8-9da6-f703c768dc7a
This distribution has been tested as part of the CPAN Testers
project, supporting the Perl programming language.  See
http://wiki.cpantesters.org/ for more information or email
questions to cpan-testers-discuss@perl.org


--
Dear Binary.com,

This is a computer-generated report for Format-Util-0.14
on perl 5.14.0, created by CPAN-Reporter-1.2018.

Thank you for uploading your work to CPAN.  Congratulations!
All tests were successful.

Sections of this report:

    * Tester comments
    * Program output
    * Prerequisites
    * Environment and other context

------------------------------
TESTER COMMENTS
------------------------------

Additional comments from tester:

this report is from an automated smoke testing program
and was not reviewed by a human for accuracy

------------------------------
PROGRAM OUTPUT
------------------------------

Output from '/usr/bin/make test':

Skip blib/lib/auto/share/dist/Format-Util/precision.yml (unchanged)
PERL_DL_NONLAZY=1 "/home/njh/perl5/perlbrew/perls/perl-5.14.0-64all/bin/perl5.14.0" "-MExtUtils::Command::MM" "-MTest::Harness" "-e" "undef *Test::Harness::Switches; test_harness(0, 'blib/lib', 'blib/arch')" t/*.t
t/00-check-deps.t ...... ok
t/00-compile.t ......... ok
# 
# Versions for all modules listed in MYMETA.json (including optional ones):
# 
# === Configure Requires ===
# 
#     Module                  Want Have
#     ----------------------- ---- ----
#     ExtUtils::MakeMaker     6.48 7.30
#     File::ShareDir::Install 0.06 0.13
# 
# === Build Requires ===
# 
#     Module              Want Have
#     ------------------- ---- ----
#     ExtUtils::MakeMaker  any 7.30
# 
# === Test Requires ===
# 
#     Module               Want     Have
#     ------------------- ----- --------
#     ExtUtils::MakeMaker   any     7.30
#     File::Spec            any     3.33
#     IO::Handle            any     1.31
#     IPC::Open3            any     1.09
#     Test::CheckDeps     0.010    0.010
#     Test::Exception       any     0.43
#     Test::More           0.94 1.302120
#     Test::NoWarnings      any     1.04
# 
# === Test Recommends ===
# 
#     Module         Want     Have
#     ---------- -------- --------
#     CPAN::Meta 2.120900 2.143240
# 
# === Runtime Requires ===
# 
#     Module         Want  Have
#     -------------- ---- -----
#     Encode          any  2.42
#     File::ShareDir  any 1.104
#     Math::BigFloat  any 1.993
#     Math::BigInt    any 1.994
#     POSIX           any  1.24
#     Scalar::Util    any  1.23
#     YAML::XS        any  0.69
# 
t/00-report-prereqs.t .. ok
t/boilerplate.t ........ ok
t/Numbers.t ............ ok
t/Strings.t ............ ok
All tests successful.

Test Summary Report
-------------------
t/boilerplate.t      (Wstat: 0 Tests: 3 Failed: 0)
  TODO passed:   1-2
Files=6, Tests=39,  2 wallclock secs ( 0.07 usr  0.04 sys +  1.37 cusr  0.55 csys =  2.03 CPU)
Result: PASS

------------------------------
PREREQUISITES
------------------------------

Prerequisite modules loaded:

requires:

    Module                  Need     Have    
    ----------------------- -------- --------
    Encode                  0        2.42    
    File::ShareDir          0        1.104   
    Math::BigFloat          0        1.993   
    Math::BigInt            0        1.994   
    perl                    5.014000 5.014000
    POSIX                   0        1.24    
    Scalar::Util            0        1.23    
    YAML::XS                0        0.69    

build_requires:

    Module                  Need     Have    
    ----------------------- -------- --------
    ExtUtils::MakeMaker     0        7.30    
    File::Spec              0        3.33    
    IO::Handle              0        1.31    
    IPC::Open3              0        1.09    
    Test::CheckDeps         0.010    0.010   
    Test::Exception         0        0.43    
    Test::More              0.94     1.302120
    Test::NoWarnings        0        1.04    

configure_requires:

    Module                  Need     Have    
    ----------------------- -------- --------
    ExtUtils::MakeMaker     6.48     7.30    
    File::ShareDir::Install 0.06     0.13    


------------------------------
ENVIRONMENT AND OTHER CONTEXT
------------------------------

Environment variables:

    AUTOMATED_TESTING = 1
    PATH = /home/njh/perl5/perlbrew/bin:/home/njh/perl5/perlbrew/perls/perl-5.14.0-64all/bin:src/njh/smoker/bin:/bin:/sbin:/usr/bin:/usr/sbin:/usr/local/bin:/usr/local/sbin:/usr/pkg/bin:/usr/pkg/sbin
    PERL5LIB = /home/njh/.cpan/build/Test-NoWarnings-1.04-0/blib/arch:/home/njh/.cpan/build/Test-NoWarnings-1.04-0/blib/lib:/home/njh/.cpan/build/Test-CheckDeps-0.010-0/blib/arch:/home/njh/.cpan/build/Test-CheckDeps-0.010-0/blib/lib:/home/njh/.cpan/build/CPAN-Meta-Check-0.014-0/blib/arch:/home/njh/.cpan/build/CPAN-Meta-Check-0.014-0/blib/lib:/home/njh/.cpan/build/File-ShareDir-1.104-0/blib/arch:/home/njh/.cpan/build/File-ShareDir-1.104-0/blib/lib:/home/njh/.cpan/build/Class-Inspector-1.32-0/blib/arch:/home/njh/.cpan/build/Class-Inspector-1.32-0/blib/lib:/home/njh/.cpan/build/File-ShareDir-Install-0.13-0/blib/arch:/home/njh/.cpan/build/File-ShareDir-Install-0.13-0/blib/lib
    PERL5OPT = 
    PERL5_CPANPLUS_IS_RUNNING = 898892
    PERL5_CPAN_IS_RUNNING = 898892
    PERLBREW_HOME = /home/njh/.perlbrew
    PERLBREW_MANPATH = /home/njh/perl5/perlbrew/perls/perl-5.14.0-64all/man
    PERLBREW_PATH = /home/njh/perl5/perlbrew/bin:/home/njh/perl5/perlbrew/perls/perl-5.14.0-64all/bin
    PERLBREW_PERL = perl-5.14.0-64all
    PERLBREW_ROOT = /home/njh/perl5/perlbrew
    PERLBREW_SHELLRC_VERSION = 0.82
    PERLBREW_VERSION = 0.82
    SHELL = /bin/sh
    TMPDIR = /tmp/testwrapper.898882

Perl special variables (and OS-specific diagnostics, for MSWin32):

    $^X = /home/njh/perl5/perlbrew/perls/perl-5.14.0-64all/bin/perl5.14.0
    $UID/$EUID = 1001 / 1001
    $GID = 1001 1001 0
    $EGID = 1001 1001 0

Perl module toolchain versions installed:

    Module              Have    
    ------------------- --------
    CPAN                2.16    
    CPAN::Meta          2.143240
    Cwd                 3.36    
    ExtUtils::CBuilder  0.280203
    ExtUtils::Command   7.30    
    ExtUtils::Install   2.06    
    ExtUtils::MakeMaker 7.30    
    ExtUtils::Manifest  1.70    
    ExtUtils::ParseXS   2.2210  
    File::Spec          3.33    
    JSON                n/a     
    JSON::PP            2.27203 
    Module::Build       0.3800  
    Module::Signature   n/a     
    Parse::CPAN::Meta   1.4414  
    Test::Harness       3.39    
    Test::More          1.302120
    YAML                1.24    
    YAML::Syck          1.30    
    version             0.88    


--

Summary of my perl5 (revision 5 version 14 subversion 0) configuration:
   
  Platform:
    osname=dragonfly, osvers=5.0-release, archname=x86_64-dragonfly
    uname='dragonfly david.bandsman.co.uk 5.0-release dragonfly v5.0.2-release #4: sun dec 3 17:42:25 est 2017 root@www.shiningsilence.com:usrobjhomejustinrelease5_0sysx86_64_generic x86_64 '
    config_args='-de -Dprefix=/home/njh/perl5/perlbrew/perls/perl-5.14.0-64all -Dusedevel -Duse64bitall -Accflags= -Aeval:scriptdir=/home/njh/perl5/perlbrew/perls/perl-5.14.0-64all/bin'
    hint=recommended, useposix=true, d_sigaction=define
    useithreads=undef, usemultiplicity=undef
    useperlio=define, d_sfio=undef, uselargefiles=define, usesocks=undef
    use64bitint=define, use64bitall=define, uselongdouble=undef
    usemymalloc=n, bincompat5005=undef
  Compiler:
    cc='cc', ccflags ='-DHAS_FPSETMASK -DHAS_FLOATINGPOINT_H -fno-strict-aliasing -pipe -fstack-protector -I/usr/local/include',
    optimize='-O',
    cppflags='-DHAS_FPSETMASK -DHAS_FLOATINGPOINT_H -fno-strict-aliasing -pipe -fstack-protector -I/usr/local/include'
    ccversion='', gccversion='5.4.1 [DragonFly] Release/2016-08-27', gccosandvers=''
    intsize=4, longsize=8, ptrsize=8, doublesize=8, byteorder=12345678
    d_longlong=define, longlongsize=8, d_longdbl=define, longdblsize=16
    ivtype='long', ivsize=8, nvtype='double', nvsize=8, Off_t='off_t', lseeksize=8
    alignbytes=8, prototype=define
  Linker and Libraries:
    ld='cc', ldflags ='-Wl,-E  -fstack-protector -L/usr/local/lib'
    libpth=/usr/lib /usr/local/lib
    libs=-ldl -lm -lcrypt -lutil -lc
    perllibs=-ldl -lm -lcrypt -lutil -lc
    libc=, so=so, useshrplib=false, libperl=libperl.a
    gnulibc_version=''
  Dynamic Linking:
    dlsrc=dl_dlopen.xs, dlext=so, d_dlsymun=undef, ccdlflags=' '
    cccdlflags='-DPIC -fPIC', lddlflags='-shared  -L/usr/local/lib -fstack-protector'


Characteristics of this binary (from libperl): 
  Compile-time options: PERL_DONT_CREATE_GVSV PERL_MALLOC_WRAP
                        PERL_PRESERVE_IVUV PERL_USE_DEVEL USE_64_BIT_ALL
                        USE_64_BIT_INT USE_LARGE_FILES USE_PERLIO
                        USE_PERL_ATOF
  Locally applied patches:
	Devel::PatchPerl 1.48
  Built under dragonfly
  Compiled at Jan 28 2018 09:47:33
  %ENV:
    PERL5LIB="/home/njh/.cpan/build/Test-NoWarnings-1.04-0/blib/arch:/home/njh/.cpan/build/Test-NoWarnings-1.04-0/blib/lib:/home/njh/.cpan/build/Test-CheckDeps-0.010-0/blib/arch:/home/njh/.cpan/build/Test-CheckDeps-0.010-0/blib/lib:/home/njh/.cpan/build/CPAN-Meta-Check-0.014-0/blib/arch:/home/njh/.cpan/build/CPAN-Meta-Check-0.014-0/blib/lib:/home/njh/.cpan/build/File-ShareDir-1.104-0/blib/arch:/home/njh/.cpan/build/File-ShareDir-1.104-0/blib/lib:/home/njh/.cpan/build/Class-Inspector-1.32-0/blib/arch:/home/njh/.cpan/build/Class-Inspector-1.32-0/blib/lib:/home/njh/.cpan/build/File-ShareDir-Install-0.13-0/blib/arch:/home/njh/.cpan/build/File-ShareDir-Install-0.13-0/blib/lib"
    PERL5OPT=""
    PERL5_CPANPLUS_IS_RUNNING="898892"
    PERL5_CPAN_IS_RUNNING="898892"
    PERLBREW_HOME="/home/njh/.perlbrew"
    PERLBREW_MANPATH="/home/njh/perl5/perlbrew/perls/perl-5.14.0-64all/man"
    PERLBREW_PATH="/home/njh/perl5/perlbrew/bin:/home/njh/perl5/perlbrew/perls/perl-5.14.0-64all/bin"
    PERLBREW_PERL="perl-5.14.0-64all"
    PERLBREW_ROOT="/home/njh/perl5/perlbrew"
    PERLBREW_SHELLRC_VERSION="0.82"
    PERLBREW_VERSION="0.82"
  @INC:
    /home/njh/.cpan/build/Test-NoWarnings-1.04-0/blib/arch
    /home/njh/.cpan/build/Test-NoWarnings-1.04-0/blib/lib
    /home/njh/.cpan/build/Test-CheckDeps-0.010-0/blib/arch
    /home/njh/.cpan/build/Test-CheckDeps-0.010-0/blib/lib
    /home/njh/.cpan/build/CPAN-Meta-Check-0.014-0/blib/arch
    /home/njh/.cpan/build/CPAN-Meta-Check-0.014-0/blib/lib
    /home/njh/.cpan/build/File-ShareDir-1.104-0/blib/arch
    /home/njh/.cpan/build/File-ShareDir-1.104-0/blib/lib
    /home/njh/.cpan/build/Class-Inspector-1.32-0/blib/arch
    /home/njh/.cpan/build/Class-Inspector-1.32-0/blib/lib
    /home/njh/.cpan/build/File-ShareDir-Install-0.13-0/blib/arch
    /home/njh/.cpan/build/File-ShareDir-Install-0.13-0/blib/lib
    /home/njh/perl5/perlbrew/perls/perl-5.14.0-64all/lib/site_perl/5.14.0/x86_64-dragonfly
    /home/njh/perl5/perlbrew/perls/perl-5.14.0-64all/lib/site_perl/5.14.0
    /home/njh/perl5/perlbrew/perls/perl-5.14.0-64all/lib/5.14.0/x86_64-dragonfly
    /home/njh/perl5/perlbrew/perls/perl-5.14.0-64all/lib/5.14.0
    .