Dist-Zilla-Plugin-CopyFilesFromBuild v0.170880 Perl 5 v5.33.4 riscv-freebsd

Status
Pass
From
Ryan Voots
Dist
Dist-Zilla-Plugin-CopyFilesFromBuild v0.170880
Platform
Perl 5 v5.33.4 riscv-freebsd
Date
2020-11-11 01:54:18
ID
cfac1e6c-23c0-11eb-a544-8a72b38bf3b3
This distribution has been tested as part of the CPAN Testers
project, supporting the Perl programming language.  See
http://wiki.cpantesters.org/ for more information or email
questions to cpan-testers-discuss@perl.org


--
Dear Ryan C. Thompson,

This is a computer-generated report for Dist-Zilla-Plugin-CopyFilesFromBuild-0.170880
on perl 5.33.4, created by CPAN-Reporter-1.2018.

Thank you for uploading your work to CPAN.  Congratulations!
All tests were successful.

Sections of this report:

    * Tester comments
    * Program output
    * Prerequisites
    * Environment and other context

------------------------------
TESTER COMMENTS
------------------------------

Additional comments from tester:

this report is from an automated smoke testing program
and was not reviewed by a human for accuracy

------------------------------
PROGRAM OUTPUT
------------------------------

Output from '/usr/bin/make test':

PERL_DL_NONLAZY=1 "/usr/home/ryan/perl5/perlbrew/perls/perl-blead/bin/perl5.33.4" "-MExtUtils::Command::MM" "-MTest::Harness" "-e" "undef *Test::Harness::Switches; test_harness(0, 'blib/lib', 'blib/arch')" t/*.t
t/00-compile.t ........... ok
# Testing with Perl 5.033004, /usr/home/ryan/perl5/perlbrew/perls/perl-blead/bin/perl5.33.4
#     Carp version is 1.50
#     Dist::Zilla::Plugin::ReadmeAnyFromPod version is 0.163250
#     Dist::Zilla::Role::AfterBuild version is 6.017
#     ExtUtils::MakeMaker version is 7.52
#     File::Copy version is 2.34
#     File::Spec version is 3.78
#     IO::File version is 1.41
#     IO::Handle version is 1.42
#     IPC::Open3 version is 1.21
#     List::Util version is 1.55
#     Moose version is 2.2013
#     MooseX::Has::Sugar version is 1.000006
#     Path::Tiny version is 0.114
#     Scalar::Util version is 1.55
#     Set::Scalar version is 1.29
#     Test::DZil version is 6.017
#     Test::Exception version is 0.43
#     Test::More version is 1.302182
#     Test::Most version is 0.37
#     autodie version is 2.32
#     blib version is 1.07
#     strict version is 1.12
#     utf8 version is 1.24
#     warnings version is 1.48
t/000-report-versions.t .. ok
t/author-critic.t ........ skipped: these tests are for testing by the author
t/author-pod-coverage.t .. skipped: these tests are for testing by the author
t/author-pod-syntax.t .... skipped: these tests are for testing by the author
t/basic.t ................ ok
t/release-has-version.t .. skipped: these tests are for release candidate testing
t/release-kwalitee.t ..... skipped: these tests are for release candidate testing
t/release-portability.t .. skipped: these tests are for release candidate testing
t/release-unused-vars.t .. skipped: these tests are for release candidate testing
All tests successful.
Files=10, Tests=34, 29 wallclock secs ( 0.65 usr  0.59 sys + 21.95 cusr  5.58 csys = 28.77 CPU)
Result: PASS

------------------------------
PREREQUISITES
------------------------------

Prerequisite modules loaded:

requires:

    Module                                Need  Have    
    ------------------------------------- ----- --------
    Dist::Zilla::Role::AfterBuild         0     6.017   
    File::Copy                            0     2.34    
    IO::File                              0     1.41    
    List::Util                            1.33  1.55    
    Moose                                 0     2.2013  
    MooseX::Has::Sugar                    0     1.000006
    Path::Tiny                            0     0.114   
    perl                                  5.008 5.033004
    Set::Scalar                           0     1.29    
    strict                                0     1.12    
    utf8                                  0     1.24    
    warnings                              0     1.48    

build_requires:

    Module                                Need  Have    
    ------------------------------------- ----- --------
    autodie                               0     2.32    
    blib                                  1.01  1.07    
    Carp                                  0     1.50    
    Dist::Zilla::Plugin::ReadmeAnyFromPod 0     0.163250
    ExtUtils::MakeMaker                   0     7.52    
    File::Spec                            0     3.78    
    IO::Handle                            0     1.42    
    IPC::Open3                            0     1.21    
    Scalar::Util                          0     1.55    
    Test::DZil                            0     6.017   
    Test::Exception                       0     0.43    
    Test::More                            0.94  1.302182
    Test::Most                            0     0.37    

configure_requires:

    Module                                Need  Have    
    ------------------------------------- ----- --------
    ExtUtils::MakeMaker                   0     7.52    
    perl                                  5.008 5.033004


------------------------------
ENVIRONMENT AND OTHER CONTEXT
------------------------------

Environment variables:

    AUTOMATED_TESTING = 1
    PATH = /home/ryan/perl5/perlbrew/bin:/home/ryan/perl5/perlbrew/perls/perl-blead/bin:/sbin:/bin:/usr/sbin:/usr/bin:/usr/local/sbin:/usr/local/bin:/home/ryan/bin
    PERL5LIB = 
    PERL5OPT = 
    PERL5_CPANPLUS_IS_RUNNING = 6734
    PERL5_CPAN_IS_RUNNING = 6734
    PERL5_CPAN_IS_RUNNING_IN_RECURSION = 1066,6734
    PERLBREW_HOME = /home/ryan/.perlbrew
    PERLBREW_MANPATH = /home/ryan/perl5/perlbrew/perls/perl-blead/man
    PERLBREW_PATH = /home/ryan/perl5/perlbrew/bin:/home/ryan/perl5/perlbrew/perls/perl-blead/bin
    PERLBREW_PERL = perl-blead
    PERLBREW_ROOT = /home/ryan/perl5/perlbrew
    PERLBREW_SHELLRC_VERSION = 0.89
    PERLBREW_VERSION = 0.89
    PERL_CR_SMOKER_CURRENT = Dist-Zilla-PluginBundle-Author-OALDERS-0.000029
    PERL_EXTUTILS_AUTOINSTALL = --defaultdeps
    PERL_MM_USE_DEFAULT = 1
    PERL_USE_UNSAFE_INC = 1
    SHELL = /usr/local/bin/bash
    TERM = screen.xterm-256color

Perl special variables (and OS-specific diagnostics, for MSWin32):

    $^X = /usr/home/ryan/perl5/perlbrew/perls/perl-blead/bin/perl5.33.4
    $UID/$EUID = 1001 / 1001
    $GID = 1001 1001 0
    $EGID = 1001 1001 0

Perl module toolchain versions installed:

    Module              Have    
    ------------------- --------
    CPAN                2.28    
    CPAN::Meta          2.150010
    Cwd                 3.78    
    ExtUtils::CBuilder  0.280234
    ExtUtils::Command   7.52    
    ExtUtils::Install   2.18    
    ExtUtils::MakeMaker 7.52    
    ExtUtils::Manifest  1.72    
    ExtUtils::ParseXS   3.41    
    File::Spec          3.78    
    JSON                4.02    
    JSON::PP            4.05    
    Module::Build       0.4231  
    Module::Signature   n/a     
    Parse::CPAN::Meta   2.150010
    Test::Harness       3.42    
    Test::More          1.302182
    YAML                1.30    
    YAML::Syck          n/a     
    version             0.9928  


--

Summary of my perl5 (revision 5 version 33 subversion 4) configuration:
  Snapshot of: fb072d007726c7ba114978a00f8f4f687ad7a55a
  Platform:
    osname=freebsd
    osvers=13.0-current
    archname=riscv-freebsd
    uname='freebsd freebsd-riscv 13.0-current freebsd 13.0-current #0 r367119: wed oct 28 22:41:32 utc 2020 root@freebsd-head-riscv64-build.jail.ci.freebsd.org:usrobjusrsrcriscv.riscv64sysqemu riscv '
    config_args='-de -Dprefix=/home/ryan/perl5/perlbrew/perls/perl-blead -Dusedevel -Aeval:scriptdir=/home/ryan/perl5/perlbrew/perls/perl-blead/bin'
    hint=recommended
    useposix=true
    d_sigaction=define
    useithreads=undef
    usemultiplicity=undef
    use64bitint=define
    use64bitall=define
    uselongdouble=undef
    usemymalloc=n
    default_inc_excludes_dot=define
  Compiler:
    cc='cc'
    ccflags ='-DHAS_FPSETMASK -DHAS_FLOATINGPOINT_H -fno-strict-aliasing -pipe -fstack-protector-strong -I/usr/local/include'
    optimize='-O2'
    cppflags='-DHAS_FPSETMASK -DHAS_FLOATINGPOINT_H -fno-strict-aliasing -pipe -fstack-protector-strong -I/usr/local/include'
    ccversion=''
    gccversion='FreeBSD Clang 11.0.0 (git@github.com:llvm/llvm-project.git llvmorg-11.0.0-0-g176249bd673)'
    gccosandvers=''
    intsize=4
    longsize=8
    ptrsize=8
    doublesize=8
    byteorder=12345678
    doublekind=3
    d_longlong=define
    longlongsize=8
    d_longdbl=define
    longdblsize=16
    longdblkind=1
    ivtype='long'
    ivsize=8
    nvtype='double'
    nvsize=8
    Off_t='off_t'
    lseeksize=8
    alignbytes=8
    prototype=define
  Linker and Libraries:
    ld='cc'
    ldflags ='-Wl,-E  -fstack-protector-strong -L/usr/local/lib'
    libpth=/usr/lib /usr/local/lib /usr/lib/clang/11.0.0/lib /usr/lib
    libs=-lpthread -ldl -lm -lcrypt -lutil -lc
    perllibs=-lpthread -ldl -lm -lcrypt -lutil -lc
    libc=
    so=so
    useshrplib=false
    libperl=libperl.a
    gnulibc_version=''
  Dynamic Linking:
    dlsrc=dl_dlopen.xs
    dlext=so
    d_dlsymun=undef
    ccdlflags=' '
    cccdlflags='-DPIC -fPIC'
    lddlflags='-shared  -L/usr/local/lib -fstack-protector-strong'


Characteristics of this binary (from libperl): 
  Compile-time options:
    HAS_TIMES
    PERLIO_LAYERS
    PERL_COPY_ON_WRITE
    PERL_DONT_CREATE_GVSV
    PERL_MALLOC_WRAP
    PERL_OP_PARENT
    PERL_PRESERVE_IVUV
    PERL_USE_DEVEL
    USE_64_BIT_ALL
    USE_64_BIT_INT
    USE_LARGE_FILES
    USE_LOCALE
    USE_LOCALE_COLLATE
    USE_LOCALE_CTYPE
    USE_LOCALE_NUMERIC
    USE_LOCALE_TIME
    USE_PERLIO
    USE_PERL_ATOF
  Built under freebsd
  Compiled at Oct 30 2020 09:02:51
  %ENV:
    PERL5LIB=""
    PERL5OPT=""
    PERL5_CPANPLUS_IS_RUNNING="6734"
    PERL5_CPAN_IS_RUNNING="6734"
    PERL5_CPAN_IS_RUNNING_IN_RECURSION="1066,6734"
    PERLBREW_HOME="/home/ryan/.perlbrew"
    PERLBREW_MANPATH="/home/ryan/perl5/perlbrew/perls/perl-blead/man"
    PERLBREW_PATH="/home/ryan/perl5/perlbrew/bin:/home/ryan/perl5/perlbrew/perls/perl-blead/bin"
    PERLBREW_PERL="perl-blead"
    PERLBREW_ROOT="/home/ryan/perl5/perlbrew"
    PERLBREW_SHELLRC_VERSION="0.89"
    PERLBREW_VERSION="0.89"
    PERL_CR_SMOKER_CURRENT="Dist-Zilla-PluginBundle-Author-OALDERS-0.000029"
    PERL_EXTUTILS_AUTOINSTALL="--defaultdeps"
    PERL_MM_USE_DEFAULT="1"
    PERL_USE_UNSAFE_INC="1"
  @INC:
    /home/ryan/perl5/perlbrew/perls/perl-blead/lib/site_perl/5.33.4/riscv-freebsd
    /home/ryan/perl5/perlbrew/perls/perl-blead/lib/site_perl/5.33.4
    /home/ryan/perl5/perlbrew/perls/perl-blead/lib/5.33.4/riscv-freebsd
    /home/ryan/perl5/perlbrew/perls/perl-blead/lib/5.33.4
    .