Alien-libuv v1.014 Perl 5 v5.16.3 i686-linux
- Status
- Pass
- From
- Chris Williams (BINGOS)
- Dist
-
Alien-libuv v1.014
- Platform
- Perl 5 v5.16.3 i686-linux
- Date
- 2020-07-19 12:53:15
- ID
- cfb0d67a-c9be-11ea-9066-e374b0ba08e8
This distribution has been tested as part of the CPAN Testers
project, supporting the Perl programming language. See
http://wiki.cpantesters.org/ for more information or email
questions to cpan-testers-discuss@perl.org
--
Dear CAPOEIRAB,
This is a computer-generated error report created automatically by
CPANPLUS, version 0.9908. Testers personal comments may appear
at the end of this report.
Thank you for uploading your work to CPAN. Congratulations!
All tests were successful.
TEST RESULTS:
Below is the error stack from stage 'make test':
"/home/cpan/pit/bare/perl-5.16.3/bin/perl" -MAlien::Build::MM=cmd -e test
Alien::Build::Plugin::PkgConfig::Negotiate> Using PkgConfig plugin: PkgConfig::CommandLine
Alien::Build::CommandSequence> + make check
make[1]: Entering directory '/home/cpan/pit/bare/conf/perl-5.16.3/.cpanplus/5.16.3/build/3SBfKnZUzu/Alien-libuv-1.014/_alien/build_cRPm/libuv-v1.38.1'
make test/run-tests
make[2]: Entering directory '/home/cpan/pit/bare/conf/perl-5.16.3/.cpanplus/5.16.3/build/3SBfKnZUzu/Alien-libuv-1.014/_alien/build_cRPm/libuv-v1.38.1'
CC test/run_tests-blackhole-server.o
CC test/run_tests-dns-server.o
CC test/run_tests-echo-server.o
CC test/run_tests-run-tests.o
CC test/run_tests-runner.o
CC test/run_tests-test-active.o
CC test/run_tests-test-async.o
CC test/run_tests-test-async-null-cb.o
CC test/run_tests-test-barrier.o
CC test/run_tests-test-callback-order.o
CC test/run_tests-test-callback-stack.o
CC test/run_tests-test-close-fd.o
CC test/run_tests-test-close-order.o
CC test/run_tests-test-condvar.o
CC test/run_tests-test-connect-unspecified.o
CC test/run_tests-test-connection-fail.o
CC test/run_tests-test-cwd-and-chdir.o
CC test/run_tests-test-default-loop-close.o
CC test/run_tests-test-delayed-accept.o
CC test/run_tests-test-dlerror.o
CC test/run_tests-test-eintr-handling.o
CC test/run_tests-test-embed.o
CC test/run_tests-test-emfile.o
CC test/run_tests-test-env-vars.o
CC test/run_tests-test-error.o
CC test/run_tests-test-fail-always.o
CC test/run_tests-test-fs-copyfile.o
CC test/run_tests-test-fs-event.o
CC test/run_tests-test-fs-poll.o
CC test/run_tests-test-fs.o
CC test/run_tests-test-fs-readdir.o
CC test/run_tests-test-fs-fd-hash.o
CC test/run_tests-test-fs-open-flags.o
CC test/run_tests-test-fork.o
CC test/run_tests-test-getters-setters.o
CC test/run_tests-test-get-currentexe.o
CC test/run_tests-test-get-loadavg.o
CC test/run_tests-test-get-memory.o
CC test/run_tests-test-get-passwd.o
CC test/run_tests-test-getaddrinfo.o
CC test/run_tests-test-gethostname.o
CC test/run_tests-test-getnameinfo.o
CC test/run_tests-test-getsockname.o
CC test/run_tests-test-gettimeofday.o
CC test/run_tests-test-handle-fileno.o
CC test/run_tests-test-homedir.o
CC test/run_tests-test-hrtime.o
CC test/run_tests-test-idle.o
CC test/run_tests-test-idna.o
CC test/run_tests-test-ip4-addr.o
CC test/run_tests-test-ip6-addr.o
CC test/run_tests-test-ipc-heavy-traffic-deadlock-bug.o
CC test/run_tests-test-ipc-send-recv.o
CC test/run_tests-test-ipc.o
CC test/run_tests-test-loop-handles.o
CC test/run_tests-test-loop-alive.o
CC test/run_tests-test-loop-close.o
CC test/run_tests-test-loop-stop.o
CC test/run_tests-test-loop-time.o
CC test/run_tests-test-loop-configure.o
CC test/run_tests-test-multiple-listen.o
CC test/run_tests-test-mutexes.o
CC test/run_tests-test-osx-select.o
CC test/run_tests-test-pass-always.o
CC test/run_tests-test-ping-pong.o
CC test/run_tests-test-pipe-bind-error.o
CC test/run_tests-test-pipe-connect-error.o
CC test/run_tests-test-pipe-connect-multiple.o
CC test/run_tests-test-pipe-connect-prepare.o
CC test/run_tests-test-pipe-getsockname.o
CC test/run_tests-test-pipe-pending-instances.o
CC test/run_tests-test-pipe-sendmsg.o
CC test/run_tests-test-pipe-server-close.o
CC test/run_tests-test-pipe-close-stdout-read-stdin.o
CC test/run_tests-test-pipe-set-non-blocking.o
CC test/run_tests-test-pipe-set-fchmod.o
CC test/run_tests-test-platform-output.o
CC test/run_tests-test-poll.o
CC test/run_tests-test-poll-close.o
CC test/run_tests-test-poll-close-doesnt-corrupt-stack.o
CC test/run_tests-test-poll-closesocket.o
CC test/run_tests-test-poll-oob.o
CC test/run_tests-test-process-priority.o
CC test/run_tests-test-process-title.o
CC test/run_tests-test-process-title-threadsafe.o
CC test/run_tests-test-queue-foreach-delete.o
CC test/run_tests-test-random.o
CC test/run_tests-test-ref.o
CC test/run_tests-test-run-nowait.o
CC test/run_tests-test-run-once.o
CC test/run_tests-test-semaphore.o
CC test/run_tests-test-shutdown-close.o
CC test/run_tests-test-shutdown-eof.o
CC test/run_tests-test-shutdown-twice.o
CC test/run_tests-test-signal-multiple-loops.o
CC test/run_tests-test-signal-pending-on-close.o
CC test/run_tests-test-signal.o
CC test/run_tests-test-socket-buffer-size.o
CC test/run_tests-test-spawn.o
CC test/run_tests-test-stdio-over-pipes.o
CC test/run_tests-test-strscpy.o
CC test/run_tests-test-tcp-alloc-cb-fail.o
CC test/run_tests-test-tcp-bind-error.o
CC test/run_tests-test-tcp-bind6-error.o
CC test/run_tests-test-tcp-close-accept.o
CC test/run_tests-test-tcp-close-while-connecting.o
CC test/run_tests-test-tcp-close.o
CC test/run_tests-test-tcp-close-reset.o
CC test/run_tests-test-tcp-create-socket-early.o
CC test/run_tests-test-tcp-connect-error-after-write.o
CC test/run_tests-test-tcp-connect-error.o
CC test/run_tests-test-tcp-connect-timeout.o
CC test/run_tests-test-tcp-connect6-error.o
CC test/run_tests-test-tcp-flags.o
CC test/run_tests-test-tcp-open.o
CC test/run_tests-test-tcp-read-stop.o
CC test/run_tests-test-tcp-shutdown-after-write.o
CC test/run_tests-test-tcp-unexpected-read.o
CC test/run_tests-test-tcp-oob.o
CC test/run_tests-test-tcp-write-to-half-open-connection.o
CC test/run_tests-test-tcp-write-after-connect.o
CC test/run_tests-test-tcp-writealot.o
CC test/run_tests-test-tcp-write-fail.o
CC test/run_tests-test-tcp-try-write.o
CC test/run_tests-test-tcp-try-write-error.o
CC test/run_tests-test-tcp-write-queue-order.o
CC test/run_tests-test-thread-equal.o
CC test/run_tests-test-thread.o
CC test/run_tests-test-threadpool-cancel.o
CC test/run_tests-test-threadpool.o
CC test/run_tests-test-timer-again.o
CC test/run_tests-test-timer-from-check.o
CC test/run_tests-test-timer.o
CC test/run_tests-test-tmpdir.o
CC test/run_tests-test-tty-duplicate-key.o
CC test/run_tests-test-tty-escape-sequence-processing.o
CC test/run_tests-test-tty.o
CC test/run_tests-test-udp-alloc-cb-fail.o
CC test/run_tests-test-udp-bind.o
CC test/run_tests-test-udp-connect.o
CC test/run_tests-test-udp-create-socket-early.o
CC test/run_tests-test-udp-dgram-too-big.o
CC test/run_tests-test-udp-ipv6.o
CC test/run_tests-test-udp-multicast-interface.o
CC test/run_tests-test-udp-multicast-interface6.o
CC test/run_tests-test-udp-multicast-join.o
CC test/run_tests-test-udp-multicast-join6.o
CC test/run_tests-test-udp-multicast-ttl.o
CC test/run_tests-test-udp-open.o
CC test/run_tests-test-udp-options.o
CC test/run_tests-test-udp-send-and-recv.o
CC test/run_tests-test-udp-send-hang-loop.o
CC test/run_tests-test-udp-send-immediate.o
CC test/run_tests-test-udp-sendmmsg-error.o
CC test/run_tests-test-udp-send-unreachable.o
CC test/run_tests-test-udp-try-send.o
CC test/run_tests-test-uname.o
CC test/run_tests-test-walk-handles.o
CC test/run_tests-test-watcher-cross-stop.o
CC test/run_tests-runner-unix.o
CCLD test/run-tests
make[2]: Leaving directory '/home/cpan/pit/bare/conf/perl-5.16.3/.cpanplus/5.16.3/build/3SBfKnZUzu/Alien-libuv-1.014/_alien/build_cRPm/libuv-v1.38.1'
make check-TESTS
make[2]: Entering directory '/home/cpan/pit/bare/conf/perl-5.16.3/.cpanplus/5.16.3/build/3SBfKnZUzu/Alien-libuv-1.014/_alien/build_cRPm/libuv-v1.38.1'
1..381
ok 1 - platform_output
# Output from process `platform_output`:
# uv_get_process_title: /home/cpan/pit/bare/conf/perl-5.16.3/.cpanplus/5.16.3/build/3SBfKnZUzu/Alien-libuv-1.014/_alien/build_cRPm/libuv-v1.38.1/test/.libs/run-tests
# uv_cwd: /home/cpan/pit/bare/conf/perl-5.16.3/.cpanplus/5.16.3/build/3SBfKnZUzu/Alien-libuv-1.014/_alien/build_cRPm/libuv-v1.38.1
# uv_resident_set_memory: 643072
# uv_uptime: 2410187.000000
# uv_getrusage:
# user: 0 sec 653 microsec
# system: 0 sec 0 microsec
# page faults: 0
# maximum resident set size: 896
# uv_cpu_info:
# model: Intel Core Processor (Haswell, no TSX, IBRS)
# speed: 3092
# times.sys: 210556520
# times.user: 2098418630
# times.idle: 99352830
# times.irq: 0
# times.nice: 1860
# uv_interface_addresses:
# name: lo
# internal: 1
# physical address: 00:00:00:00:00:00
# address: 127.0.0.1
# netmask: 255.0.0.0
# name: ens3
# internal: 0
# physical address: 52:54:00:98:29:bf
# address: 192.168.1.58
# netmask: 255.255.255.0
# name: lo
# internal: 1
# physical address: 00:00:00:00:00:00
# address: ::1
# netmask: ffff:ffff:ffff:ffff:ffff:ffff:ffff:fff
# f
# name: ens3
# internal: 0
# physical address: 52:54:00:98:29:bf
# address: 2001:470:6b9e:beef::cfb2:4a80
# netmask: ffff:ffff:ffff:ffff:ffff:ffff:ffff:ffff
# name: ens3
# internal: 0
# physical address: 52:54:00:98:29:bf
# address: fe80::5054:ff:fe98:29bf
# netmask: ffff:ffff:ffff:ffff::
# uv_os_get_passwd:
# euid: 1001
# gid: 1001
# username: cpan
# shell: /bin/bash
# home directory: /home/cpan
# uv_os_getpid: 31524
# uv_os_getppid: 31510
# uv_os_uname:
# sysname: Linux
# release: 4.19.0-9-686
# version: #1 SMP Debian 4.19.118-2+deb10u1 (2020-06-07)
# machine: i686
ok 2 - active
ok 3 - async
ok 4 - async_null_cb
ok 5 - async_ref
ok 6 - barrier_1
ok 7 - barrier_2
ok 8 - barrier_3
ok 9 - barrier_serial_thread
ok 10 - barrier_serial_thread_single
ok 11 - callback_stack
ok 12 - check_ref
ok 13 - close_fd
ok 14 - close_order
ok 15 - closed_fd_events
ok 16 - condvar_1
ok 17 - condvar_2
ok 18 - condvar_3
ok 19 - condvar_4
ok 20 - condvar_5
ok 21 - connect_unspecified
ok 22 - connection_fail
ok 23 - connection_fail_doesnt_auto_close
ok 24 - cwd_and_chdir
ok 25 - default_loop_close
ok 26 - delayed_accept
ok 27 - dlerror
ok 28 - eintr_handling
ok 29 - embed
ok 30 - emfile
ok 31 - env_vars
ok 32 - error_message
ok 33 - fork_fs_events_child
ok 34 - fork_fs_events_child_dir
ok 35 - fork_fs_events_file_parent_child
ok 36 - fork_signal_to_child
ok 37 - fork_signal_to_child_closed
ok 38 - fork_socketpair
ok 39 - fork_socketpair_started
ok 40 - fork_threadpool_queue_work_simple
ok 41 - fork_timer
ok 42 - fs_access
ok 43 - fs_async_dir
ok 44 - fs_async_sendfile
ok 45 - fs_async_sendfile_nodata
ok 46 - fs_chmod
ok 47 - fs_chown
ok 48 - fs_copyfile
ok 49 - fs_event_close_in_callback
ok 50 - fs_event_close_with_pending_event
ok 51 - fs_event_error_reporting
ok 52 - fs_event_getpath
ok 53 - fs_event_immediate_close
ok 54 - fs_event_no_callback_after_close
ok 55 - fs_event_no_callback_on_close
ok 56 - fs_event_ref
ok 57 - fs_event_start_and_close
ok 58 - fs_event_watch_dir
ok 59 - fs_event_watch_dir_recursive # SKIP Recursive directory watching not supported on this platform.
ok 60 - fs_event_watch_file
ok 61 - fs_event_watch_file_current_dir
ok 62 - fs_event_watch_file_exact_path
ok 63 - fs_event_watch_file_twice
ok 64 - fs_event_watch_invalid_path
ok 65 - fs_file_async
ok 66 - fs_file_loop
ok 67 - fs_file_nametoolong
ok 68 - fs_file_noent
ok 69 - fs_file_open_append
ok 70 - fs_file_pos_after_op_with_offset
ok 71 - fs_file_sync
ok 72 - fs_file_write_null_buffer
ok 73 - fs_fstat
ok 74 - fs_futime
ok 75 - fs_get_system_error
ok 76 - fs_lutime
ok 77 - fs_mkdtemp
ok 78 - fs_mkstemp
ok 79 - fs_null_req
ok 80 - fs_open_dir
ok 81 - fs_partial_read
ok 82 - fs_partial_write
ok 83 - fs_poll
ok 84 - fs_poll_close_request
ok 85 - fs_poll_close_request_multi_start_stop
ok 86 - fs_poll_close_request_multi_stop_start
ok 87 - fs_poll_close_request_stop_when_active
ok 88 - fs_poll_getpath
ok 89 - fs_poll_ref
ok 90 - fs_read_bufs
ok 91 - fs_read_dir
ok 92 - fs_read_file_eof
ok 93 - fs_read_write_null_arguments
ok 94 - fs_readdir_empty_dir
ok 95 - fs_readdir_file
ok 96 - fs_readdir_non_empty_dir
ok 97 - fs_readdir_non_existing_dir
ok 98 - fs_readlink
ok 99 - fs_realpath
ok 100 - fs_rename_to_existing_file
ok 101 - fs_scandir_empty_dir
ok 102 - fs_scandir_file
ok 103 - fs_scandir_non_existent_dir
ok 104 - fs_stat_missing_path
ok 105 - fs_statfs
ok 106 - fs_symlink
ok 107 - fs_symlink_dir
ok 108 - fs_unlink_readonly
ok 109 - fs_utime
ok 110 - fs_write_alotof_bufs
ok 111 - fs_write_alotof_bufs_with_offset
ok 112 - fs_write_multiple_bufs
ok 113 - get_currentexe
ok 114 - get_loadavg
ok 115 - get_memory
ok 116 - get_osfhandle_valid_handle
ok 117 - get_passwd
ok 118 - getaddrinfo_basic
ok 119 - getaddrinfo_basic_sync
ok 120 - getaddrinfo_concurrent
ok 121 - getaddrinfo_fail
ok 122 - getaddrinfo_fail_sync
ok 123 - gethostname
ok 124 - getnameinfo_basic_ip4
ok 125 - getnameinfo_basic_ip4_sync
ok 126 - getnameinfo_basic_ip6
ok 127 - getsockname_tcp
ok 128 - getsockname_udp
ok 129 - getters_setters
ok 130 - gettimeofday
ok 131 - handle_fileno
ok 132 - handle_type_name
ok 133 - has_ref
ok 134 - homedir
ok 135 - hrtime
ok 136 - idle_ref
ok 137 - idle_starvation
ok 138 - idna_toascii
ok 139 - ip4_addr
ok 140 - ip6_addr_link_local
ok 141 - ip6_pton
ok 142 - ipc_closed_handle
ok 143 - ipc_heavy_traffic_deadlock_bug
ok 144 - ipc_listen_after_write
ok 145 - ipc_listen_before_write
ok 146 - ipc_send_recv_pipe
ok 147 - ipc_send_recv_pipe_inprocess
ok 148 - ipc_send_recv_tcp
ok 149 - ipc_send_recv_tcp_inprocess
ok 150 - ipc_send_zero
ok 151 - ipc_tcp_connection
ok 152 - kill
ok 153 - kill_invalid_signum
ok 154 - loop_alive
ok 155 - loop_backend_timeout
ok 156 - loop_close
ok 157 - loop_configure
ok 158 - loop_handles
ok 159 - loop_instant_close
ok 160 - loop_stop
ok 161 - loop_update_time
ok 162 - multiple_listen
ok 163 - open_osfhandle_valid_handle
ok 164 - pipe_bind_error_addrinuse
ok 165 - pipe_bind_error_addrnotavail
ok 166 - pipe_bind_error_inval
ok 167 - pipe_close_stdout_read_stdin
ok 168 - pipe_connect_bad_name
ok 169 - pipe_connect_multiple
ok 170 - pipe_connect_on_prepare
ok 171 - pipe_connect_to_file
ok 172 - pipe_getsockname
ok 173 - pipe_getsockname_abstract
ok 174 - pipe_getsockname_blocking
ok 175 - pipe_listen_without_bind
ok 176 - pipe_pending_instances
ok 177 - pipe_ping_pong
ok 178 - pipe_ping_pong_vec
ok 179 - pipe_ref
ok 180 - pipe_ref2
ok 181 - pipe_ref3
ok 182 - pipe_ref4
ok 183 - pipe_sendmsg
ok 184 - pipe_server_close
ok 185 - pipe_set_chmod
ok 186 - pipe_set_non_blocking
ok 187 - poll_bad_fdtype
ok 188 - poll_close
ok 189 - poll_close_doesnt_corrupt_stack # SKIP Test only relevant on Windows
ok 190 - poll_closesocket # SKIP Test only relevant on Windows
ok 191 - poll_duplex
ok 192 - poll_nested_epoll
ok 193 - poll_oob
ok 194 - poll_unidirectional
ok 195 - prepare_ref
ok 196 - process_priority
ok 197 - process_ref
ok 198 - process_title
ok 199 - process_title_big_argv
ok 200 - process_title_threadsafe
ok 201 - queue_foreach_delete
ok 202 - random_async
ok 203 - random_sync
ok 204 - ref
ok 205 - req_type_name
ok 206 - run_nowait
ok 207 - run_once
ok 208 - semaphore_1
ok 209 - semaphore_2
ok 210 - semaphore_3
ok 211 - shutdown_close_pipe
ok 212 - shutdown_close_tcp
ok 213 - shutdown_eof
ok 214 - shutdown_twice
ok 215 - signal_close_loop_alive
ok 216 - signal_multiple_loops
ok 217 - signal_pending_on_close
ok 218 - socket_buffer_size
ok 219 - spawn_and_kill
ok 220 - spawn_and_kill_with_std
ok 221 - spawn_and_ping
ok 222 - spawn_auto_unref
ok 223 - spawn_closed_process_io
ok 224 - spawn_detached
ok 225 - spawn_empty_env # SKIP doesn't work with DYLD_LIBRARY_PATH/LD_LIBRARY_PATH/LIBPATH
ok 226 - spawn_exit_code
ok 227 - spawn_fails
ok 228 - spawn_fails_check_for_waitpid_cleanup
ok 229 - spawn_fs_open
ok 230 - spawn_ignored_stdio
ok 231 - spawn_inherit_streams
ok 232 - spawn_preserve_env
ok 233 - spawn_quoted_path # SKIP Test for Windows
ok 234 - spawn_reads_child_path
ok 235 - spawn_setgid_fails
ok 236 - spawn_setuid_fails
ok 237 - spawn_setuid_setgid # SKIP It should be run as root user
ok 238 - spawn_stdin
ok 239 - spawn_stdio_greater_than_3
ok 240 - spawn_stdout
ok 241 - spawn_stdout_and_stderr_to_file
ok 242 - spawn_stdout_and_stderr_to_file2
ok 243 - spawn_stdout_and_stderr_to_file_swap
ok 244 - spawn_stdout_to_file
ok 245 - spawn_tcp_server
ok 246 - stdio_emulate_iocp
ok 247 - stdio_over_pipes
ok 248 - strscpy
ok 249 - sys_error
ok 250 - tcp6_ping_pong
ok 251 - tcp6_ping_pong_vec
ok 252 - tcp_alloc_cb_fail
ok 253 - tcp_bind6_error_addrinuse
ok 254 - tcp_bind6_error_addrnotavail
ok 255 - tcp_bind6_error_fault
ok 256 - tcp_bind6_error_inval
ok 257 - tcp_bind6_localhost_ok
ok 258 - tcp_bind_error_addrinuse
ok 259 - tcp_bind_error_addrnotavail_1
ok 260 - tcp_bind_error_addrnotavail_2
ok 261 - tcp_bind_error_fault
ok 262 - tcp_bind_error_inval
ok 263 - tcp_bind_invalid_flags
ok 264 - tcp_bind_localhost_ok
ok 265 - tcp_bind_writable_flags
ok 266 - tcp_close
ok 267 - tcp_close_accept
ok 268 - tcp_close_reset_accepted
ok 269 - tcp_close_reset_accepted_after_shutdown
ok 270 - tcp_close_reset_client
ok 271 - tcp_close_reset_client_after_shutdown
ok 272 - tcp_close_while_connecting
ok 273 - tcp_connect_error_after_write
ok 274 - tcp_connect_error_fault
ok 275 - tcp_connect_timeout
ok 276 - tcp_create_early
ok 277 - tcp_create_early_accept
ok 278 - tcp_create_early_bad_bind
ok 279 - tcp_create_early_bad_domain
ok 280 - tcp_flags
ok 281 - tcp_listen_without_bind
ok 282 - tcp_oob
ok 283 - tcp_open
ok 284 - tcp_open_bound
ok 285 - tcp_open_connected
ok 286 - tcp_open_twice
ok 287 - tcp_ping_pong
ok 288 - tcp_ping_pong_vec
ok 289 - tcp_read_stop
ok 290 - tcp_ref
ok 291 - tcp_ref2
ok 292 - tcp_ref2b
ok 293 - tcp_ref3
ok 294 - tcp_ref4
ok 295 - tcp_shutdown_after_write
ok 296 - tcp_try_write
ok 297 - tcp_try_write_error
ok 298 - tcp_unexpected_read
ok 299 - tcp_write_after_connect
ok 300 - tcp_write_fail
ok 301 - tcp_write_queue_order
ok 302 - tcp_write_ready
ok 303 - tcp_write_to_half_open_connection
ok 304 - tcp_writealot
ok 305 - thread_create
ok 306 - thread_equal
ok 307 - thread_local_storage
ok 308 - thread_mutex
ok 309 - thread_mutex_recursive
ok 310 - thread_rwlock
ok 311 - thread_rwlock_trylock
ok 312 - thread_stack_size
ok 313 - thread_stack_size_explicit
ok 314 - threadpool_cancel_fs
ok 315 - threadpool_cancel_getaddrinfo
ok 316 - threadpool_cancel_getnameinfo
ok 317 - threadpool_cancel_random
ok 318 - threadpool_cancel_single
ok 319 - threadpool_cancel_work
ok 320 - threadpool_multiple_event_loops
ok 321 - threadpool_queue_work_einval
ok 322 - threadpool_queue_work_simple
ok 323 - timer
ok 324 - timer_again
ok 325 - timer_early_check
ok 326 - timer_from_check
ok 327 - timer_huge_repeat
ok 328 - timer_huge_timeout
ok 329 - timer_init
ok 330 - timer_is_closing
ok 331 - timer_null_callback
ok 332 - timer_order
ok 333 - timer_ref
ok 334 - timer_ref2
ok 335 - timer_run_once
ok 336 - timer_start_twice
ok 337 - tmpdir
ok 338 - tty # SKIP width=0 height=0
ok 339 - tty_file
ok 340 - tty_pty
ok 341 - udp_alloc_cb_fail
ok 342 - udp_bind
ok 343 - udp_bind_reuseaddr
ok 344 - udp_connect
ok 345 - udp_create_early
ok 346 - udp_create_early_bad_bind
ok 347 - udp_create_early_bad_domain
ok 348 - udp_dgram_too_big
ok 349 - udp_dual_stack
ok 350 - udp_ipv6_only
ok 351 - udp_multicast_interface
ok 352 - udp_multicast_interface6
ok 353 - udp_multicast_join
ok 354 - udp_multicast_join6
ok 355 - udp_multicast_ttl
ok 356 - udp_no_autobind
ok 357 - udp_open
ok 358 - udp_open_bound
ok 359 - udp_open_connect
ok 360 - udp_open_twice
ok 361 - udp_options
ok 362 - udp_options6
ok 363 - udp_ref
ok 364 - udp_ref2
ok 365 - udp_ref3
ok 366 - udp_send_and_recv
ok 367 - udp_send_hang_loop
ok 368 - udp_send_immediate
ok 369 - udp_send_unix
ok 370 - udp_send_unreachable
ok 371 - udp_sendmmsg_error
ok 372 - udp_try_send
ok 373 - uname
ok 374 - unref_in_prepare_cb
ok 375 - utf8_decode1
ok 376 - walk_handles
ok 377 - watcher_cross_stop
ok 378 - we_get_signal
ok 379 - we_get_signal_one_shot
ok 380 - we_get_signals
ok 381 - we_get_signals_mixed
PASS: test/run-tests
=============
1 test passed
=============
make[2]: Leaving directory '/home/cpan/pit/bare/conf/perl-5.16.3/.cpanplus/5.16.3/build/3SBfKnZUzu/Alien-libuv-1.014/_alien/build_cRPm/libuv-v1.38.1'
make[1]: Leaving directory '/home/cpan/pit/bare/conf/perl-5.16.3/.cpanplus/5.16.3/build/3SBfKnZUzu/Alien-libuv-1.014/_alien/build_cRPm/libuv-v1.38.1'
PERL_DL_NONLAZY=1 "/home/cpan/pit/bare/perl-5.16.3/bin/perl" "-MExtUtils::Command::MM" "-MTest::Harness" "-e" "undef *Test::Harness::Switches; test_harness(0, 'blib/lib', 'blib/arch')" t/*.t
#
# Versions for all modules listed in MYMETA.json (including optional ones):
#
# === Configure Requires ===
#
# Module Want Have
# ---------------------------------------- ---- ----
# Alien::Build 2.15 2.26
# Alien::Build::MM 0.32 2.26
# Alien::Build::Plugin::Build::Make 0.01 2.26
# Alien::Build::Plugin::Fetch::CurlCommand 1.19 2.26
# Alien::Build::Plugin::Probe::Vcpkg 2.15 2.26
# ExtUtils::MakeMaker 6.52 7.44
#
# === Build Requires ===
#
# Module Want Have
# -------------------------------------------- ---- -----
# Alien::Autotools any 1.05
# Alien::Build 2.15 2.26
# Alien::Build::MM 0.32 2.26
# Alien::Build::Plugin::Build::Make any 2.26
# Alien::Build::Plugin::Gather::IsolateDynamic 0.48 2.26
# Alien::Build::Plugin::Probe::Vcpkg 2.15 2.26
# Archive::Tar any 2.36
# Config any undef
# ExtUtils::MakeMaker 6.52 7.44
# IO::Zlib any 1.10
# IPC::Cmd any 1.04
# Mojo::DOM58 1.00 2.000
# Sort::Versions any 1.62
# URI any 1.76
# URI::Escape any 3.31
#
# === Test Requires ===
#
# Module Want Have
# ------------------- ---- --------
# ExtUtils::MakeMaker 6.52 7.44
# File::Spec any 3.75
# Test2::Suite any 0.000130
# Test2::V0 any 0.000130
# Test::Alien any 2.26
# Test::More 0.88 1.302175
#
# === Test Recommends ===
#
# Module Want Have
# ------------- -------- --------
# CPAN::Meta 2.120900 2.150010
# FFI::Platypus any missing
#
# === Runtime Requires ===
#
# Module Want Have
# ------------------------------------- ---- ----
# Alien::Autotools 1.00 1.05
# Alien::Base 2.15 2.26
# Alien::Build 0.25 2.26
# Alien::Build::Plugin::Build::Autoconf 0.04 2.26
# base any 2.18
# strict any 1.07
# warnings any 1.13
#
t/00-report-prereqs.t .. ok
#
#
#
# HARNESS_ACTIVE=1
# HARNESS_VERSION=3.42
# LANG=en_GB.UTF-8
# PERL5LIB=/home/cpan/pit/bare/conf/perl-5.16.3/.cpanplus/5.16.3/build/3SBfKnZUzu/Alien-libuv-1.014/blib/lib:/home/cpan/pit/bare/conf/perl-5.16.3/.cpanplus/5.16.3/build/3SBfKnZUzu/Alien-libuv-1.014/blib/arch:/home/cpan/pit/jail/2OXDADuRhq/lib/perl5/5.16.3/i686-linux:/home/cpan/pit/jail/2OXDADuRhq/lib/perl5/5.16.3:/home/cpan/pit/jail/2OXDADuRhq/lib/perl5/i686-linux:/home/cpan/pit/jail/2OXDADuRhq/lib/perl5:/home/cpan/pit/jail/2OXDADuRhq/lib/perl5:/home/cpan/pit/bare/conf/perl-5.16.3/.cpanplus/5.16.3/build/3SBfKnZUzu/Alien-libuv-1.014/blib/lib:/home/cpan/pit/bare/conf/perl-5.16.3/.cpanplus/5.16.3/build/3SBfKnZUzu/Alien-libuv-1.014/blib/arch
# PERL5_CPANPLUS_IS_RUNNING=3460
# PERL5_CPANPLUS_IS_VERSION=0.9908
# PERL5_MINISMOKEBOX=0.68
# PERL5_YACSMOKE_BASE=/home/cpan/pit/bare/conf/perl-5.16.3
# PERL_DL_NONLAZY=1
# PERL_EXTUTILS_AUTOINSTALL=--defaultdeps
# PERL_LOCAL_LIB_ROOT=/home/cpan/pit/jail/2OXDADuRhq
# PERL_MB_OPT=--install_base "/home/cpan/pit/jail/2OXDADuRhq"
# PERL_MM_OPT=INSTALL_BASE=/home/cpan/pit/jail/2OXDADuRhq
# PERL_MM_USE_DEFAULT=1
# PERL_USE_UNSAFE_INC=1
# SHELL=/bin/bash
#
#
#
# PERL5LIB path
# /home/cpan/pit/bare/conf/perl-5.16.3/.cpanplus/5.16.3/build/3SBfKnZUzu/Alien-libuv-1.014/blib/lib
# /home/cpan/pit/bare/conf/perl-5.16.3/.cpanplus/5.16.3/build/3SBfKnZUzu/Alien-libuv-1.014/blib/arch
# /home/cpan/pit/jail/2OXDADuRhq/lib/perl5/5.16.3/i686-linux
# /home/cpan/pit/jail/2OXDADuRhq/lib/perl5/5.16.3
# /home/cpan/pit/jail/2OXDADuRhq/lib/perl5/i686-linux
# /home/cpan/pit/jail/2OXDADuRhq/lib/perl5
# /home/cpan/pit/jail/2OXDADuRhq/lib/perl5
# /home/cpan/pit/bare/conf/perl-5.16.3/.cpanplus/5.16.3/build/3SBfKnZUzu/Alien-libuv-1.014/blib/lib
# /home/cpan/pit/bare/conf/perl-5.16.3/.cpanplus/5.16.3/build/3SBfKnZUzu/Alien-libuv-1.014/blib/arch
#
#
#
# perl 5.016003
# Alien::Base 2.26
# Alien::Build 2.26
# Alien::Build::MM 2.26
# Alien::Build::Plugin::Build::Autoconf 2.26
# Config undef
# ExtUtils::MakeMaker 7.44
# IPC::Cmd 1.04
# Test2::Suite 0.000130
# Test::Alien 2.26
# Test::More 1.302175
#
#
#
# version = 1.38.1
# cflags = -I/home/cpan/pit/bare/conf/perl-5.16.3/.cpanplus/5.16.3/build/3SBfKnZUzu/Alien-libuv-1.014/blib/lib/auto/share/dist/Alien-libuv/include
# cflags_static = -I/home/cpan/pit/bare/conf/perl-5.16.3/.cpanplus/5.16.3/build/3SBfKnZUzu/Alien-libuv-1.014/blib/lib/auto/share/dist/Alien-libuv/include
# libs = -L/home/cpan/pit/bare/conf/perl-5.16.3/.cpanplus/5.16.3/build/3SBfKnZUzu/Alien-libuv-1.014/blib/lib/auto/share/dist/Alien-libuv/lib -luv -ldl
# libs_static = -L/home/cpan/pit/bare/conf/perl-5.16.3/.cpanplus/5.16.3/build/3SBfKnZUzu/Alien-libuv-1.014/blib/lib/auto/share/dist/Alien-libuv/lib -luv -ldl
#
#
#
t/00_diag.t ............ ok
# Install type: share
t/01_use.t ............. ok
t/ffi.t ................ ok
t/xs.t ................. ok
All tests successful.
Files=5, Tests=9, 1 wallclock secs ( 0.01 usr 0.01 sys + 0.74 cusr 0.08 csys = 0.84 CPU)
Result: PASS
PREREQUISITES:
Here is a list of prerequisites you specified and versions we
managed to load:
Module Name Have Want
Alien::Autotools 1.05 1.00
Alien::Base 2.26 2.15
Alien::Build 2.26 0.25
Alien::Build::MM 2.26 0.32
Alien::Build::Plugin::Build::Autoconf 2.26 0.04
Alien::Build::Plugin::Build::Make 2.26 0
Alien::Build::Plugin::Gather::IsolateDynamic 2.26 0.48
Alien::Build::Plugin::Probe::Vcpkg 2.26 2.15
Archive::Tar 2.36 0
ExtUtils::MakeMaker 7.44 6.52
File::Spec 3.75 0
IO::Zlib 1.10 0
IPC::Cmd 1.04 0
Mojo::DOM58 2.000 1.00
Sort::Versions 1.62 0
Test2::Suite 0.000130 0
Test2::V0 0.000130 0
Test::Alien 2.26 0
Test::More 1.302175 0.88
URI 1.76 0
URI::Escape 3.31 0
base 2.18 0
strict 1.07 0
warnings 1.13 0
Perl module toolchain versions installed:
Module Name Have
CPANPLUS 0.9908
CPANPLUS::Dist::Build 0.90
Cwd 3.75
ExtUtils::CBuilder 0.280234
ExtUtils::Command 7.44
ExtUtils::Install 2.16
ExtUtils::MakeMaker 7.44
ExtUtils::Manifest 1.72
ExtUtils::ParseXS 3.35
File::Spec 3.75
Module::Build 0.4231
Pod::Parser 1.51
Pod::Simple 3.20
Test2 1.302175
Test::Harness 3.42
Test::More 1.302175
version 0.9924
******************************** NOTE ********************************
The comments above are created mechanically, possibly without manual
checking by the sender. As there are many people performing automatic
tests on each upload to CPAN, it is likely that you will receive
identical messages about the same problem.
If you believe that the message is mistaken, please reply to the first
one with correction and/or additional informations, and do not take
it personally. We appreciate your patience. :)
**********************************************************************
Additional comments:
This report was machine-generated by CPANPLUS::Dist::YACSmoke 1.08.
Powered by minismokebox version 0.68
CPANPLUS is prefering Build.PL
------------------------------
ENVIRONMENT AND OTHER CONTEXT
------------------------------
Environment variables:
AUTOMATED_TESTING = 1
LANG = en_GB.UTF-8
LANGUAGE = en_GB:en
NONINTERACTIVE_TESTING = 1
PATH = /usr/local/bin:/usr/bin:/bin:/usr/local/games:/usr/games
PERL5LIB = /home/cpan/pit/jail/2OXDADuRhq/lib/perl5:/home/cpan/pit/bare/conf/perl-5.16.3/.cpanplus/5.16.3/build/3SBfKnZUzu/Alien-libuv-1.014/blib/lib:/home/cpan/pit/bare/conf/perl-5.16.3/.cpanplus/5.16.3/build/3SBfKnZUzu/Alien-libuv-1.014/blib/arch
PERL5_CPANPLUS_IS_RUNNING = 3460
PERL5_CPANPLUS_IS_VERSION = 0.9908
PERL5_MINISMOKEBOX = 0.68
PERL5_YACSMOKE_BASE = /home/cpan/pit/bare/conf/perl-5.16.3
PERL_EXTUTILS_AUTOINSTALL = --defaultdeps
PERL_LOCAL_LIB_ROOT = /home/cpan/pit/jail/2OXDADuRhq
PERL_MB_OPT = --install_base "/home/cpan/pit/jail/2OXDADuRhq"
PERL_MM_OPT = INSTALL_BASE=/home/cpan/pit/jail/2OXDADuRhq
PERL_MM_USE_DEFAULT = 1
SHELL = /bin/bash
TERM = screen
Perl special variables (and OS-specific diagnostics, for MSWin32):
Perl: $^X = /home/cpan/pit/bare/perl-5.16.3/bin/perl
UID: $< = 1001
EUID: $> = 1001
GID: $( = 1001 1001
EGID: $) = 1001 1001
-------------------------------
--
Summary of my perl5 (revision 5 version 16 subversion 3) configuration:
Platform:
osname=linux, osvers=4.19.0-6-686, archname=i686-linux
uname='linux dagobah 4.19.0-6-686 #1 smp debian 4.19.67-2+deb10u2 (2019-11-11) i686 gnulinux '
config_args='-des -Dprefix=/home/cpan/pit/bare/perl-5.16.3'
hint=recommended, useposix=true, d_sigaction=define
useithreads=undef, usemultiplicity=undef
useperlio=define, d_sfio=undef, uselargefiles=define, usesocks=undef
use64bitint=undef, use64bitall=undef, uselongdouble=undef
usemymalloc=n, bincompat5005=undef
Compiler:
cc='cc', ccflags ='-fwrapv -fno-strict-aliasing -pipe -fstack-protector -I/usr/local/include -D_LARGEFILE_SOURCE -D_FILE_OFFSET_BITS=64',
optimize='-O2',
cppflags='-fwrapv -fno-strict-aliasing -pipe -fstack-protector -I/usr/local/include'
ccversion='', gccversion='8.3.0', gccosandvers=''
intsize=4, longsize=4, ptrsize=4, doublesize=8, byteorder=1234
d_longlong=define, longlongsize=8, d_longdbl=define, longdblsize=12
ivtype='long', ivsize=4, nvtype='double', nvsize=8, Off_t='off_t', lseeksize=8
alignbytes=4, prototype=define
Linker and Libraries:
ld='cc', ldflags =' -fstack-protector -L/usr/local/lib'
libpth=/usr/local/lib /lib/i386-linux-gnu /lib/../lib /usr/lib/i386-linux-gnu /usr/lib/../lib /lib /usr/lib /lib64 /usr/lib64
libs=-lnsl -lgdbm -ldl -lm -lcrypt -lutil -lc
perllibs=-lnsl -ldl -lm -lcrypt -lutil -lc
libc=libc-2.28.so, so=so, useshrplib=false, libperl=libperl.a
gnulibc_version='2.28'
Dynamic Linking:
dlsrc=dl_dlopen.xs, dlext=so, d_dlsymun=undef, ccdlflags='-Wl,-E'
cccdlflags='-fPIC', lddlflags='-shared -O2 -L/usr/local/lib -fstack-protector'
Characteristics of this binary (from libperl):
Compile-time options: HAS_TIMES PERLIO_LAYERS PERL_DONT_CREATE_GVSV
PERL_MALLOC_WRAP PERL_PRESERVE_IVUV USE_LARGE_FILES
USE_LOCALE USE_LOCALE_COLLATE USE_LOCALE_CTYPE
USE_LOCALE_NUMERIC USE_PERLIO USE_PERL_ATOF
Locally applied patches:
Devel::PatchPerl 1.80
Built under linux
Compiled at Nov 28 2019 14:28:54
%ENV:
PERL5LIB="/home/cpan/pit/jail/2OXDADuRhq/lib/perl5:/home/cpan/pit/bare/conf/perl-5.16.3/.cpanplus/5.16.3/build/3SBfKnZUzu/Alien-libuv-1.014/blib/lib:/home/cpan/pit/bare/conf/perl-5.16.3/.cpanplus/5.16.3/build/3SBfKnZUzu/Alien-libuv-1.014/blib/arch"
PERL5_CPANPLUS_IS_RUNNING="3460"
PERL5_CPANPLUS_IS_VERSION="0.9908"
PERL5_MINISMOKEBOX="0.68"
PERL5_YACSMOKE_BASE="/home/cpan/pit/bare/conf/perl-5.16.3"
PERL_EXTUTILS_AUTOINSTALL="--defaultdeps"
PERL_LOCAL_LIB_ROOT="/home/cpan/pit/jail/2OXDADuRhq"
PERL_MB_OPT="--install_base "/home/cpan/pit/jail/2OXDADuRhq""
PERL_MM_OPT="INSTALL_BASE=/home/cpan/pit/jail/2OXDADuRhq"
PERL_MM_USE_DEFAULT="1"
@INC:
/home/cpan/pit/jail/2OXDADuRhq/lib/perl5/5.16.3/i686-linux
/home/cpan/pit/jail/2OXDADuRhq/lib/perl5/5.16.3
/home/cpan/pit/jail/2OXDADuRhq/lib/perl5/i686-linux
/home/cpan/pit/jail/2OXDADuRhq/lib/perl5
/home/cpan/pit/bare/conf/perl-5.16.3/.cpanplus/5.16.3/build/3SBfKnZUzu/Alien-libuv-1.014/blib/lib
/home/cpan/pit/bare/conf/perl-5.16.3/.cpanplus/5.16.3/build/3SBfKnZUzu/Alien-libuv-1.014/blib/arch
/home/cpan/pit/bare/perl-5.16.3/lib/site_perl/5.16.3/i686-linux
/home/cpan/pit/bare/perl-5.16.3/lib/site_perl/5.16.3
/home/cpan/pit/bare/perl-5.16.3/lib/5.16.3/i686-linux
/home/cpan/pit/bare/perl-5.16.3/lib/5.16.3
.