Test-WWW-Mechanize v1.60 Perl 5 v5.38.0 RC0 i86pc-solaris-64
- Status
- Pass
- From
- Carlos Guevara
- Dist
-
Test-WWW-Mechanize v1.60
- Platform
- Perl 5 v5.38.0 RC0 i86pc-solaris-64
- Date
- 2023-06-07 04:57:32
- ID
- cfc29b16-04ef-11ee-8242-436b8eb3af9d
This distribution has been tested as part of the CPAN Testers
project, supporting the Perl programming language. See
http://wiki.cpantesters.org/ for more information or email
questions to cpan-testers-discuss@perl.org
--
Dear Andy Lester,
This is a computer-generated report for Test-WWW-Mechanize-1.60
on perl 5.38.0, created by CPAN-Reporter-1.2019.
Thank you for uploading your work to CPAN. Congratulations!
All tests were successful.
Sections of this report:
* Tester comments
* Program output
* Prerequisites
* Environment and other context
------------------------------
TESTER COMMENTS
------------------------------
Additional comments from tester:
this report is from an automated smoke testing program
and was not reviewed by a human for accuracy
------------------------------
PROGRAM OUTPUT
------------------------------
Output from '/usr/bin/make test':
PERL_DL_NONLAZY=1 "/export/home/cpan/bin/perl/bin/perl5.38.0" "-MExtUtils::Command::MM" "-MTest::Harness" "-e" "undef *Test::Harness::Switches; test_harness(0, 'blib/lib', 'blib/arch')" t/*.t
# Testing Test::WWW::Mechanize 1.60 on Perl 5.038000, /export/home/cpan/bin/perl/bin/perl5.38.0
# LWP 6.70
# WWW::Mechanize 2.17
# Test::More 1.302195
# Test::Builder::Tester 1.302195
# Found optional HTML::Lint 2.32
# Optional HTML::Tidy5 not found. Install it to use additional features.
t/00-load.t ................ ok
t/autolint.t ............... ok
t/autotidy.t ............... skipped: Optional HTML::Tidy5 1.00 is not installed, cannot test autotidy.
t/button_exists.t .......... ok
# Test server http://127.0.0.1:22744 as PID 9093
t/click_ok.t ............... ok
t/content_contains.t ....... ok
t/content_lacks.t .......... ok
# Test server http://127.0.0.1:22716 as PID 9099
t/delete_ok.t .............. ok
t/follow_link_ok.t ......... ok
t/followable_links.t ....... ok
t/get_ok-parms.t ........... ok
t/get_ok.t ................. ok
t/has_tag.t ................ ok
t/head_ok-parms.t .......... ok
t/head_ok.t ................ ok
# Test server http://127.0.0.1:20009 as PID 9120
t/headers.t ................ ok
t/html_lint_ok.t ........... ok
t/html_tidy_ok.t ........... skipped: Optional HTML::Tidy5 1.00 is not installed, cannot test html_tidy_ok
t/id_exists.t .............. ok
t/lacks_uncapped_inputs.t .. ok
t/link_content.t ........... ok
t/link_status.t ............ ok
t/links_ok.t ............... ok
t/new.t .................... ok
t/page_links_content.t ..... ok
t/page_links_ok.t .......... ok
t/pod-coverage.t ........... ok
t/pod.t .................... ok
t/post_ok.t ................ ok
# Test server http://127.0.0.1:27078 as PID 9147
t/put_ok.t ................. ok
t/scrape_text_by_id.t ...... ok
t/stuff_inputs.t ........... ok
# Test server http://127.0.0.1:28802 as PID 9154
t/submit_form_ok.t ......... ok
t/text_contains.t .......... ok
t/title_is.t ............... ok
All tests successful.
Files=35, Tests=325, 21 wallclock secs ( 0.24 usr 0.15 sys + 11.31 cusr 3.26 csys = 14.95 CPU)
Result: PASS
------------------------------
PREREQUISITES
------------------------------
Prerequisite modules loaded:
requires:
Module Need Have
------------------------- ----- --------
Carp 0 1.54
Carp::Assert::More 1.16 2.3.0
HTML::Form 0 6.11
HTML::TokeParser 0 3.81
HTTP::Message 6.29 6.44
LWP 6.02 6.70
parent 0 0.241
perl 5.010 5.038000
Test::Builder 0 1.302195
Test::LongString 0.15 0.17
WWW::Mechanize 1.68 2.17
build_requires:
Module Need Have
------------------------- ----- --------
ExtUtils::MakeMaker 0 7.70
HTTP::Server::Simple 0.42 0.52
HTTP::Server::Simple::CGI 0 0
Test::Builder::Tester 1.09 1.302195
Test::More 0.96 1.302195
URI::file 0 5.19
configure_requires:
Module Need Have
------------------------- ----- --------
ExtUtils::MakeMaker 0 7.70
------------------------------
ENVIRONMENT AND OTHER CONTEXT
------------------------------
Environment variables:
AUTOMATED_TESTING = 1
DATE_MANIP_TEST_DM5 = 1
LANG = en_US.UTF-8
LC_ALL = C
NONINTERACTIVE_TESTING = 1
NO_NETWORK_TESTING = 1
PATH = /export/home/cpan/bin/perl/bin:/usr/bin:/usr/sbin:/sbin:/opt/ooce/bin:/usr/gnu/bin
PERL5LIB =
PERL5OPT =
PERL5_CPANPLUS_IS_RUNNING = 8836
PERL5_CPAN_IS_RUNNING = 8836
PERL_MM_USE_DEFAULT = 1
PERL_USE_UNSAFE_INC = 1
SHELL = /bin/sh
TERM = screen
Perl special variables (and OS-specific diagnostics, for MSWin32):
$^X = /export/home/cpan/bin/perl/bin/perl5.38.0
$UID/$EUID = 101 / 101
$GID = 1 1
$EGID = 1 1
Perl module toolchain versions installed:
Module Have
------------------- --------
CPAN 2.36
CPAN::Meta 2.150010
Cwd 3.89
ExtUtils::CBuilder 0.280238
ExtUtils::Command 7.70
ExtUtils::Install 2.22
ExtUtils::MakeMaker 7.70
ExtUtils::Manifest 1.75
ExtUtils::ParseXS 3.51
File::Spec 3.88
JSON 4.10
JSON::PP 4.16
Module::Build 0.4234
Module::Signature n/a
Parse::CPAN::Meta 2.150010
Test2 1.302195
Test::Harness 3.44
Test::More 1.302195
YAML 1.30
YAML::Syck 1.34
version 0.9929
--
Summary of my perl5 (revision 5 version 38 subversion 0) configuration:
Commit id: 059aeb7cca96b4d023c91fc999f946e12018c345
Platform:
osname=solaris
osvers=2.11
archname=i86pc-solaris-64
uname='sunos cjg-omniosce 5.11 omnios-r151044-f18bff8d13 i86pc i386 i86pc '
config_args='-des -Dprefix=/export/home/cpan/bin/perl -Dscriptdir=/export/home/cpan/bin/perl/bin -Dusedevel -Duse64bitall -Dcc=gcc'
hint=recommended
useposix=true
d_sigaction=define
useithreads=undef
usemultiplicity=undef
use64bitint=define
use64bitall=define
uselongdouble=undef
usemymalloc=n
default_inc_excludes_dot=define
Compiler:
cc='gcc'
ccflags ='-m64 -fwrapv -fno-strict-aliasing -pipe -fstack-protector-strong -D_LARGEFILE_SOURCE -D_FILE_OFFSET_BITS=64 -D_FORTIFY_SOURCE=2'
optimize='-O'
cppflags='-m64 -fwrapv -fno-strict-aliasing -pipe -fstack-protector-strong'
ccversion=''
gccversion='11.3.0'
gccosandvers=''
intsize=4
longsize=8
ptrsize=8
doublesize=8
byteorder=12345678
doublekind=3
d_longlong=define
longlongsize=8
d_longdbl=define
longdblsize=16
longdblkind=3
ivtype='long'
ivsize=8
nvtype='double'
nvsize=8
Off_t='off_t'
lseeksize=8
alignbytes=8
prototype=define
Linker and Libraries:
ld='gcc'
ldflags =' -m64 -fstack-protector-strong -L/usr/gnu/lib '
libpth=/opt/gcc-11/lib /usr/lib /usr/gnu/lib /usr/ccs/lib
libs=-lpthread -lsocket -lnsl -ldl -lm -lc
perllibs=-lpthread -lsocket -lnsl -ldl -lm -lc
libc=/lib/libc.so
so=so
useshrplib=true
libperl=libperl.so
gnulibc_version=''
Dynamic Linking:
dlsrc=dl_dlopen.xs
dlext=so
d_dlsymun=undef
ccdlflags=' -R /export/home/cpan/bin/perl/lib/5.38.0/i86pc-solaris-64/CORE'
cccdlflags='-fPIC'
lddlflags=' -shared -m64 -L/usr/gnu/lib -fstack-protector-strong'
Characteristics of this binary (from libperl):
Compile-time options:
HAS_LONG_DOUBLE
HAS_STRTOLD
HAS_TIMES
PERLIO_LAYERS
PERL_COPY_ON_WRITE
PERL_DONT_CREATE_GVSV
PERL_HASH_FUNC_SIPHASH13
PERL_HASH_USE_SBOX32
PERL_MALLOC_WRAP
PERL_OP_PARENT
PERL_PRESERVE_IVUV
PERL_USE_DEVEL
PERL_USE_SAFE_PUTENV
USE_64_BIT_ALL
USE_64_BIT_INT
USE_LARGE_FILES
USE_LOCALE
USE_LOCALE_COLLATE
USE_LOCALE_CTYPE
USE_LOCALE_NUMERIC
USE_LOCALE_TIME
USE_PERLIO
USE_PERL_ATOF
Locally applied patches:
RC0
Built under solaris
Compiled at Jun 6 2023 11:12:14
%ENV:
PERL5LIB=""
PERL5OPT=""
PERL5_CPANPLUS_IS_RUNNING="8836"
PERL5_CPAN_IS_RUNNING="8836"
PERL_MM_USE_DEFAULT="1"
PERL_USE_UNSAFE_INC="1"
@INC:
/export/home/cpan/bin/perl/lib/site_perl/5.38.0/i86pc-solaris-64
/export/home/cpan/bin/perl/lib/site_perl/5.38.0
/export/home/cpan/bin/perl/lib/5.38.0/i86pc-solaris-64
/export/home/cpan/bin/perl/lib/5.38.0
.