Report for Samba-LDAP-0.05

Back
From: metabase:user:30ae4450-2aae-11df-837a-5e0a49663a4f
Subject: PASS Samba-LDAP-0.05 v5.18.2 
Date: 2014-05-31T18:07:00Z

This distribution has been tested as part of the CPAN Testers
project, supporting the Perl programming language.  See
http://wiki.cpantesters.org/ for more information or email
questions to cpan-testers-discuss@perl.org


--
Dear Gavin Henry,

This is a computer-generated report for Samba-LDAP-0.05
on perl 5.18.2, created by CPAN-Reporter-1.2010_01.

Thank you for uploading your work to CPAN.  Congratulations!
All tests were successful.

Sections of this report:

    * Tester comments
    * Program output
    * Prerequisites
    * Environment and other context

------------------------------
TESTER COMMENTS
------------------------------

Additional comments from tester:

this report is from an automated smoke testing program
and was not reviewed by a human for accuracy

------------------------------
PROGRAM OUTPUT
------------------------------

Output from 'C:\strawberry182\perl\bin\perl.exe ./Build test':

In '(?...)', splitting the initial '(?' is deprecated in regex; marked by <-- HERE in m/(?xms:
                                             \A   # Start of string
                                             \s*  # Whitespace 0 or more

                                             # Match one or the other
                                             ( ? <-- HERE : [#] | [;] | \z )
                                           )/ at C:\strawberry182\cpan\build\Samba-LDAP-0.05-O2T4_3\blib\lib/Samba/LDAP/Config.pm line 45, <DATA> line 751.
# Testing Samba::LDAP 0.05
t\00.load.t .............. ok
In '(?...)', splitting the initial '(?' is deprecated in regex; marked by <-- HERE in m/(?xms:
                                             \A   # Start of string
                                             \s*  # Whitespace 0 or more

                                             # Match one or the other
                                             ( ? <-- HERE : [#] | [;] | \z )
                                           )/ at C:\strawberry182\cpan\build\Samba-LDAP-0.05-O2T4_3\blib\lib/Samba/LDAP/Config.pm line 45, <DATA> line 751.
t\01.distribution.t ...... ok
In '(?...)', splitting the initial '(?' is deprecated in regex; marked by <-- HERE in m/(?xms:
                                             \A   # Start of string
                                             \s*  # Whitespace 0 or more

                                             # Match one or the other
                                             ( ? <-- HERE : [#] | [;] | \z )
                                           )/ at C:\strawberry182\cpan\build\Samba-LDAP-0.05-O2T4_3\blib\lib/Samba/LDAP/Config.pm line 45, <DATA> line 751.
t\02.trival_creations.t .. ok
In '(?...)', splitting the initial '(?' is deprecated in regex; marked by <-- HERE in m/(?xms:
                                             \A   # Start of string
                                             \s*  # Whitespace 0 or more

                                             # Match one or the other
                                             ( ? <-- HERE : [#] | [;] | \z )
                                           )/ at C:\strawberry182\cpan\build\Samba-LDAP-0.05-O2T4_3\blib\lib/Samba/LDAP/Config.pm line 45.
t\03.config.t ............ ok
In '(?...)', splitting the initial '(?' is deprecated in regex; marked by <-- HERE in m/(?xms:
                                             \A   # Start of string
                                             \s*  # Whitespace 0 or more

                                             # Match one or the other
                                             ( ? <-- HERE : [#] | [;] | \z )
                                           )/ at C:\strawberry182\cpan\build\Samba-LDAP-0.05-O2T4_3\blib\lib/Samba/LDAP/Config.pm line 45.
t\04.base.t .............. ok
In '(?...)', splitting the initial '(?' is deprecated in regex; marked by <-- HERE in m/(?xms:
                                             \A   # Start of string
                                             \s*  # Whitespace 0 or more

                                             # Match one or the other
                                             ( ? <-- HERE : [#] | [;] | \z )
                                           )/ at C:\strawberry182\cpan\build\Samba-LDAP-0.05-O2T4_3\blib\lib/Samba/LDAP/Config.pm line 45, <DATA> line 751.
t\05.version.t ........... ok
In '(?...)', splitting the initial '(?' is deprecated in regex; marked by <-- HERE in m/(?xms:
                                             \A   # Start of string
                                             \s*  # Whitespace 0 or more

                                             # Match one or the other
                                             ( ? <-- HERE : [#] | [;] | \z )
                                           )/ at C:\strawberry182\cpan\build\Samba-LDAP-0.05-O2T4_3\blib\lib/Samba/LDAP/Config.pm line 45, <DATA> line 751.
"LANG" ­¥ ï¥âáï ¢­ãâ७­¥© ¨«¨ ¢­¥è­¥©
ª®¬ ­¤®©, ¨á¯®«­ï¥¬®© ¯à®£à ¬¬®© ¨«¨ ¯ ª¥â­ë¬ ä ©«®¬.
"LANG" ­¥ ï¥âáï ¢­ãâ७­¥© ¨«¨ ¢­¥è­¥©
ª®¬ ­¤®©, ¨á¯®«­ï¥¬®© ¯à®£à ¬¬®© ¨«¨ ¯ ª¥â­ë¬ ä ©«®¬.
t\06.main.t .............. ok
In '(?...)', splitting the initial '(?' is deprecated in regex; marked by <-- HERE in m/(?xms:
                                             \A   # Start of string
                                             \s*  # Whitespace 0 or more

                                             # Match one or the other
                                             ( ? <-- HERE : [#] | [;] | \z )
                                           )/ at C:\strawberry182\cpan\build\Samba-LDAP-0.05-O2T4_3\blib\lib/Samba/LDAP/Config.pm line 45.
t\07.group.t ............. ok
In '(?...)', splitting the initial '(?' is deprecated in regex; marked by <-- HERE in m/(?xms:
                                             \A   # Start of string
                                             \s*  # Whitespace 0 or more

                                             # Match one or the other
                                             ( ? <-- HERE : [#] | [;] | \z )
                                           )/ at C:\strawberry182\cpan\build\Samba-LDAP-0.05-O2T4_3\blib\lib/Samba/LDAP/Config.pm line 45.
t\08.user.t .............. ok
In '(?...)', splitting the initial '(?' is deprecated in regex; marked by <-- HERE in m/(?xms:
                                             \A   # Start of string
                                             \s*  # Whitespace 0 or more

                                             # Match one or the other
                                             ( ? <-- HERE : [#] | [;] | \z )
                                           )/ at C:\strawberry182\cpan\build\Samba-LDAP-0.05-O2T4_3\blib\lib/Samba/LDAP/Config.pm line 45.
t\09.machine.t ........... ok
In '(?...)', splitting the initial '(?' is deprecated in regex; marked by <-- HERE in m/(?xms:
                                             \A   # Start of string
                                             \s*  # Whitespace 0 or more

                                             # Match one or the other
                                             ( ? <-- HERE : [#] | [;] | \z )
                                           )/ at C:\strawberry182\cpan\build\Samba-LDAP-0.05-O2T4_3\blib\lib/Samba/LDAP/Config.pm line 45, <DATA> line 751.
t\pod-coverage.t ......... ok
t\pod.t .................. ok
All tests successful.
Files=12, Tests=179,  5 wallclock secs ( 0.07 usr +  0.15 sys =  0.22 CPU)
Result: PASS

------------------------------
PREREQUISITES
------------------------------

Prerequisite modules loaded:

requires:

    Module               Need Have    
    -------------------- ---- --------
    Class::Base          0.03 0.05    
    Config::Tiny         2.05 2.20    
    Crypt::SmbHash       0.12 0.12    
    Digest::MD5          2.36 2.53    
    Digest::SHA1         2.11 2.13    
    File::Path           0    2.09    
    List::MoreUtils      0.19 0.33    
    MIME::Base64         3.07 3.14    
    Net::LDAP            0.33 0.60    
    Readonly             1.03 1.04    
    Regexp::DefaultFlags 0.01 0.01    
    Unicode::MapUTF8     1.11 1.11    
    UNIVERSAL::require   0.10 0.16    

build_requires:

    Module               Need Have    
    -------------------- ---- --------
    Test::Distribution   1.23 2.00    
    Test::More           0.62 1.001002


------------------------------
ENVIRONMENT AND OTHER CONTEXT
------------------------------

Environment variables:

    AUTOMATED_TESTING = 1
    COMSPEC = C:\WINDOWS\system32\cmd.exe
    NUMBER_OF_PROCESSORS = 1
    PATH = C:\Program Files\Far Manager\;C:\WINDOWS\system32;C:\WINDOWS;C:\WINDOWS\System32\Wbem;C:\strawberry182\c\bin;C:\strawberry182\perl\site\bin;C:\strawberry182\perl\bin
    PERL5LIB = C:\strawberry182\cpan\build\Crypt-SmbHash-0.12-OvY6J6/blib/arch;C:\strawberry182\cpan\build\Crypt-SmbHash-0.12-OvY6J6/blib/lib;C:\strawberry182\cpan\build\Unicode-MapUTF8-1.11-WC9iLS/blib/arch;C:\strawberry182\cpan\build\Unicode-MapUTF8-1.11-WC9iLS/blib/lib;C:\strawberry182\cpan\build\Unicode-Map8-0.13-s4Sx31/blib/arch;C:\strawberry182\cpan\build\Unicode-Map8-0.13-s4Sx31/blib/lib;C:\strawberry182\cpan\build\Unicode-Map-0.112-HZQBsX/blib/arch;C:\strawberry182\cpan\build\Unicode-Map-0.112-HZQBsX/blib/lib;C:\strawberry182\cpan\build\Unicode-String-2.09-_dVfA2/blib/arch;C:\strawberry182\cpan\build\Unicode-String-2.09-_dVfA2/blib/lib;C:\strawberry182\cpan\build\Class-Base-0.05-Xw73ZL/blib/arch;C:\strawberry182\cpan\build\Class-Base-0.05-Xw73ZL/blib/lib
    PERL5OPT = 
    PERL5_CPANPLUS_IS_RUNNING = 2024
    PERL5_CPAN_IS_RUNNING = 2024
    PERL5_CPAN_IS_RUNNING_IN_RECURSION = 2028,2024
    PERL_CR_SMOKER_CURRENT = Samba-LDAP-0.05
    PERL_EXTUTILS_AUTOINSTALL = --defaultdeps
    PERL_HASH_SEED = 0x11111111
    PERL_MM_USE_DEFAULT = 1
    PROCESSOR_IDENTIFIER = x86 Family 16 Model 5 Stepping 3, AuthenticAMD
    TEMP = C:\DOCUME~1\c\LOCALS~1\Temp
    TERM = dumb

Perl special variables (and OS-specific diagnostics, for MSWin32):

    $^X = C:\strawberry182\perl\bin\perl.exe
    $UID/$EUID = 0 / 0
    $GID = 0
    $EGID = 0
    Win32::GetOSName = WinXP/.Net
    Win32::GetOSVersion = Service Pack 3, 5, 1, 2600, 2, 3, 0, 256, 1
    Win32::FsType = NTFS
    Win32::IsAdminUser = 1

Perl module toolchain versions installed:

    Module              Have    
    ------------------- --------
    CPAN                2.00    
    CPAN::Meta          2.133380
    Cwd                 3.40    
    ExtUtils::CBuilder  0.280212
    ExtUtils::Command   1.18    
    ExtUtils::Install   1.59    
    ExtUtils::MakeMaker 6.84    
    ExtUtils::Manifest  1.63    
    ExtUtils::ParseXS   3.22    
    File::Spec          3.40    
    JSON                2.90    
    JSON::PP            2.27203 
    Module::Build       0.4203  
    Module::Signature   n/a     
    Parse::CPAN::Meta   1.4414  
    Test::Harness       3.30    
    Test::More          1.001002
    YAML                0.90    
    YAML::Syck          1.27    
    version             0.9904  


--

Summary of my perl5 (revision 5 version 18 subversion 2) configuration:
   
  Platform:
    osname=MSWin32, osvers=6.2, archname=MSWin32-x86-multi-thread-64int
    uname='Win32 strawberry-perl 5.18.2.1 #1 Tue Jan  7 16:30:36 2014 i386'
    config_args='undef'
    hint=recommended, useposix=true, d_sigaction=undef
    useithreads=define, usemultiplicity=define
    useperlio=define, d_sfio=undef, uselargefiles=define, usesocks=undef
    use64bitint=define, use64bitall=undef, uselongdouble=undef
    usemymalloc=n, bincompat5005=undef
  Compiler:
    cc='gcc', ccflags =' -s -O2 -DWIN32  -DPERL_TEXTMODE_SCRIPTS -DPERL_IMPLICIT_CONTEXT -DPERL_IMPLICIT_SYS -DUSE_PERLIO -fno-strict-aliasing -mms-bitfields',
    optimize='-s -O2',
    cppflags='-DWIN32'
    ccversion='', gccversion='4.7.3', gccosandvers=''
    intsize=4, longsize=4, ptrsize=4, doublesize=8, byteorder=12345678
    d_longlong=define, longlongsize=8, d_longdbl=define, longdblsize=12
    ivtype='long long', ivsize=8, nvtype='double', nvsize=8, Off_t='long long', lseeksize=8
    alignbytes=8, prototype=define
  Linker and Libraries:
    ld='g++', ldflags ='-s -L"C:\strawberry182\perl\lib\CORE" -L"C:\strawberry182\c\lib"'
    libpth=C:\strawberry182\c\lib C:\strawberry182\c\i686-w64-mingw32\lib C:\strawberry182\c\lib\gcc\i686-w64-mingw32\4.7.3
    libs=-lmoldname -lkernel32 -luser32 -lgdi32 -lwinspool -lcomdlg32 -ladvapi32 -lshell32 -lole32 -loleaut32 -lnetapi32 -luuid -lws2_32 -lmpr -lwinmm -lversion -lodbc32 -lodbccp32 -lcomctl32
    perllibs=-lmoldname -lkernel32 -luser32 -lgdi32 -lwinspool -lcomdlg32 -ladvapi32 -lshell32 -lole32 -loleaut32 -lnetapi32 -luuid -lws2_32 -lmpr -lwinmm -lversion -lodbc32 -lodbccp32 -lcomctl32
    libc=, so=dll, useshrplib=true, libperl=libperl518.a
    gnulibc_version=''
  Dynamic Linking:
    dlsrc=dl_win32.xs, dlext=dll, d_dlsymun=undef, ccdlflags=' '
    cccdlflags=' ', lddlflags='-mdll -s -L"C:\strawberry182\perl\lib\CORE" -L"C:\strawberry182\c\lib"'


Characteristics of this binary (from libperl): 
  Compile-time options: HAS_TIMES HAVE_INTERP_INTERN MULTIPLICITY
                        PERLIO_LAYERS PERL_DONT_CREATE_GVSV
                        PERL_HASH_FUNC_ONE_AT_A_TIME_HARD
                        PERL_IMPLICIT_CONTEXT PERL_IMPLICIT_SYS
                        PERL_MALLOC_WRAP PERL_PRESERVE_IVUV PERL_SAWAMPERSAND
                        USE_64_BIT_INT USE_ITHREADS USE_LARGE_FILES
                        USE_LOCALE USE_LOCALE_COLLATE USE_LOCALE_CTYPE
                        USE_LOCALE_NUMERIC USE_PERLIO USE_PERL_ATOF
  Built under MSWin32
  Compiled at Jan  7 2014 16:39:31
  %ENV:
    PERL5LIB="C:\strawberry182\cpan\build\Crypt-SmbHash-0.12-OvY6J6/blib/arch;C:\strawberry182\cpan\build\Crypt-SmbHash-0.12-OvY6J6/blib/lib;C:\strawberry182\cpan\build\Unicode-MapUTF8-1.11-WC9iLS/blib/arch;C:\strawberry182\cpan\build\Unicode-MapUTF8-1.11-WC9iLS/blib/lib;C:\strawberry182\cpan\build\Unicode-Map8-0.13-s4Sx31/blib/arch;C:\strawberry182\cpan\build\Unicode-Map8-0.13-s4Sx31/blib/lib;C:\strawberry182\cpan\build\Unicode-Map-0.112-HZQBsX/blib/arch;C:\strawberry182\cpan\build\Unicode-Map-0.112-HZQBsX/blib/lib;C:\strawberry182\cpan\build\Unicode-String-2.09-_dVfA2/blib/arch;C:\strawberry182\cpan\build\Unicode-String-2.09-_dVfA2/blib/lib;C:\strawberry182\cpan\build\Class-Base-0.05-Xw73ZL/blib/arch;C:\strawberry182\cpan\build\Class-Base-0.05-Xw73ZL/blib/lib"
    PERL5_CPANPLUS_IS_RUNNING="2024"
    PERL5_CPAN_IS_RUNNING="2024"
    PERL5_CPAN_IS_RUNNING_IN_RECURSION="2028,2024"
    PERL_CR_SMOKER_CURRENT="Samba-LDAP-0.05"
    PERL_EXTUTILS_AUTOINSTALL="--defaultdeps"
    PERL_HASH_SEED="0x11111111"
    PERL_MM_USE_DEFAULT="1"
  @INC:
    C:\strawberry182\cpan\build\Crypt-SmbHash-0.12-OvY6J6/blib/arch
    C:\strawberry182\cpan\build\Crypt-SmbHash-0.12-OvY6J6/blib/lib
    C:\strawberry182\cpan\build\Unicode-MapUTF8-1.11-WC9iLS/blib/arch
    C:\strawberry182\cpan\build\Unicode-MapUTF8-1.11-WC9iLS/blib/lib
    C:\strawberry182\cpan\build\Unicode-Map8-0.13-s4Sx31/blib/arch
    C:\strawberry182\cpan\build\Unicode-Map8-0.13-s4Sx31/blib/lib
    C:\strawberry182\cpan\build\Unicode-Map-0.112-HZQBsX/blib/arch
    C:\strawberry182\cpan\build\Unicode-Map-0.112-HZQBsX/blib/lib
    C:\strawberry182\cpan\build\Unicode-String-2.09-_dVfA2/blib/arch
    C:\strawberry182\cpan\build\Unicode-String-2.09-_dVfA2/blib/lib
    C:\strawberry182\cpan\build\Class-Base-0.05-Xw73ZL/blib/arch
    C:\strawberry182\cpan\build\Class-Base-0.05-Xw73ZL/blib/lib
    C:/strawberry182/perl/site/lib
    C:/strawberry182/perl/vendor/lib
    C:/strawberry182/perl/lib
    .