Back
From: metabase:user:30f4dfbe-2aae-11df-837a-5e0a49663a4f
Subject: PASS XML-Rabbit-0.4.0 v5.14.3 Mac OS X
Date: 2013-12-12T03:16:37Z
This distribution has been tested as part of the CPAN Testers
project, supporting the Perl programming language. See
http://wiki.cpantesters.org/ for more information or email
questions to cpan-testers-discuss@perl.org
--
Dear Robin Smidsrod,
This is a computer-generated report for XML-Rabbit-0.4.0
on perl 5.14.3, created by CPAN-Reporter-1.2010.
Thank you for uploading your work to CPAN. Congratulations!
All tests were successful.
Sections of this report:
* Tester comments
* Program output
* Prerequisites
* Environment and other context
------------------------------
TESTER COMMENTS
------------------------------
Additional comments from tester:
this report is from an automated smoke testing program
and was not reviewed by a human for accuracy
------------------------------
PROGRAM OUTPUT
------------------------------
Output from '/sw/bin/make test':
PERL_DL_NONLAZY=1 /Users/hornenj/perl5/perlbrew/perls/perl-5.14.3/bin/perl "-MExtUtils::Command::MM" "-e" "test_harness(0, 'blib/lib', 'blib/arch')" t/*.t t/regression/*.t
# Testing XML::Rabbit 0.4.0, Perl 5.014003, /Users/hornenj/perl5/perlbrew/perls/perl-5.14.3/bin/perl
t/00_load.t ........................... ok
# Detected libxml2 version: 20800
t/01_libxml_version.t ................. ok
t/10_parse_xhtml_fh.t ................. ok
t/10_parse_xhtml_file.t ............... ok
t/10_parse_xhtml_string.t ............. ok
t/11_parse_imsqti.t ................... ok
t/12_xpath_value_map.t ................ ok
t/13_xpath_object_map.t ............... ok
t/14_sugar_parse_xhtml_file.t ......... ok
t/15_sugar_parse_imsqti.t ............. ok
t/16_sugar_xpath_value_map.t .......... ok
t/17_sugar_xpath_object_map.t ......... ok
t/18_dump_xml.t ....................... ok
t/19_RT_71815.t ....................... ok
t/20_RT_81519.t ....................... ok
t/author-critic.t ..................... skipped: these tests are for testing by the author
t/regression/node_attribute_traits.t .. ok
t/release-eol.t ....................... skipped: these tests are for release candidate testing
t/release-kwalitee.t .................. skipped: these tests are for release candidate testing
t/release-no-tabs.t ................... skipped: these tests are for release candidate testing
t/release-pod-coverage.t .............. skipped: these tests are for release candidate testing
t/release-pod-syntax.t ................ skipped: these tests are for release candidate testing
All tests successful.
Files=22, Tests=165, 5 wallclock secs ( 0.07 usr 0.03 sys + 4.31 cusr 0.33 csys = 4.74 CPU)
Result: PASS
------------------------------
PREREQUISITES
------------------------------
Prerequisite modules loaded:
requires:
Module Need Have
---------------------------- ---- -------
Carp 0 1.26
Class::Load 0 0.20
Encode 0 2.54
Moose 0.89 2.1005
Moose::Exporter 0 2.1005
Moose::Role 0 2.1005
Moose::Util::TypeConstraints 0 2.1005
MooseX::Role::Parameterized 0 1.02
namespace::autoclean 0 0.14
Perl6::Junction 0 1.60000
Scalar::Util 0 1.32
strict 0 1.04
warnings 0 1.12
XML::LibXML 1.70 2.0104
build_requires:
Module Need Have
---------------------------- ---- -------
Test::Exception 0 0.32
Test::More 0 0.98
utf8 0 1.09
configure_requires:
Module Need Have
---------------------------- ---- -------
ExtUtils::MakeMaker 6.30 6.74
XML::LibXML 1.70 2.0104
------------------------------
ENVIRONMENT AND OTHER CONTEXT
------------------------------
Environment variables:
AUTOMATED_TESTING = 1
LC_ALL = POSIX
LD_LIBRARY_PATH = :/net/traces01.be-md.ncbi.nlm.nih.gov/trace_software/vdb/mac/release/x86_64/lib
PATH = /Users/hornenj/perl5/perlbrew/bin:/Users/hornenj/perl5/perlbrew/perls/perl-5.14.3/bin:/Users/hornenj/perl5/perlbrew/bin:/Users/hornenj/perl5/perlbrew/perls/perl-5.18.1/bin:/sw/lib/perl5/ExtUtils:/sw/bin:/sw/sbin:/am/ncbiapdata/bin:/usr/bin:/bin:/usr/X11R6/bin:/Users/hornenj/bin:/netopt/ncbi_tools/bin:/usr/local/ncbi/blast/bin:/net/traces01.be-md.ncbi.nlm.nih.gov/trace_software/vdb/mac/release/x86_64/bin
PERL5LIB = /Users/hornenj/.cpan/build/MooseX-Role-Parameterized-1.02-lYznNA/blib/arch:/Users/hornenj/.cpan/build/MooseX-Role-Parameterized-1.02-lYznNA/blib/lib:/Users/hornenj/.cpan/build/namespace-autoclean-0.14-iF0KBB/blib/arch:/Users/hornenj/.cpan/build/namespace-autoclean-0.14-iF0KBB/blib/lib:/Users/hornenj/.cpan/build/Test-CheckDeps-0.010-cO9Asg/blib/arch:/Users/hornenj/.cpan/build/Test-CheckDeps-0.010-cO9Asg/blib/lib:/Users/hornenj/.cpan/build/Module-Build-Tiny-0.030-09sJR5/blib/arch:/Users/hornenj/.cpan/build/Module-Build-Tiny-0.030-09sJR5/blib/lib:/Users/hornenj/.cpan/build/Test-Harness-3.30-CVHW7x/blib/arch:/Users/hornenj/.cpan/build/Test-Harness-3.30-CVHW7x/blib/lib:/Users/hornenj/.cpan/build/Perl6-Junction-1.60000-I5mWps/blib/arch:/Users/hornenj/.cpan/build/Perl6-Junction-1.60000-I5mWps/blib/lib
PERL5OPT =
PERL5_CPANPLUS_IS_RUNNING = 67067
PERL5_CPAN_IS_RUNNING = 67067
PERL5_MINISMOKEBOX = 0.58
PERLBREW_BASHRC_VERSION = 0.66
PERLBREW_HOME = /Users/hornenj/.perlbrew
PERLBREW_MANPATH = /Users/hornenj/perl5/perlbrew/perls/perl-5.14.3/man
PERLBREW_PATH = /Users/hornenj/perl5/perlbrew/bin:/Users/hornenj/perl5/perlbrew/perls/perl-5.14.3/bin
PERLBREW_PERL = perl-5.14.3
PERLBREW_ROOT = /Users/hornenj/perl5/perlbrew
PERLBREW_VERSION = 0.66
PERL_EXTUTILS_AUTOINSTALL = --defaultdeps
PERL_MM_USE_DEFAULT = 1
SHELL = /bin/bash
TERM = xterm
TMPDIR = /var/folders/pz/pd7y1qjs6s3cbk170cw50fjc000c61/T/
VERSIONER_PERL_PREFER_32_BIT = no
VERSIONER_PERL_VERSION = 5.12
ac_cv_path_INTLTOOL_PERL = /usr/bin/perl
Perl special variables (and OS-specific diagnostics, for MSWin32):
$^X = /Users/hornenj/perl5/perlbrew/perls/perl-5.14.3/bin/perl
$UID/$EUID = 12481 / 12481
$GID = 14 14 5344 527 241 223 206 402 12 62 204
$EGID = 14 14 5344 527 241 223 206 402 12 62 204
Perl module toolchain versions installed:
Module Have
------------------- --------
CPAN 2.00
CPAN::Meta 2.132140
Cwd 3.40
ExtUtils::CBuilder 0.280205
ExtUtils::Command 1.17
ExtUtils::Install 1.56
ExtUtils::MakeMaker 6.74
ExtUtils::Manifest 1.61
ExtUtils::ParseXS 3.22
File::Spec 3.40
JSON 2.90
JSON::PP 2.27202
Module::Build 0.4007
Module::Signature n/a
Parse::CPAN::Meta 1.4409
Test::Harness 3.30
Test::More 0.98
YAML 0.84
YAML::Syck 1.27
version 0.9904
--
Summary of my perl5 (revision 5 version 14 subversion 3) configuration:
Platform:
osname=darwin, osvers=12.2.1, archname=darwin-2level
uname='darwin ncbimac2008.ncbi.nlm.nih.gov 12.2.1 darwin kernel version 12.2.1: thu oct 18 12:13:47 pdt 2012; root:xnu-2050.20.9~1release_x86_64 x86_64 '
config_args='-de -Dprefix=/Users/hornenj/perl5/perlbrew/perls/perl-5.14.3'
hint=recommended, useposix=true, d_sigaction=define
useithreads=undef, usemultiplicity=undef
useperlio=define, d_sfio=undef, uselargefiles=define, usesocks=undef
use64bitint=define, use64bitall=define, uselongdouble=undef
usemymalloc=n, bincompat5005=undef
Compiler:
cc='cc', ccflags ='-fno-common -DPERL_DARWIN -fno-strict-aliasing -pipe -fstack-protector',
optimize='-O3',
cppflags='-fno-common -DPERL_DARWIN -fno-strict-aliasing -pipe -fstack-protector'
ccversion='', gccversion='4.2.1 Compatible Apple LLVM 4.2 (clang-425.0.24)', gccosandvers=''
intsize=4, longsize=8, ptrsize=8, doublesize=8, byteorder=12345678
d_longlong=define, longlongsize=8, d_longdbl=define, longdblsize=16
ivtype='long', ivsize=8, nvtype='double', nvsize=8, Off_t='off_t', lseeksize=8
alignbytes=8, prototype=define
Linker and Libraries:
ld='env MACOSX_DEPLOYMENT_TARGET=10.3 cc', ldflags =' -fstack-protector'
libpth=/usr/lib
libs=-ldbm -ldl -lm -lutil -lc
perllibs=-ldl -lm -lutil -lc
libc=, so=dylib, useshrplib=false, libperl=libperl.a
gnulibc_version=''
Dynamic Linking:
dlsrc=dl_dlopen.xs, dlext=bundle, d_dlsymun=undef, ccdlflags=' '
cccdlflags=' ', lddlflags=' -bundle -undefined dynamic_lookup -fstack-protector'
Characteristics of this binary (from libperl):
Compile-time options: PERL_DONT_CREATE_GVSV PERL_MALLOC_WRAP
PERL_PRESERVE_IVUV USE_64_BIT_ALL USE_64_BIT_INT
USE_LARGE_FILES USE_PERLIO USE_PERL_ATOF
Built under darwin
Compiled at Mar 4 2013 17:42:44
%ENV:
PERL5LIB="/Users/hornenj/.cpan/build/MooseX-Role-Parameterized-1.02-lYznNA/blib/arch:/Users/hornenj/.cpan/build/MooseX-Role-Parameterized-1.02-lYznNA/blib/lib:/Users/hornenj/.cpan/build/namespace-autoclean-0.14-iF0KBB/blib/arch:/Users/hornenj/.cpan/build/namespace-autoclean-0.14-iF0KBB/blib/lib:/Users/hornenj/.cpan/build/Test-CheckDeps-0.010-cO9Asg/blib/arch:/Users/hornenj/.cpan/build/Test-CheckDeps-0.010-cO9Asg/blib/lib:/Users/hornenj/.cpan/build/Module-Build-Tiny-0.030-09sJR5/blib/arch:/Users/hornenj/.cpan/build/Module-Build-Tiny-0.030-09sJR5/blib/lib:/Users/hornenj/.cpan/build/Test-Harness-3.30-CVHW7x/blib/arch:/Users/hornenj/.cpan/build/Test-Harness-3.30-CVHW7x/blib/lib:/Users/hornenj/.cpan/build/Perl6-Junction-1.60000-I5mWps/blib/arch:/Users/hornenj/.cpan/build/Perl6-Junction-1.60000-I5mWps/blib/lib"
PERL5OPT=""
PERL5_CPANPLUS_IS_RUNNING="67067"
PERL5_CPAN_IS_RUNNING="67067"
PERL5_MINISMOKEBOX="0.58"
PERLBREW_BASHRC_VERSION="0.66"
PERLBREW_HOME="/Users/hornenj/.perlbrew"
PERLBREW_MANPATH="/Users/hornenj/perl5/perlbrew/perls/perl-5.14.3/man"
PERLBREW_PATH="/Users/hornenj/perl5/perlbrew/bin:/Users/hornenj/perl5/perlbrew/perls/perl-5.14.3/bin"
PERLBREW_PERL="perl-5.14.3"
PERLBREW_ROOT="/Users/hornenj/perl5/perlbrew"
PERLBREW_VERSION="0.66"
PERL_EXTUTILS_AUTOINSTALL="--defaultdeps"
PERL_MM_USE_DEFAULT="1"
@INC:
/Users/hornenj/.cpan/build/MooseX-Role-Parameterized-1.02-lYznNA/blib/arch
/Users/hornenj/.cpan/build/MooseX-Role-Parameterized-1.02-lYznNA/blib/lib
/Users/hornenj/.cpan/build/namespace-autoclean-0.14-iF0KBB/blib/arch
/Users/hornenj/.cpan/build/namespace-autoclean-0.14-iF0KBB/blib/lib
/Users/hornenj/.cpan/build/Test-CheckDeps-0.010-cO9Asg/blib/arch
/Users/hornenj/.cpan/build/Test-CheckDeps-0.010-cO9Asg/blib/lib
/Users/hornenj/.cpan/build/Module-Build-Tiny-0.030-09sJR5/blib/arch
/Users/hornenj/.cpan/build/Module-Build-Tiny-0.030-09sJR5/blib/lib
/Users/hornenj/.cpan/build/Test-Harness-3.30-CVHW7x/blib/arch
/Users/hornenj/.cpan/build/Test-Harness-3.30-CVHW7x/blib/lib
/Users/hornenj/.cpan/build/Perl6-Junction-1.60000-I5mWps/blib/arch
/Users/hornenj/.cpan/build/Perl6-Junction-1.60000-I5mWps/blib/lib
/Users/hornenj/perl5/perlbrew/perls/perl-5.14.3/lib/site_perl/5.14.3/darwin-2level
/Users/hornenj/perl5/perlbrew/perls/perl-5.14.3/lib/site_perl/5.14.3
/Users/hornenj/perl5/perlbrew/perls/perl-5.14.3/lib/5.14.3/darwin-2level
/Users/hornenj/perl5/perlbrew/perls/perl-5.14.3/lib/5.14.3
.