Report for Catalyst-View-Email-0.33

Back
From: metabase:user:30ae4450-2aae-11df-837a-5e0a49663a4f
Subject: PASS Catalyst-View-Email-0.33 v5.19.11 GNU/Linux
Date: 2014-04-25T17:19:51Z

This distribution has been tested as part of the CPAN Testers
project, supporting the Perl programming language.  See
http://wiki.cpantesters.org/ for more information or email
questions to cpan-testers-discuss@perl.org


--
Dear Devin Austin,

This is a computer-generated report for Catalyst-View-Email-0.33
on perl 5.19.11, created by CPAN-Reporter-1.2011.

Thank you for uploading your work to CPAN.  Congratulations!
All tests were successful.

Sections of this report:

    * Tester comments
    * Program output
    * Prerequisites
    * Environment and other context

------------------------------
TESTER COMMENTS
------------------------------

Additional comments from tester:

this report is from an automated smoke testing program
and was not reviewed by a human for accuracy

------------------------------
PROGRAM OUTPUT
------------------------------

Output from '/usr/bin/make test':

PERL_DL_NONLAZY=1 /home/c/perl5/perlbrew/perls/5.19.11i/bin/perl5.19.11 "-MExtUtils::Command::MM" "-MTest::Harness" "-e" "undef *Test::Harness::Switches; test_harness(0, 'inc', 'blib/lib', 'blib/arch')" t/01use.t t/02pod.t t/04basic.t t/05template.t t/06config.t t/07mason.t
t/01use.t ....... ok
t/02pod.t ....... skipped: set TEST_POD to enable this test
require TestApp::View::Mason was successful but the package is not defined. at /home/c/perl5/perlbrew/perls/5.19.11i/lib/site_perl/5.19.11/Catalyst/Utils.pm line 314.
Class::MOP::load_class is deprecated at /home/c/perl5/perlbrew/perls/5.19.11i/lib/site_perl/5.19.11/i686-linux-thread-multi-64int/Class/MOP.pm line 73.
	Class::MOP::load_class("Email::Sender::Transport::Test") called at /home/c/.cpan/build/Catalyst-View-Email-0.33-1AUhsV/blib/lib/Catalyst/View/Email.pm line 226
	Catalyst::View::Email::_build_mailer_obj(TestApp::View::Email=HASH(0xb26dfa4)) called at accessor Catalyst::View::Email::_mailer_obj (defined at /home/c/.cpan/build/Catalyst-View-Email-0.33-1AUhsV/blib/lib/Catalyst/View/Email.pm line 21) line 11
	Catalyst::View::Email::_mailer_obj(TestApp::View::Email=HASH(0xb26dfa4)) called at /home/c/.cpan/build/Catalyst-View-Email-0.33-1AUhsV/blib/lib/Catalyst/View/Email.pm line 299
	Catalyst::View::Email::process(TestApp::View::Email=HASH(0xb26dfa4), TestApp=HASH(0xb2c10f0)) called at /home/c/perl5/perlbrew/perls/5.19.11i/lib/site_perl/5.19.11/Catalyst/Action.pm line 65
	Catalyst::Action::execute(Catalyst::Action=HASH(0xb2fe7b4), TestApp::View::Email=HASH(0xb26dfa4), TestApp=HASH(0xb2c10f0)) called at /home/c/perl5/perlbrew/perls/5.19.11i/lib/site_perl/5.19.11/Catalyst.pm line 1734
	eval {...} called at /home/c/perl5/perlbrew/perls/5.19.11i/lib/site_perl/5.19.11/Catalyst.pm line 1734
	Catalyst::execute(TestApp=HASH(0xb2c10f0), "TestApp::View::Email", Catalyst::Action=HASH(0xb2fe7b4)) called at /home/c/perl5/perlbrew/perls/5.19.11i/lib/site_perl/5.19.11/Catalyst/Action.pm line 60
	Catalyst::Action::dispatch(Catalyst::Action=HASH(0xb2fe7b4), TestApp=HASH(0xb2c10f0)) called at /home/c/perl5/perlbrew/perls/5.19.11i/lib/site_perl/5.19.11/Catalyst/Dispatcher.pm line 258
	Catalyst::Dispatcher::_do_forward(Catalyst::Dispatcher=HASH(0xac55c74), "forward", TestApp=HASH(0xb2c10f0), "TestApp::View::Email") called at /home/c/perl5/perlbrew/perls/5.19.11i/lib/site_perl/5.19.11/Catalyst/Dispatcher.pm line 238
	Catalyst::Dispatcher::forward(Catalyst::Dispatcher=HASH(0xac55c74), TestApp=HASH(0xb2c10f0), "TestApp::View::Email") called at /home/c/perl5/perlbrew/perls/5.19.11i/lib/site_perl/5.19.11/Catalyst.pm line 397
	Catalyst::forward(TestApp=HASH(0xb2c10f0), "TestApp::View::Email") called at /home/c/.cpan/build/Catalyst-View-Email-0.33-1AUhsV/t/lib/TestApp/Controller/Root.pm line 26
	TestApp::Controller::Root::email(TestApp::Controller::Root=HASH(0xb1ee7a4), TestApp=HASH(0xb2c10f0)) called at /home/c/perl5/perlbrew/perls/5.19.11i/lib/site_perl/5.19.11/Catalyst/Action.pm line 65
	Catalyst::Action::execute(Catalyst::Action=HASH(0xb29a848), TestApp::Controller::Root=HASH(0xb1ee7a4), TestApp=HASH(0xb2c10f0)) called at /home/c/perl5/perlbrew/perls/5.19.11i/lib/site_perl/5.19.11/Catalyst.pm line 1734
	eval {...} called at /home/c/perl5/perlbrew/perls/5.19.11i/lib/site_perl/5.19.11/Catalyst.pm line 1734
	Catalyst::execute(TestApp=HASH(0xb2c10f0), "TestApp::Controller::Root", Catalyst::Action=HASH(0xb29a848)) called at /home/c/perl5/perlbrew/perls/5.19.11i/lib/site_perl/5.19.11/Catalyst/Action.pm line 60
	Catalyst::Action::dispatch(Catalyst::Action=HASH(0xb29a848), TestApp=HASH(0xb2c10f0)) called at /home/c/perl5/perlbrew/perls/5.19.11i/lib/site_perl/5.19.11/Catalyst/Controller.pm line 161
	Catalyst::Controller::_ACTION(TestApp::Controller::Root=HASH(0xb1ee7a4), TestApp=HASH(0xb2c10f0)) called at /home/c/perl5/perlbrew/perls/5.19.11i/lib/site_perl/5.19.11/Catalyst/Action.pm line 65
	Catalyst::Action::execute(Catalyst::Action=HASH(0xb29922c), TestApp::Controller::Root=HASH(0xb1ee7a4), TestApp=HASH(0xb2c10f0)) called at /home/c/perl5/perlbrew/perls/5.19.11i/lib/site_perl/5.19.11/Catalyst.pm line 1734
	eval {...} called at /home/c/perl5/perlbrew/perls/5.19.11i/lib/site_perl/5.19.11/Catalyst.pm line 1734
	Catalyst::execute(TestApp=HASH(0xb2c10f0), "TestApp::Controller::Root", Catalyst::Action=HASH(0xb29922c)) called at /home/c/perl5/perlbrew/perls/5.19.11i/lib/site_perl/5.19.11/Catalyst/Action.pm line 60
	Catalyst::Action::dispatch(Catalyst::Action=HASH(0xb29922c), TestApp=HASH(0xb2c10f0)) called at /home/c/perl5/perlbrew/perls/5.19.11i/lib/site_perl/5.19.11/Catalyst/Dispatcher.pm line 258
	Catalyst::Dispatcher::_do_forward(Catalyst::Dispatcher=HASH(0xac55c74), "forward", TestApp=HASH(0xb2c10f0), "_ACTION") called at /home/c/perl5/perlbrew/perls/5.19.11i/lib/site_perl/5.19.11/Catalyst/Dispatcher.pm line 238
	Catalyst::Dispatcher::forward(Catalyst::Dispatcher=HASH(0xac55c74), TestApp=HASH(0xb2c10f0), "_ACTION") called at /home/c/perl5/perlbrew/perls/5.19.11i/lib/site_perl/5.19.11/Catalyst.pm line 397
	Catalyst::forward(TestApp=HASH(0xb2c10f0), "_ACTION") called at /home/c/perl5/perlbrew/perls/5.19.11i/lib/site_perl/5.19.11/Catalyst/Controller.pm line 135
	Catalyst::Controller::_DISPATCH(TestApp::Controller::Root=HASH(0xb1ee7a4), TestApp=HASH(0xb2c10f0)) called at /home/c/perl5/perlbrew/perls/5.19.11i/lib/site_perl/5.19.11/Catalyst/Action.pm line 65
	Catalyst::Action::execute(Catalyst::Action=HASH(0xb292af0), TestApp::Controller::Root=HASH(0xb1ee7a4), TestApp=HASH(0xb2c10f0)) called at /home/c/perl5/perlbrew/perls/5.19.11i/lib/site_perl/5.19.11/Catalyst.pm line 1734
	eval {...} called at /home/c/perl5/perlbrew/perls/5.19.11i/lib/site_perl/5.19.11/Catalyst.pm line 1734
	Catalyst::execute(TestApp=HASH(0xb2c10f0), "TestApp::Controller::Root", Catalyst::Action=HASH(0xb292af0)) called at /home/c/perl5/perlbrew/perls/5.19.11i/lib/site_perl/5.19.11/Catalyst/Action.pm line 60
	Catalyst::Action::dispatch(Catalyst::Action=HASH(0xb292af0), TestApp=HASH(0xb2c10f0)) called at /home/c/perl5/perlbrew/perls/5.19.11i/lib/site_perl/5.19.11/Catalyst/Dispatcher.pm line 258
	Catalyst::Dispatcher::_do_forward(Catalyst::Dispatcher=HASH(0xac55c74), "forward", TestApp=HASH(0xb2c10f0), "/root/_DISPATCH") called at /home/c/perl5/perlbrew/perls/5.19.11i/lib/site_perl/5.19.11/Catalyst/Dispatcher.pm line 238
	Catalyst::Dispatcher::forward(Catalyst::Dispatcher=HASH(0xac55c74), TestApp=HASH(0xb2c10f0), "/root/_DISPATCH") called at /home/c/perl5/perlbrew/perls/5.19.11i/lib/site_perl/5.19.11/Catalyst.pm line 397
	Catalyst::forward(TestApp=HASH(0xb2c10f0), "/root/_DISPATCH") called at /home/c/perl5/perlbrew/perls/5.19.11i/lib/site_perl/5.19.11/Catalyst/Dispatcher.pm line 107
	Catalyst::Dispatcher::dispatch(Catalyst::Dispatcher=HASH(0xac55c74), TestApp=HASH(0xb2c10f0)) called at /home/c/perl5/perlbrew/perls/5.19.11i/lib/site_perl/5.19.11/Catalyst.pm line 1680
	Catalyst::dispatch(TestApp=HASH(0xb2c10f0)) called at /home/c/perl5/perlbrew/perls/5.19.11i/lib/site_perl/5.19.11/Catalyst.pm line 2015
	Catalyst::try {...} () called at /home/c/perl5/perlbrew/perls/5.19.11i/lib/site_perl/5.19.11/Try/Tiny.pm line 81
	eval {...} called at /home/c/perl5/perlbrew/perls/5.19.11i/lib/site_perl/5.19.11/Try/Tiny.pm line 72
	Try::Tiny::try(CODE(0xb2c0b50), Try::Tiny::Catch=REF(0xb2c0a24)) called at /home/c/perl5/perlbrew/perls/5.19.11i/lib/site_perl/5.19.11/Catalyst.pm line 2024
	Catalyst::handle_request("TestApp", "env", HASH(0xb077b1c), "response_cb", CODE(0xb2c0a4c)) called at /home/c/perl5/perlbrew/perls/5.19.11i/lib/site_perl/5.19.11/Catalyst/Engine.pm line 797
	Catalyst::Engine::__ANON__(CODE(0xb2c0a4c)) called at /home/c/perl5/perlbrew/perls/5.19.11i/lib/site_perl/5.19.11/Plack/Middleware/HTTPExceptions.pm line 32
	Plack::Middleware::HTTPExceptions::try {...} () called at /home/c/perl5/perlbrew/perls/5.19.11i/lib/site_perl/5.19.11/Try/Tiny.pm line 81
	eval {...} called at /home/c/perl5/perlbrew/perls/5.19.11i/lib/site_perl/5.19.11/Try/Tiny.pm line 72
	Try::Tiny::try(CODE(0xb2c08f8), Try::Tiny::Catch=REF(0xb2f6f80)) called at /home/c/perl5/perlbrew/perls/5.19.11i/lib/site_perl/5.19.11/Plack/Middleware/HTTPExceptions.pm line 41
	Plack::Middleware::HTTPExceptions::__ANON__(CODE(0xb2c081c)) called at /home/c/perl5/perlbrew/perls/5.19.11i/lib/site_perl/5.19.11/Plack/Util.pm line 301
	Plack::Util::__ANON__(CODE(0xb2c0740)) called at /home/c/perl5/perlbrew/perls/5.19.11i/lib/site_perl/5.19.11/Plack/Util.pm line 301
	Plack::Util::__ANON__(CODE(0xb2c0664)) called at /home/c/perl5/perlbrew/perls/5.19.11i/lib/site_perl/5.19.11/Plack/Util.pm line 301
	Plack::Util::__ANON__(CODE(0xb2c05ec)) called at /home/c/perl5/perlbrew/perls/5.19.11i/lib/site_perl/5.19.11/HTTP/Message/PSGI.pm line 100
	HTTP::Message::PSGI::res_from_psgi(CODE(0xb2f6e7c)) called at /home/c/perl5/perlbrew/perls/5.19.11i/lib/site_perl/5.19.11/HTTP/Message/PSGI.pm line 155
	HTTP::Response::from_psgi("HTTP::Response", CODE(0xb2f6e7c)) called at /home/c/perl5/perlbrew/perls/5.19.11i/lib/site_perl/5.19.11/Plack/Test/MockHTTP.pm line 24
	Plack::Test::MockHTTP::try {...} () called at /home/c/perl5/perlbrew/perls/5.19.11i/lib/site_perl/5.19.11/Try/Tiny.pm line 79
	eval {...} called at /home/c/perl5/perlbrew/perls/5.19.11i/lib/site_perl/5.19.11/Try/Tiny.pm line 72
	Try::Tiny::try(CODE(0xb108f70), Try::Tiny::Catch=REF(0xb286954)) called at /home/c/perl5/perlbrew/perls/5.19.11i/lib/site_perl/5.19.11/Plack/Test/MockHTTP.pm line 27
	Plack::Test::MockHTTP::request(Plack::Test::MockHTTP=HASH(0xb2a831c), HTTP::Request=HASH(0xb29d3b4)) called at /home/c/perl5/perlbrew/perls/5.19.11i/lib/site_perl/5.19.11/Plack/Test.pm line 38
	Plack::Test::__ANON__(HTTP::Request=HASH(0xb29d3b4)) called at /home/c/perl5/perlbrew/perls/5.19.11i/lib/site_perl/5.19.11/Catalyst/Test.pm line 281
	Catalyst::Test::__ANON__(CODE(0xb2a81f0)) called at /home/c/perl5/perlbrew/perls/5.19.11i/lib/site_perl/5.19.11/Plack/Test.pm line 38
	Plack::Test::test_psgi("mangle_response", CODE(0xa728104), "app", CODE(0xb29d01c), "app", CODE(0xb2b2d80), "client", CODE(0xb2a7ea8)) called at /home/c/perl5/perlbrew/perls/5.19.11i/lib/site_perl/5.19.11/Catalyst/Test.pm line 284
	Catalyst::Test::_request(HASH(0x9318190), "/email?time=1398446387") called at /home/c/perl5/perlbrew/perls/5.19.11i/lib/site_perl/5.19.11/Catalyst/Test.pm line 327
	Catalyst::Test::_local_request("TestApp", "/email?time=1398446387") called at /home/c/perl5/perlbrew/perls/5.19.11i/lib/site_perl/5.19.11/Catalyst/Test.pm line 32
	Catalyst::Test::__ANON__("/email?time=1398446387") called at t/04basic.t line 14
t/04basic.t ..... ok
require TestApp::View::Mason was successful but the package is not defined. at /home/c/perl5/perlbrew/perls/5.19.11i/lib/site_perl/5.19.11/Catalyst/Utils.pm line 314.
Class::MOP::load_class is deprecated at /home/c/perl5/perlbrew/perls/5.19.11i/lib/site_perl/5.19.11/i686-linux-thread-multi-64int/Class/MOP.pm line 73.
	Class::MOP::load_class("Email::Sender::Transport::Test") called at /home/c/.cpan/build/Catalyst-View-Email-0.33-1AUhsV/blib/lib/Catalyst/View/Email.pm line 226
	Catalyst::View::Email::_build_mailer_obj(TestApp::View::Email::Template=HASH(0xb87c698)) called at accessor Catalyst::View::Email::_mailer_obj (defined at /home/c/.cpan/build/Catalyst-View-Email-0.33-1AUhsV/blib/lib/Catalyst/View/Email.pm line 21) line 11
	Catalyst::View::Email::_mailer_obj(TestApp::View::Email::Template=HASH(0xb87c698)) called at /home/c/.cpan/build/Catalyst-View-Email-0.33-1AUhsV/blib/lib/Catalyst/View/Email.pm line 299
	Catalyst::View::Email::process(TestApp::View::Email::Template=HASH(0xb87c698), TestApp=HASH(0xb977cf8)) called at /home/c/.cpan/build/Catalyst-View-Email-0.33-1AUhsV/blib/lib/Catalyst/View/Email/Template.pm line 306
	Class::MOP::Class:::around(CODE(0xb80a488), TestApp::View::Email::Template=HASH(0xb87c698), TestApp=HASH(0xb977cf8)) called at /home/c/perl5/perlbrew/perls/5.19.11i/lib/site_perl/5.19.11/i686-linux-thread-multi-64int/Class/MOP/Method/Wrapped.pm line 163
	Class::MOP::Method::Wrapped::__ANON__(TestApp::View::Email::Template=HASH(0xb87c698), TestApp=HASH(0xb977cf8)) called at /home/c/perl5/perlbrew/perls/5.19.11i/lib/site_perl/5.19.11/i686-linux-thread-multi-64int/Class/MOP/Method/Wrapped.pm line 92
	Catalyst::View::Email::Template::process(TestApp::View::Email::Template=HASH(0xb87c698), TestApp=HASH(0xb977cf8)) called at /home/c/perl5/perlbrew/perls/5.19.11i/lib/site_perl/5.19.11/Catalyst/Action.pm line 65
	Catalyst::Action::execute(Catalyst::Action=HASH(0xb9b4e88), TestApp::View::Email::Template=HASH(0xb87c698), TestApp=HASH(0xb977cf8)) called at /home/c/perl5/perlbrew/perls/5.19.11i/lib/site_perl/5.19.11/Catalyst.pm line 1734
	eval {...} called at /home/c/perl5/perlbrew/perls/5.19.11i/lib/site_perl/5.19.11/Catalyst.pm line 1734
	Catalyst::execute(TestApp=HASH(0xb977cf8), "TestApp::View::Email::Template", Catalyst::Action=HASH(0xb9b4e88)) called at /home/c/perl5/perlbrew/perls/5.19.11i/lib/site_perl/5.19.11/Catalyst/Action.pm line 60
	Catalyst::Action::dispatch(Catalyst::Action=HASH(0xb9b4e88), TestApp=HASH(0xb977cf8)) called at /home/c/perl5/perlbrew/perls/5.19.11i/lib/site_perl/5.19.11/Catalyst/Dispatcher.pm line 258
	Catalyst::Dispatcher::_do_forward(Catalyst::Dispatcher=HASH(0xb5ae884), "forward", TestApp=HASH(0xb977cf8), "TestApp::View::Email::Template") called at /home/c/perl5/perlbrew/perls/5.19.11i/lib/site_perl/5.19.11/Catalyst/Dispatcher.pm line 238
	Catalyst::Dispatcher::forward(Catalyst::Dispatcher=HASH(0xb5ae884), TestApp=HASH(0xb977cf8), "TestApp::View::Email::Template") called at /home/c/perl5/perlbrew/perls/5.19.11i/lib/site_perl/5.19.11/Catalyst.pm line 397
	Catalyst::forward(TestApp=HASH(0xb977cf8), "TestApp::View::Email::Template") called at /home/c/.cpan/build/Catalyst-View-Email-0.33-1AUhsV/t/lib/TestApp/Controller/Root.pm line 81
	TestApp::Controller::Root::template_email(TestApp::Controller::Root=HASH(0xb87ba2c), TestApp=HASH(0xb977cf8)) called at /home/c/perl5/perlbrew/perls/5.19.11i/lib/site_perl/5.19.11/Catalyst/Action.pm line 65
	Catalyst::Action::execute(Catalyst::Action=HASH(0xb94e4d0), TestApp::Controller::Root=HASH(0xb87ba2c), TestApp=HASH(0xb977cf8)) called at /home/c/perl5/perlbrew/perls/5.19.11i/lib/site_perl/5.19.11/Catalyst.pm line 1734
	eval {...} called at /home/c/perl5/perlbrew/perls/5.19.11i/lib/site_perl/5.19.11/Catalyst.pm line 1734
	Catalyst::execute(TestApp=HASH(0xb977cf8), "TestApp::Controller::Root", Catalyst::Action=HASH(0xb94e4d0)) called at /home/c/perl5/perlbrew/perls/5.19.11i/lib/site_perl/5.19.11/Catalyst/Action.pm line 60
	Catalyst::Action::dispatch(Catalyst::Action=HASH(0xb94e4d0), TestApp=HASH(0xb977cf8)) called at /home/c/perl5/perlbrew/perls/5.19.11i/lib/site_perl/5.19.11/Catalyst/Controller.pm line 161
	Catalyst::Controller::_ACTION(TestApp::Controller::Root=HASH(0xb87ba2c), TestApp=HASH(0xb977cf8)) called at /home/c/perl5/perlbrew/perls/5.19.11i/lib/site_perl/5.19.11/Catalyst/Action.pm line 65
	Catalyst::Action::execute(Catalyst::Action=HASH(0xb94cbbc), TestApp::Controller::Root=HASH(0xb87ba2c), TestApp=HASH(0xb977cf8)) called at /home/c/perl5/perlbrew/perls/5.19.11i/lib/site_perl/5.19.11/Catalyst.pm line 1734
	eval {...} called at /home/c/perl5/perlbrew/perls/5.19.11i/lib/site_perl/5.19.11/Catalyst.pm line 1734
	Catalyst::execute(TestApp=HASH(0xb977cf8), "TestApp::Controller::Root", Catalyst::Action=HASH(0xb94cbbc)) called at /home/c/perl5/perlbrew/perls/5.19.11i/lib/site_perl/5.19.11/Catalyst/Action.pm line 60
	Catalyst::Action::dispatch(Catalyst::Action=HASH(0xb94cbbc), TestApp=HASH(0xb977cf8)) called at /home/c/perl5/perlbrew/perls/5.19.11i/lib/site_perl/5.19.11/Catalyst/Dispatcher.pm line 258
	Catalyst::Dispatcher::_do_forward(Catalyst::Dispatcher=HASH(0xb5ae884), "forward", TestApp=HASH(0xb977cf8), "_ACTION") called at /home/c/perl5/perlbrew/perls/5.19.11i/lib/site_perl/5.19.11/Catalyst/Dispatcher.pm line 238
	Catalyst::Dispatcher::forward(Catalyst::Dispatcher=HASH(0xb5ae884), TestApp=HASH(0xb977cf8), "_ACTION") called at /home/c/perl5/perlbrew/perls/5.19.11i/lib/site_perl/5.19.11/Catalyst.pm line 397
	Catalyst::forward(TestApp=HASH(0xb977cf8), "_ACTION") called at /home/c/perl5/perlbrew/perls/5.19.11i/lib/site_perl/5.19.11/Catalyst/Controller.pm line 135
	Catalyst::Controller::_DISPATCH(TestApp::Controller::Root=HASH(0xb87ba2c), TestApp=HASH(0xb977cf8)) called at /home/c/perl5/perlbrew/perls/5.19.11i/lib/site_perl/5.19.11/Catalyst/Action.pm line 65
	Catalyst::Action::execute(Catalyst::Action=HASH(0xb946f84), TestApp::Controller::Root=HASH(0xb87ba2c), TestApp=HASH(0xb977cf8)) called at /home/c/perl5/perlbrew/perls/5.19.11i/lib/site_perl/5.19.11/Catalyst.pm line 1734
	eval {...} called at /home/c/perl5/perlbrew/perls/5.19.11i/lib/site_perl/5.19.11/Catalyst.pm line 1734
	Catalyst::execute(TestApp=HASH(0xb977cf8), "TestApp::Controller::Root", Catalyst::Action=HASH(0xb946f84)) called at /home/c/perl5/perlbrew/perls/5.19.11i/lib/site_perl/5.19.11/Catalyst/Action.pm line 60
	Catalyst::Action::dispatch(Catalyst::Action=HASH(0xb946f84), TestApp=HASH(0xb977cf8)) called at /home/c/perl5/perlbrew/perls/5.19.11i/lib/site_perl/5.19.11/Catalyst/Dispatcher.pm line 258
	Catalyst::Dispatcher::_do_forward(Catalyst::Dispatcher=HASH(0xb5ae884), "forward", TestApp=HASH(0xb977cf8), "/root/_DISPATCH") called at /home/c/perl5/perlbrew/perls/5.19.11i/lib/site_perl/5.19.11/Catalyst/Dispatcher.pm line 238
	Catalyst::Dispatcher::forward(Catalyst::Dispatcher=HASH(0xb5ae884), TestApp=HASH(0xb977cf8), "/root/_DISPATCH") called at /home/c/perl5/perlbrew/perls/5.19.11i/lib/site_perl/5.19.11/Catalyst.pm line 397
	Catalyst::forward(TestApp=HASH(0xb977cf8), "/root/_DISPATCH") called at /home/c/perl5/perlbrew/perls/5.19.11i/lib/site_perl/5.19.11/Catalyst/Dispatcher.pm line 107
	Catalyst::Dispatcher::dispatch(Catalyst::Dispatcher=HASH(0xb5ae884), TestApp=HASH(0xb977cf8)) called at /home/c/perl5/perlbrew/perls/5.19.11i/lib/site_perl/5.19.11/Catalyst.pm line 1680
	Catalyst::dispatch(TestApp=HASH(0xb977cf8)) called at /home/c/perl5/perlbrew/perls/5.19.11i/lib/site_perl/5.19.11/Catalyst.pm line 2015
	Catalyst::try {...} () called at /home/c/perl5/perlbrew/perls/5.19.11i/lib/site_perl/5.19.11/Try/Tiny.pm line 81
	eval {...} called at /home/c/perl5/perlbrew/perls/5.19.11i/lib/site_perl/5.19.11/Try/Tiny.pm line 72
	Try::Tiny::try(CODE(0xb977758), Try::Tiny::Catch=REF(0xb97762c)) called at /home/c/perl5/perlbrew/perls/5.19.11i/lib/site_perl/5.19.11/Catalyst.pm line 2024
	Catalyst::handle_request("TestApp", "env", HASH(0xb84c668), "response_cb", CODE(0xb977654)) called at /home/c/perl5/perlbrew/perls/5.19.11i/lib/site_perl/5.19.11/Catalyst/Engine.pm line 797
	Catalyst::Engine::__ANON__(CODE(0xb977654)) called at /home/c/perl5/perlbrew/perls/5.19.11i/lib/site_perl/5.19.11/Plack/Middleware/HTTPExceptions.pm line 32
	Plack::Middleware::HTTPExceptions::try {...} () called at /home/c/perl5/perlbrew/perls/5.19.11i/lib/site_perl/5.19.11/Try/Tiny.pm line 81
	eval {...} called at /home/c/perl5/perlbrew/perls/5.19.11i/lib/site_perl/5.19.11/Try/Tiny.pm line 72
	Try::Tiny::try(CODE(0xb977500), Try::Tiny::Catch=REF(0xb9aced0)) called at /home/c/perl5/perlbrew/perls/5.19.11i/lib/site_perl/5.19.11/Plack/Middleware/HTTPExceptions.pm line 41
	Plack::Middleware::HTTPExceptions::__ANON__(CODE(0xb977424)) called at /home/c/perl5/perlbrew/perls/5.19.11i/lib/site_perl/5.19.11/Plack/Util.pm line 301
	Plack::Util::__ANON__(CODE(0xb977348)) called at /home/c/perl5/perlbrew/perls/5.19.11i/lib/site_perl/5.19.11/Plack/Util.pm line 301
	Plack::Util::__ANON__(CODE(0xb97726c)) called at /home/c/perl5/perlbrew/perls/5.19.11i/lib/site_perl/5.19.11/Plack/Util.pm line 301
	Plack::Util::__ANON__(CODE(0xb9771f4)) called at /home/c/perl5/perlbrew/perls/5.19.11i/lib/site_perl/5.19.11/HTTP/Message/PSGI.pm line 100
	HTTP::Message::PSGI::res_from_psgi(CODE(0xb9acdcc)) called at /home/c/perl5/perlbrew/perls/5.19.11i/lib/site_perl/5.19.11/HTTP/Message/PSGI.pm line 155
	HTTP::Response::from_psgi("HTTP::Response", CODE(0xb9acdcc)) called at /home/c/perl5/perlbrew/perls/5.19.11i/lib/site_perl/5.19.11/Plack/Test/MockHTTP.pm line 24
	Plack::Test::MockHTTP::try {...} () called at /home/c/perl5/perlbrew/perls/5.19.11i/lib/site_perl/5.19.11/Try/Tiny.pm line 79
	eval {...} called at /home/c/perl5/perlbrew/perls/5.19.11i/lib/site_perl/5.19.11/Try/Tiny.pm line 72
	Try::Tiny::try(CODE(0xb748260), Try::Tiny::Catch=REF(0xb93babc)) called at /home/c/perl5/perlbrew/perls/5.19.11i/lib/site_perl/5.19.11/Plack/Test/MockHTTP.pm line 27
	Plack::Test::MockHTTP::request(Plack::Test::MockHTTP=HASH(0xb95e8c4), HTTP::Request=HASH(0xb954060)) called at /home/c/perl5/perlbrew/perls/5.19.11i/lib/site_perl/5.19.11/Plack/Test.pm line 38
	Plack::Test::__ANON__(HTTP::Request=HASH(0xb954060)) called at /home/c/perl5/perlbrew/perls/5.19.11i/lib/site_perl/5.19.11/Catalyst/Test.pm line 281
	Catalyst::Test::__ANON__(CODE(0xb95e798)) called at /home/c/perl5/perlbrew/perls/5.19.11i/lib/site_perl/5.19.11/Plack/Test.pm line 38
	Plack::Test::test_psgi("mangle_response", CODE(0xafb7b00), "app", CODE(0xb953cc8), "app", CODE(0xb968f60), "client", CODE(0xb95e450)) called at /home/c/perl5/perlbrew/perls/5.19.11i/lib/site_perl/5.19.11/Catalyst/Test.pm line 284
	Catalyst::Test::_request(HASH(0x99be1a0), "/template_email?time=1398446388") called at /home/c/perl5/perlbrew/perls/5.19.11i/lib/site_perl/5.19.11/Catalyst/Test.pm line 327
	Catalyst::Test::_local_request("TestApp", "/template_email?time=1398446388") called at /home/c/perl5/perlbrew/perls/5.19.11i/lib/site_perl/5.19.11/Catalyst/Test.pm line 32
	Catalyst::Test::__ANON__("/template_email?time=1398446388") called at t/05template.t line 18
t/05template.t .. ok
require TestApp::View::Mason was successful but the package is not defined. at /home/c/perl5/perlbrew/perls/5.19.11i/lib/site_perl/5.19.11/Catalyst/Utils.pm line 314.
Class::MOP::load_class is deprecated at /home/c/perl5/perlbrew/perls/5.19.11i/lib/site_perl/5.19.11/i686-linux-thread-multi-64int/Class/MOP.pm line 73.
	Class::MOP::load_class("Email::Sender::Transport::Test") called at /home/c/.cpan/build/Catalyst-View-Email-0.33-1AUhsV/blib/lib/Catalyst/View/Email.pm line 226
	Catalyst::View::Email::_build_mailer_obj(TestApp::View::Email::AppConfig=HASH(0xa65fabc)) called at accessor Catalyst::View::Email::_mailer_obj (defined at /home/c/.cpan/build/Catalyst-View-Email-0.33-1AUhsV/blib/lib/Catalyst/View/Email.pm line 21) line 11
	Catalyst::View::Email::_mailer_obj(TestApp::View::Email::AppConfig=HASH(0xa65fabc)) called at /home/c/.cpan/build/Catalyst-View-Email-0.33-1AUhsV/blib/lib/Catalyst/View/Email.pm line 299
	Catalyst::View::Email::process(TestApp::View::Email::AppConfig=HASH(0xa65fabc), TestApp=HASH(0xa740c58)) called at /home/c/perl5/perlbrew/perls/5.19.11i/lib/site_perl/5.19.11/Catalyst/Action.pm line 65
	Catalyst::Action::execute(Catalyst::Action=HASH(0xa77be50), TestApp::View::Email::AppConfig=HASH(0xa65fabc), TestApp=HASH(0xa740c58)) called at /home/c/perl5/perlbrew/perls/5.19.11i/lib/site_perl/5.19.11/Catalyst.pm line 1734
	eval {...} called at /home/c/perl5/perlbrew/perls/5.19.11i/lib/site_perl/5.19.11/Catalyst.pm line 1734
	Catalyst::execute(TestApp=HASH(0xa740c58), "TestApp::View::Email::AppConfig", Catalyst::Action=HASH(0xa77be50)) called at /home/c/perl5/perlbrew/perls/5.19.11i/lib/site_perl/5.19.11/Catalyst/Action.pm line 60
	Catalyst::Action::dispatch(Catalyst::Action=HASH(0xa77be50), TestApp=HASH(0xa740c58)) called at /home/c/perl5/perlbrew/perls/5.19.11i/lib/site_perl/5.19.11/Catalyst/Dispatcher.pm line 258
	Catalyst::Dispatcher::_do_forward(Catalyst::Dispatcher=HASH(0xa205490), "forward", TestApp=HASH(0xa740c58), "TestApp::View::Email::AppConfig") called at /home/c/perl5/perlbrew/perls/5.19.11i/lib/site_perl/5.19.11/Catalyst/Dispatcher.pm line 238
	Catalyst::Dispatcher::forward(Catalyst::Dispatcher=HASH(0xa205490), TestApp=HASH(0xa740c58), "TestApp::View::Email::AppConfig") called at /home/c/perl5/perlbrew/perls/5.19.11i/lib/site_perl/5.19.11/Catalyst.pm line 397
	Catalyst::forward(TestApp=HASH(0xa740c58), "TestApp::View::Email::AppConfig") called at /home/c/.cpan/build/Catalyst-View-Email-0.33-1AUhsV/t/lib/TestApp/Controller/Root.pm line 48
	TestApp::Controller::Root::email_app_config(TestApp::Controller::Root=HASH(0xa65f094), TestApp=HASH(0xa740c58)) called at /home/c/perl5/perlbrew/perls/5.19.11i/lib/site_perl/5.19.11/Catalyst/Action.pm line 65
	Catalyst::Action::execute(Catalyst::Action=HASH(0xa714c8c), TestApp::Controller::Root=HASH(0xa65f094), TestApp=HASH(0xa740c58)) called at /home/c/perl5/perlbrew/perls/5.19.11i/lib/site_perl/5.19.11/Catalyst.pm line 1734
	eval {...} called at /home/c/perl5/perlbrew/perls/5.19.11i/lib/site_perl/5.19.11/Catalyst.pm line 1734
	Catalyst::execute(TestApp=HASH(0xa740c58), "TestApp::Controller::Root", Catalyst::Action=HASH(0xa714c8c)) called at /home/c/perl5/perlbrew/perls/5.19.11i/lib/site_perl/5.19.11/Catalyst/Action.pm line 60
	Catalyst::Action::dispatch(Catalyst::Action=HASH(0xa714c8c), TestApp=HASH(0xa740c58)) called at /home/c/perl5/perlbrew/perls/5.19.11i/lib/site_perl/5.19.11/Catalyst/Controller.pm line 161
	Catalyst::Controller::_ACTION(TestApp::Controller::Root=HASH(0xa65f094), TestApp=HASH(0xa740c58)) called at /home/c/perl5/perlbrew/perls/5.19.11i/lib/site_perl/5.19.11/Catalyst/Action.pm line 65
	Catalyst::Action::execute(Catalyst::Action=HASH(0xa7144a8), TestApp::Controller::Root=HASH(0xa65f094), TestApp=HASH(0xa740c58)) called at /home/c/perl5/perlbrew/perls/5.19.11i/lib/site_perl/5.19.11/Catalyst.pm line 1734
	eval {...} called at /home/c/perl5/perlbrew/perls/5.19.11i/lib/site_perl/5.19.11/Catalyst.pm line 1734
	Catalyst::execute(TestApp=HASH(0xa740c58), "TestApp::Controller::Root", Catalyst::Action=HASH(0xa7144a8)) called at /home/c/perl5/perlbrew/perls/5.19.11i/lib/site_perl/5.19.11/Catalyst/Action.pm line 60
	Catalyst::Action::dispatch(Catalyst::Action=HASH(0xa7144a8), TestApp=HASH(0xa740c58)) called at /home/c/perl5/perlbrew/perls/5.19.11i/lib/site_perl/5.19.11/Catalyst/Dispatcher.pm line 258
	Catalyst::Dispatcher::_do_forward(Catalyst::Dispatcher=HASH(0xa205490), "forward", TestApp=HASH(0xa740c58), "_ACTION") called at /home/c/perl5/perlbrew/perls/5.19.11i/lib/site_perl/5.19.11/Catalyst/Dispatcher.pm line 238
	Catalyst::Dispatcher::forward(Catalyst::Dispatcher=HASH(0xa205490), TestApp=HASH(0xa740c58), "_ACTION") called at /home/c/perl5/perlbrew/perls/5.19.11i/lib/site_perl/5.19.11/Catalyst.pm line 397
	Catalyst::forward(TestApp=HASH(0xa740c58), "_ACTION") called at /home/c/perl5/perlbrew/perls/5.19.11i/lib/site_perl/5.19.11/Catalyst/Controller.pm line 135
	Catalyst::Controller::_DISPATCH(TestApp::Controller::Root=HASH(0xa65f094), TestApp=HASH(0xa740c58)) called at /home/c/perl5/perlbrew/perls/5.19.11i/lib/site_perl/5.19.11/Catalyst/Action.pm line 65
	Catalyst::Action::execute(Catalyst::Action=HASH(0xa71132c), TestApp::Controller::Root=HASH(0xa65f094), TestApp=HASH(0xa740c58)) called at /home/c/perl5/perlbrew/perls/5.19.11i/lib/site_perl/5.19.11/Catalyst.pm line 1734
	eval {...} called at /home/c/perl5/perlbrew/perls/5.19.11i/lib/site_perl/5.19.11/Catalyst.pm line 1734
	Catalyst::execute(TestApp=HASH(0xa740c58), "TestApp::Controller::Root", Catalyst::Action=HASH(0xa71132c)) called at /home/c/perl5/perlbrew/perls/5.19.11i/lib/site_perl/5.19.11/Catalyst/Action.pm line 60
	Catalyst::Action::dispatch(Catalyst::Action=HASH(0xa71132c), TestApp=HASH(0xa740c58)) called at /home/c/perl5/perlbrew/perls/5.19.11i/lib/site_perl/5.19.11/Catalyst/Dispatcher.pm line 258
	Catalyst::Dispatcher::_do_forward(Catalyst::Dispatcher=HASH(0xa205490), "forward", TestApp=HASH(0xa740c58), "/root/_DISPATCH") called at /home/c/perl5/perlbrew/perls/5.19.11i/lib/site_perl/5.19.11/Catalyst/Dispatcher.pm line 238
	Catalyst::Dispatcher::forward(Catalyst::Dispatcher=HASH(0xa205490), TestApp=HASH(0xa740c58), "/root/_DISPATCH") called at /home/c/perl5/perlbrew/perls/5.19.11i/lib/site_perl/5.19.11/Catalyst.pm line 397
	Catalyst::forward(TestApp=HASH(0xa740c58), "/root/_DISPATCH") called at /home/c/perl5/perlbrew/perls/5.19.11i/lib/site_perl/5.19.11/Catalyst/Dispatcher.pm line 107
	Catalyst::Dispatcher::dispatch(Catalyst::Dispatcher=HASH(0xa205490), TestApp=HASH(0xa740c58)) called at /home/c/perl5/perlbrew/perls/5.19.11i/lib/site_perl/5.19.11/Catalyst.pm line 1680
	Catalyst::dispatch(TestApp=HASH(0xa740c58)) called at /home/c/perl5/perlbrew/perls/5.19.11i/lib/site_perl/5.19.11/Catalyst.pm line 2015
	Catalyst::try {...} () called at /home/c/perl5/perlbrew/perls/5.19.11i/lib/site_perl/5.19.11/Try/Tiny.pm line 81
	eval {...} called at /home/c/perl5/perlbrew/perls/5.19.11i/lib/site_perl/5.19.11/Try/Tiny.pm line 72
	Try::Tiny::try(CODE(0xa7406b8), Try::Tiny::Catch=REF(0xa74058c)) called at /home/c/perl5/perlbrew/perls/5.19.11i/lib/site_perl/5.19.11/Catalyst.pm line 2024
	Catalyst::handle_request("TestApp", "env", HASH(0xa60f2a4), "response_cb", CODE(0xa7405b4)) called at /home/c/perl5/perlbrew/perls/5.19.11i/lib/site_perl/5.19.11/Catalyst/Engine.pm line 797
	Catalyst::Engine::__ANON__(CODE(0xa7405b4)) called at /home/c/perl5/perlbrew/perls/5.19.11i/lib/site_perl/5.19.11/Plack/Middleware/HTTPExceptions.pm line 32
	Plack::Middleware::HTTPExceptions::try {...} () called at /home/c/perl5/perlbrew/perls/5.19.11i/lib/site_perl/5.19.11/Try/Tiny.pm line 81
	eval {...} called at /home/c/perl5/perlbrew/perls/5.19.11i/lib/site_perl/5.19.11/Try/Tiny.pm line 72
	Try::Tiny::try(CODE(0xa740460), Try::Tiny::Catch=REF(0xa777978)) called at /home/c/perl5/perlbrew/perls/5.19.11i/lib/site_perl/5.19.11/Plack/Middleware/HTTPExceptions.pm line 41
	Plack::Middleware::HTTPExceptions::__ANON__(CODE(0xa740384)) called at /home/c/perl5/perlbrew/perls/5.19.11i/lib/site_perl/5.19.11/Plack/Util.pm line 301
	Plack::Util::__ANON__(CODE(0xa7402a8)) called at /home/c/perl5/perlbrew/perls/5.19.11i/lib/site_perl/5.19.11/Plack/Util.pm line 301
	Plack::Util::__ANON__(CODE(0xa7401cc)) called at /home/c/perl5/perlbrew/perls/5.19.11i/lib/site_perl/5.19.11/Plack/Util.pm line 301
	Plack::Util::__ANON__(CODE(0xa740154)) called at /home/c/perl5/perlbrew/perls/5.19.11i/lib/site_perl/5.19.11/HTTP/Message/PSGI.pm line 100
	HTTP::Message::PSGI::res_from_psgi(CODE(0xa777874)) called at /home/c/perl5/perlbrew/perls/5.19.11i/lib/site_perl/5.19.11/HTTP/Message/PSGI.pm line 155
	HTTP::Response::from_psgi("HTTP::Response", CODE(0xa777874)) called at /home/c/perl5/perlbrew/perls/5.19.11i/lib/site_perl/5.19.11/Plack/Test/MockHTTP.pm line 24
	Plack::Test::MockHTTP::try {...} () called at /home/c/perl5/perlbrew/perls/5.19.11i/lib/site_perl/5.19.11/Try/Tiny.pm line 79
	eval {...} called at /home/c/perl5/perlbrew/perls/5.19.11i/lib/site_perl/5.19.11/Try/Tiny.pm line 72
	Try::Tiny::try(CODE(0xa5100a8), Try::Tiny::Catch=REF(0xa6452b4)) called at /home/c/perl5/perlbrew/perls/5.19.11i/lib/site_perl/5.19.11/Plack/Test/MockHTTP.pm line 27
	Plack::Test::MockHTTP::request(Plack::Test::MockHTTP=HASH(0xa726a14), HTTP::Request=HASH(0xa7189a8)) called at /home/c/perl5/perlbrew/perls/5.19.11i/lib/site_perl/5.19.11/Plack/Test.pm line 38
	Plack::Test::__ANON__(HTTP::Request=HASH(0xa7189a8)) called at /home/c/perl5/perlbrew/perls/5.19.11i/lib/site_perl/5.19.11/Catalyst/Test.pm line 281
	Catalyst::Test::__ANON__(CODE(0xa7268d4)) called at /home/c/perl5/perlbrew/perls/5.19.11i/lib/site_perl/5.19.11/Plack/Test.pm line 38
	Plack::Test::test_psgi("app", CODE(0xa718610), "mangle_response", CODE(0x9d70b38), "app", CODE(0xa7317e8), "client", CODE(0xa7265a0)) called at /home/c/perl5/perlbrew/perls/5.19.11i/lib/site_perl/5.19.11/Catalyst/Test.pm line 284
	Catalyst::Test::_request(HASH(0x87871a0), "/email_app_config?time=1398446389") called at /home/c/perl5/perlbrew/perls/5.19.11i/lib/site_perl/5.19.11/Catalyst/Test.pm line 327
	Catalyst::Test::_local_request("TestApp", "/email_app_config?time=1398446389") called at /home/c/perl5/perlbrew/perls/5.19.11i/lib/site_perl/5.19.11/Catalyst/Test.pm line 32
	Catalyst::Test::__ANON__("/email_app_config?time=1398446389") called at t/06config.t line 21
t/06config.t .... ok
t/07mason.t ..... skipped: Test requires module 'Catalyst::View::Mason' but it's not found
All tests successful.
Files=6, Tests=34,  6 wallclock secs ( 0.06 usr  0.04 sys +  3.77 cusr  0.39 csys =  4.26 CPU)
Result: PASS

------------------------------
PREREQUISITES
------------------------------

Prerequisite modules loaded:

requires:

    Module                Need     Have    
    --------------------- -------- --------
    Authen::SASL          2.13     2.16    
    Catalyst              5.7      5.90062 
    Email::MIME           1.859    1.926   
    Email::MIME::Creator  1.455    1.926   
    Email::Sender::Simple 0.100110 1.300011
    MIME::Base64          3.08     3.14    
    Moose                 0.93     2.1205  
    parent                0.223    0.228   
    Test::More            0.88     1.001002
    Test::Requires        0        0.07    

build_requires:

    Module                Need     Have    
    --------------------- -------- --------
    ExtUtils::MakeMaker   6.36     6.94    
    Test::More            0        1.001002
    Test::Requires        0        0.07    

configure_requires:

    Module                Need     Have    
    --------------------- -------- --------
    ExtUtils::MakeMaker   6.36     6.94    


------------------------------
ENVIRONMENT AND OTHER CONTEXT
------------------------------

Environment variables:

    AUTOMATED_TESTING = 1
    LANG = ru_RU.utf8
    PATH = /home/c/perl5/perlbrew/bin:/home/c/perl5/perlbrew/perls/5.19.11i/bin:/usr/local/bin:/usr/bin:/bin:/usr/local/games:/usr/games
    PERL5LIB = 
    PERL5OPT = 
    PERL5_CPANPLUS_IS_RUNNING = 28294
    PERL5_CPAN_IS_RUNNING = 28294
    PERL5_CPAN_IS_RUNNING_IN_RECURSION = 4212,28294
    PERLBREW_MANPATH = /home/c/perl5/perlbrew/perls/5.19.11i/man
    PERLBREW_PATH = /home/c/perl5/perlbrew/bin:/home/c/perl5/perlbrew/perls/5.19.11i/bin
    PERLBREW_PERL = 5.19.11i
    PERLBREW_ROOT = /home/c/perl5/perlbrew
    PERLBREW_SKIP_INIT = 1
    PERLBREW_VERSION = 0.67
    PERL_CR_SMOKER_CURRENT = MojoMojo
    PERL_EXTUTILS_AUTOINSTALL = --defaultdeps
    PERL_MM_USE_DEFAULT = 1
    SHELL = /bin/bash
    TERM = xterm

Perl special variables (and OS-specific diagnostics, for MSWin32):

    $^X = /home/c/perl5/perlbrew/perls/5.19.11i/bin/perl5.19.11
    $UID/$EUID = 1000 / 1000
    $GID = 1000 24 25 29 30 44 46 103 105 108 110 1000
    $EGID = 1000 24 25 29 30 44 46 103 105 108 110 1000

Perl module toolchain versions installed:

    Module              Have    
    ------------------- --------
    CPAN                2.05    
    CPAN::Meta          2.140640
    Cwd                 3.47    
    ExtUtils::CBuilder  0.280216
    ExtUtils::Command   1.18    
    ExtUtils::Install   1.67    
    ExtUtils::MakeMaker 6.94    
    ExtUtils::Manifest  1.63    
    ExtUtils::ParseXS   3.24    
    File::Spec          3.47    
    JSON                2.90    
    JSON::PP            2.27203 
    Module::Build       0.4205  
    Module::Signature   n/a     
    Parse::CPAN::Meta   1.4414  
    Test::Harness       3.30    
    Test::More          1.001002
    YAML                0.90    
    YAML::Syck          1.27    
    version             0.9908  


--

Summary of my perl5 (revision 5 version 19 subversion 11) configuration:
   
  Platform:
    osname=linux, osvers=3.2.0-4-486, archname=i686-linux-thread-multi-64int
    uname='linux deb7 3.2.0-4-486 #1 debian 3.2.51-1 i686 gnulinux '
    config_args='-de -Dprefix=/home/c/perl5/perlbrew/perls/5.19.11i -Dusethreads -Duse64bitint -Dusedevel -Aeval:scriptdir=/home/c/perl5/perlbrew/perls/5.19.11i/bin'
    hint=recommended, useposix=true, d_sigaction=define
    useithreads=define, usemultiplicity=define
    use64bitint=define, use64bitall=undef, uselongdouble=undef
    usemymalloc=n, bincompat5005=undef
  Compiler:
    cc='cc', ccflags ='-D_REENTRANT -D_GNU_SOURCE -fwrapv -fno-strict-aliasing -pipe -fstack-protector -I/usr/local/include -D_LARGEFILE_SOURCE -D_FILE_OFFSET_BITS=64',
    optimize='-O2',
    cppflags='-D_REENTRANT -D_GNU_SOURCE -fwrapv -fno-strict-aliasing -pipe -fstack-protector -I/usr/local/include'
    ccversion='', gccversion='4.7.2', gccosandvers=''
    intsize=4, longsize=4, ptrsize=4, doublesize=8, byteorder=12345678
    d_longlong=define, longlongsize=8, d_longdbl=define, longdblsize=12
    ivtype='long long', ivsize=8, nvtype='double', nvsize=8, Off_t='off_t', lseeksize=8
    alignbytes=4, prototype=define
  Linker and Libraries:
    ld='cc', ldflags =' -fstack-protector -L/usr/local/lib'
    libpth=/usr/local/lib /usr/lib/gcc/i486-linux-gnu/4.7/include-fixed /usr/include/i386-linux-gnu /usr/lib /lib/i386-linux-gnu /lib/../lib /usr/lib/i386-linux-gnu /usr/lib/../lib /lib
    libs=-lnsl -lgdbm -ldb -ldl -lm -lcrypt -lutil -lpthread -lc -lgdbm_compat
    perllibs=-lnsl -ldl -lm -lcrypt -lutil -lpthread -lc
    libc=, so=so, useshrplib=false, libperl=libperl.a
    gnulibc_version='2.13'
  Dynamic Linking:
    dlsrc=dl_dlopen.xs, dlext=so, d_dlsymun=undef, ccdlflags='-Wl,-E'
    cccdlflags='-fPIC', lddlflags='-shared -O2 -L/usr/local/lib -fstack-protector'


Characteristics of this binary (from libperl): 
  Compile-time options: HAS_TIMES MULTIPLICITY PERLIO_LAYERS
                        PERL_DONT_CREATE_GVSV
                        PERL_HASH_FUNC_ONE_AT_A_TIME_HARD
                        PERL_IMPLICIT_CONTEXT PERL_MALLOC_WRAP
                        PERL_NEW_COPY_ON_WRITE PERL_PRESERVE_IVUV
                        PERL_USE_DEVEL USE_64_BIT_INT USE_ITHREADS
                        USE_LARGE_FILES USE_LOCALE USE_LOCALE_COLLATE
                        USE_LOCALE_CTYPE USE_LOCALE_NUMERIC USE_PERLIO
                        USE_PERL_ATOF USE_REENTRANT_API
  Built under linux
  Compiled at Apr 25 2014 15:40:41
  %ENV:
    PERL5LIB=""
    PERL5OPT=""
    PERL5_CPANPLUS_IS_RUNNING="28294"
    PERL5_CPAN_IS_RUNNING="28294"
    PERL5_CPAN_IS_RUNNING_IN_RECURSION="4212,28294"
    PERLBREW_MANPATH="/home/c/perl5/perlbrew/perls/5.19.11i/man"
    PERLBREW_PATH="/home/c/perl5/perlbrew/bin:/home/c/perl5/perlbrew/perls/5.19.11i/bin"
    PERLBREW_PERL="5.19.11i"
    PERLBREW_ROOT="/home/c/perl5/perlbrew"
    PERLBREW_SKIP_INIT="1"
    PERLBREW_VERSION="0.67"
    PERL_CR_SMOKER_CURRENT="MojoMojo"
    PERL_EXTUTILS_AUTOINSTALL="--defaultdeps"
    PERL_MM_USE_DEFAULT="1"
  @INC:
    /home/c/perl5/perlbrew/perls/5.19.11i/lib/site_perl/5.19.11/i686-linux-thread-multi-64int
    /home/c/perl5/perlbrew/perls/5.19.11i/lib/site_perl/5.19.11
    /home/c/perl5/perlbrew/perls/5.19.11i/lib/5.19.11/i686-linux-thread-multi-64int
    /home/c/perl5/perlbrew/perls/5.19.11i/lib/5.19.11
    .