Perl-Critic v1.140 Perl 5 v5.32.1 i86pc-solaris
- Status
- Pass
- From
- Nigel Horne
- Dist
-
Perl-Critic v1.140
- Platform
- Perl 5 v5.32.1 i86pc-solaris
- Date
- 2021-04-07 17:43:50
- ID
- cfee2c7c-97c8-11eb-9a71-bcc68a8b0fec
This distribution has been tested as part of the CPAN Testers
project, supporting the Perl programming language. See
http://wiki.cpantesters.org/ for more information or email
questions to cpan-testers-discuss@perl.org
--
Dear Andy Lester,
This is a computer-generated report for Perl-Critic-1.140
on perl 5.32.1, created by CPAN-Reporter-1.2018.
Thank you for uploading your work to CPAN. Congratulations!
All tests were successful.
Sections of this report:
* Tester comments
* Program output
* Prerequisites
* Environment and other context
------------------------------
TESTER COMMENTS
------------------------------
Additional comments from tester:
none provided
------------------------------
PROGRAM OUTPUT
------------------------------
Output from './Build test':
# Testing Perl::Critic 1.140 with PPI 1.270 under Perl 5.032001, /export/home/njh/perl5/perlbrew/perls/perl-5.32.1/bin/perl
t/00_modules.t ................................ ok
t/00_versions.t ............................... ok
t/01_config.t ................................. ok
t/01_config_bad_perlcriticrc.t ................ ok
t/01_policy_config.t .......................... ok
t/02_policy.t ................................. ok
t/03_annotations.t ............................ ok
t/03_pragmas.t ................................ ok
t/04_options_processor.t ...................... ok
t/05_utils.t .................................. ok
t/05_utils_perl.t ............................. ok
t/05_utils_pod.t .............................. ok
t/05_utils_ppi.t .............................. ok
t/06_violation.t .............................. ok
t/07_command.t ................................ ok
t/07_perlcritic.t ............................. ok
t/08_document.t ............................... ok
t/09_theme.t .................................. ok
t/10_user_profile.t ........................... ok
t/11_policy_factory.t ......................... ok
t/12_policy_listing.t ......................... ok
t/12_theme_listing.t .......................... ok
t/13_bundled_policies.t ....................... ok
t/14_policy_parameter_behavior_boolean.t ...... ok
t/14_policy_parameter_behavior_enumeration.t .. ok
t/14_policy_parameter_behavior_integer.t ...... ok
t/14_policy_parameter_behavior_list_string.t .. ok
t/14_policy_parameter_behavior_string.t ....... ok
t/14_policy_parameters.t ...................... ok
t/15_statistics.t ............................. ok
t/16_roundtrip_defaults.t ..................... ok
t/20_policies.t ............................... ok
t/20_policy_pod_spelling.t .................... ok
t/20_policy_prohibit_evil_modules.t ........... ok
t/20_policy_prohibit_hard_tabs.t .............. ok
t/20_policy_prohibit_trailing_whitespace.t .... ok
t/20_policy_require_consistent_newlines.t ..... ok
t/20_policy_require_tidy_code.t ............... ok
t/92_memory_leaks.t ........................... skipped: Test::Memory::Cycle required to test memory leaks
t/gh-734.t .................................... ok
All tests successful.
Files=40, Tests=8072, 74 wallclock secs ( 1.07 usr 0.19 sys + 66.50 cusr 5.45 csys = 73.21 CPU)
Result: PASS
------------------------------
PREREQUISITES
------------------------------
Prerequisite modules loaded:
requires:
Module Need Have
-------------------------- -------- --------
B::Keywords 1.05 1.22
base 0 2.27
Carp 0 1.50
charnames 0 1.48
Config::Tiny 2 2.26
English 0 1.11
Exception::Class 1.23 1.44
Exporter 5.63 5.74
Fatal 0 2.34
File::Basename 0 2.85
File::Find 0 1.37
File::Path 0 2.18
File::Spec 0 3.78
File::Spec::Unix 0 3.78
File::Temp 0 0.2311
File::Which 0 1.24
Getopt::Long 0 2.52
IO::String 0 1.08
IPC::Open2 1 1.05
List::MoreUtils 0.19 0.430
List::Util 0 1.55
Module::Build 0.4204 0.4231
Module::Pluggable 3.1 5.2
overload 0 1.31
perl 5.006001 5.032001
Perl::Tidy 0 20210402
Pod::Parser 0 1.63
Pod::PlainText 0 2.07
Pod::Select 0 1.63
Pod::Spell 1 1.20
Pod::Usage 0 2.01
PPI 1.265 1.270
PPI::Document 1.265 1.270
PPI::Document::File 1.265 1.270
PPI::Node 1.265 1.270
PPI::Token::Quote::Single 1.265 1.270
PPI::Token::Whitespace 1.265 1.270
PPIx::QuoteLike 0 0.015
PPIx::Regexp 0.027 0.078
PPIx::Regexp::Util 0.068 0.078
PPIx::Utilities::Node 1.001 1.001000
PPIx::Utilities::Statement 1.001 1.001000
Readonly 2 2.05
Scalar::Util 0 1.55
strict 0 1.11
String::Format 1.18 1.18
Task::Weaken 0 1.06
Term::ANSIColor 2.02 5.01
Test::Builder 0.92 1.302183
Text::ParseWords 3 3.30
version 0.77 0.9928
warnings 0 1.47
build_requires:
Module Need Have
-------------------------- -------- --------
lib 0 0.65
Test::Deep 0 1.130
Test::More 0 1.302183
configure_requires:
Module Need Have
-------------------------- -------- --------
Module::Build 0.4204 0.4231
------------------------------
ENVIRONMENT AND OTHER CONTEXT
------------------------------
Environment variables:
LANG = en_US.UTF-8
NONINTERACTIVE_TESTING = 1
PATH = /export/home/njh/perl5/perlbrew/bin:/export/home/njh/perl5/perlbrew/perls/perl-5.32.1/bin:/usr/bin:/usr/sbin:/sbin:/usr/gnu/bin
PERL5LIB =
PERL5OPT =
PERL5_CPANPLUS_IS_RUNNING = 9724
PERL5_CPAN_IS_RUNNING = 9724
PERLBREW_HOME = /export/home/njh/.perlbrew
PERLBREW_MANPATH = /export/home/njh/perl5/perlbrew/perls/perl-5.32.1/man
PERLBREW_PATH = /export/home/njh/perl5/perlbrew/bin:/export/home/njh/perl5/perlbrew/perls/perl-5.32.1/bin
PERLBREW_PERL = perl-5.32.1
PERLBREW_ROOT = /export/home/njh/perl5/perlbrew
PERLBREW_SHELLRC_VERSION = 0.91
PERLBREW_VERSION = 0.91
PERL_MM_USE_DEFAULT = 1
PERL_USE_UNSAFE_INC = 1
SHELL = /bin/bash
TERM = xterm-256color
Perl special variables (and OS-specific diagnostics, for MSWin32):
$^X = /export/home/njh/perl5/perlbrew/perls/perl-5.32.1/bin/perl
$UID/$EUID = 101 / 101
$GID = 10 10
$EGID = 10 10
Perl module toolchain versions installed:
Module Have
------------------- --------
CPAN 2.28
CPAN::Meta 2.150010
Cwd 3.78
ExtUtils::CBuilder 0.280236
ExtUtils::Command 7.60
ExtUtils::Install 2.20
ExtUtils::MakeMaker 7.60
ExtUtils::Manifest 1.73
ExtUtils::ParseXS 3.40
File::Spec 3.78
JSON 4.03
JSON::PP 4.06
Module::Build 0.4231
Module::Signature 0.87
Parse::CPAN::Meta 2.150010
Test::Harness 3.42
Test::More 1.302183
YAML 1.30
YAML::Syck 1.34
version 0.9928
--
Summary of my perl5 (revision 5 version 32 subversion 1) configuration:
Platform:
osname=solaris
osvers=2.11
archname=i86pc-solaris
uname='sunos njh1 5.11 illumos-06524cf4e4 i86pc i386 i86pc '
config_args='-de -Dprefix=/export/home/njh/perl5/perlbrew/perls/perl-5.32.1 -Aeval:scriptdir=/export/home/njh/perl5/perlbrew/perls/perl-5.32.1/bin'
hint=recommended
useposix=true
d_sigaction=define
useithreads=undef
usemultiplicity=undef
use64bitint=undef
use64bitall=undef
uselongdouble=undef
usemymalloc=n
default_inc_excludes_dot=define
bincompat5005=undef
Compiler:
cc='cc'
ccflags ='-fwrapv -fno-strict-aliasing -pipe -fstack-protector-strong -I/usr/gnu/include -D_LARGEFILE_SOURCE -D_FILE_OFFSET_BITS=64 -D_FORTIFY_SOURCE=2 -DPERL_USE_SAFE_PUTENV'
optimize='-O'
cppflags='-fwrapv -fno-strict-aliasing -pipe -fstack-protector-strong -I/usr/gnu/include'
ccversion=''
gccversion='7.5.0'
gccosandvers=''
intsize=4
longsize=4
ptrsize=4
doublesize=8
byteorder=1234
doublekind=3
d_longlong=define
longlongsize=8
d_longdbl=define
longdblsize=12
longdblkind=3
ivtype='long'
ivsize=4
nvtype='double'
nvsize=8
Off_t='off_t'
lseeksize=8
alignbytes=4
prototype=define
Linker and Libraries:
ld='cc'
ldflags =' -fstack-protector-strong -L/usr/gnu/lib '
libpth=/usr/gcc/7/lib /usr/lib /usr/gnu/lib /usr/ccs/lib
libs=-lpthread -lsocket -lnsl -lgdbm -ldb -ldl -lm -lc
perllibs=-lpthread -lsocket -lnsl -ldl -lm -lc
libc=/lib/libc.so
so=so
useshrplib=true
libperl=libperl.so
gnulibc_version=''
Dynamic Linking:
dlsrc=dl_dlopen.xs
dlext=so
d_dlsymun=undef
ccdlflags=' -R /export/home/njh/perl5/perlbrew/perls/perl-5.32.1/lib/5.32.1/i86pc-solaris/CORE'
cccdlflags='-fPIC'
lddlflags='-shared -L/usr/gnu/lib -fstack-protector-strong'
Characteristics of this binary (from libperl):
Compile-time options:
HAS_TIMES
PERLIO_LAYERS
PERL_COPY_ON_WRITE
PERL_DONT_CREATE_GVSV
PERL_MALLOC_WRAP
PERL_OP_PARENT
PERL_PRESERVE_IVUV
PERL_USE_SAFE_PUTENV
USE_LARGE_FILES
USE_LOCALE
USE_LOCALE_COLLATE
USE_LOCALE_CTYPE
USE_LOCALE_NUMERIC
USE_LOCALE_TIME
USE_PERLIO
USE_PERL_ATOF
Locally applied patches:
Devel::PatchPerl 2.06
Built under solaris
Compiled at Feb 2 2021 13:14:02
%ENV:
PERL5LIB=""
PERL5OPT=""
PERL5_CPANPLUS_IS_RUNNING="9724"
PERL5_CPAN_IS_RUNNING="9724"
PERLBREW_HOME="/export/home/njh/.perlbrew"
PERLBREW_MANPATH="/export/home/njh/perl5/perlbrew/perls/perl-5.32.1/man"
PERLBREW_PATH="/export/home/njh/perl5/perlbrew/bin:/export/home/njh/perl5/perlbrew/perls/perl-5.32.1/bin"
PERLBREW_PERL="perl-5.32.1"
PERLBREW_ROOT="/export/home/njh/perl5/perlbrew"
PERLBREW_SHELLRC_VERSION="0.91"
PERLBREW_VERSION="0.91"
PERL_MM_USE_DEFAULT="1"
PERL_USE_UNSAFE_INC="1"
@INC:
/export/home/njh/perl5/perlbrew/perls/perl-5.32.1/lib/site_perl/5.32.1/i86pc-solaris
/export/home/njh/perl5/perlbrew/perls/perl-5.32.1/lib/site_perl/5.32.1
/export/home/njh/perl5/perlbrew/perls/perl-5.32.1/lib/5.32.1/i86pc-solaris
/export/home/njh/perl5/perlbrew/perls/perl-5.32.1/lib/5.32.1
.