Template-Toolkit v3.101 Perl 5 v5.39.6 x86_64-linux-ld
- Status
- Pass
- From
- Andreas J. König (ANDK)
- Dist
-
Template-Toolkit v3.101
- Platform
- Perl 5 v5.39.6 x86_64-linux-ld
- Date
- 2024-01-11 09:57:21
- ID
- cfeeda18-b067-11ee-a6e5-c7d5fa2ac3d4
This distribution has been tested as part of the CPAN Testers
project, supporting the Perl programming language. See
http://wiki.cpantesters.org/ for more information or email
questions to cpan-testers-discuss@perl.org
--
Dear Andy Wardley,
This is a computer-generated report for Template-Toolkit-3.101
on perl 5.39.6, created by CPAN-Reporter-1.2019.
Thank you for uploading your work to CPAN. Congratulations!
All tests were successful.
Sections of this report:
* Tester comments
* Program output
* Prerequisites
* Environment and other context
------------------------------
TESTER COMMENTS
------------------------------
Additional comments from tester:
this report is from an automated smoke testing program
and was not reviewed by a human for accuracy
------------------------------
PROGRAM OUTPUT
------------------------------
Output from '/usr/bin/make test':
make[1]: Entering directory '/tmp/loop_over_bdir-2423-bWtvR2/Template-Toolkit-3.101-0/xs'
"/tmp/basesmoker-reloperl-5m_0/bin/perl" -MExtUtils::Command::MM -e 'cp_nonempty' -- XS.bs ../blib/arch/auto/Template/Stash/XS/XS.bs 644
make[1]: Leaving directory '/tmp/loop_over_bdir-2423-bWtvR2/Template-Toolkit-3.101-0/xs'
make[1]: Entering directory '/tmp/loop_over_bdir-2423-bWtvR2/Template-Toolkit-3.101-0/xs'
"/tmp/basesmoker-reloperl-5m_0/bin/perl" -MExtUtils::Command::MM -e 'cp_nonempty' -- XS.bs ../blib/arch/auto/Template/Stash/XS/XS.bs 644
No tests defined for Template::Stash::XS extension.
make[1]: Leaving directory '/tmp/loop_over_bdir-2423-bWtvR2/Template-Toolkit-3.101-0/xs'
PERL_DL_NONLAZY=1 "/tmp/basesmoker-reloperl-5m_0/bin/perl" "-MExtUtils::Command::MM" "-MTest::Harness" "-e" "undef *Test::Harness::Switches; test_harness(0, 'blib/lib', 'blib/arch')" t/anycase.t t/args.t t/assert.t t/base.t t/binop.t t/block.t t/block_duplicate.t t/blocks.t t/capture.t t/case.t t/chomp.t t/compile1.t t/compile2.t t/compile3.t t/compile4.t t/compile5.t t/config.t t/constants.t t/context.t t/datafile.t t/date.t t/date_offset.t t/date_utf8.t t/debug.t t/directive.t t/directry.t t/document.t t/dumper.t t/error.t t/evalperl.t t/exception.t t/factory.t t/file.t t/fileline.t t/filter.t t/foreach.t t/format.t t/html.t t/image.t t/include.t t/iterator.t t/leak.t t/list.t t/macro.t t/math.t t/math_rand.t t/mtime-zero.t t/object.t t/outline.t t/output.t t/parser.t t/parser2.t t/plugins.t t/plusfile.t t/pod.t t/prefix.t t/proc.t t/process-relative.t t/process.t t/process_dir.t t/provider.t t/ref.t t/scalar.t t/service.t t/skel.t t/stash-xs-unicode.t t/stash-xs.t t/stash.t t/stashc.t t/stop.t t/strcat.t t/strict.t t/string.t t/switch.t t/table.t t/tags.t t/template.t t/text.t t/throw.t t/tiedhash.t t/trace_vars.t t/try.t t/unicode.t t/url.t t/vars.t t/varsv1.t t/view.t t/while.t t/wrap.t t/wrapper.t t/zz-plugin-cycle.t t/zz-plugin-leak-gh-213.t t/zz-plugin-leak-rt-46691.t t/zz-plugin-leak.t t/zz-pmv.t t/zz-pod-coverage.t t/zz-pod-kwalitee.t t/zz-stash-xs-leak.t t/zz-url2.t t/vmethods/hash.t t/vmethods/list.t t/vmethods/replace.t t/vmethods/text.t
Attempt to call undefined import method with arguments (":template") via package "Template" (Perhaps you forgot to load the package?) at lib/Template/Test.pm line 26.
t/compile1.t ................. ok
Attempt to call undefined import method with arguments (":template") via package "Template" (Perhaps you forgot to load the package?) at lib/Template/Test.pm line 26.
t/compile2.t ................. ok
Attempt to call undefined import method with arguments (":template") via package "Template" (Perhaps you forgot to load the package?) at lib/Template/Test.pm line 26.
t/compile3.t ................. ok
Attempt to call undefined import method with arguments (":template") via package "Template" (Perhaps you forgot to load the package?) at lib/Template/Test.pm line 26.
t/compile4.t ................. ok
Attempt to call undefined import method with arguments (":template") via package "Template" (Perhaps you forgot to load the package?) at lib/Template/Test.pm line 26.
t/compile5.t ................. ok
Attempt to call undefined import method with arguments (":template") via package "Template" (Perhaps you forgot to load the package?) at lib/Template/Test.pm line 26.
t/anycase.t .................. ok
Attempt to call undefined import method with arguments (":template") via package "Template" (Perhaps you forgot to load the package?) at lib/Template/Test.pm line 26.
t/args.t ..................... ok
Attempt to call undefined import method with arguments (":template") via package "Template" (Perhaps you forgot to load the package?) at lib/Template/Test.pm line 26.
t/assert.t ................... ok
Attempt to call undefined import method with arguments (":template") via package "Template" (Perhaps you forgot to load the package?) at lib/Template/Test.pm line 26.
t/base.t ..................... ok
Attempt to call undefined import method with arguments (":template") via package "Template" (Perhaps you forgot to load the package?) at /tmp/loop_over_bdir-2423-bWtvR2/Template-Toolkit-3.101-0/blib/lib/Template/Test.pm line 26.
t/binop.t .................... ok
Attempt to call undefined import method with arguments (":template") via package "Template" (Perhaps you forgot to load the package?) at lib/Template/Test.pm line 26.
t/block.t .................... ok
t/block_duplicate.t .......... ok
Attempt to call undefined import method with arguments (":template") via package "Template" (Perhaps you forgot to load the package?) at lib/Template/Test.pm line 26.
t/blocks.t ................... ok
Attempt to call undefined import method with arguments (":template") via package "Template" (Perhaps you forgot to load the package?) at lib/Template/Test.pm line 26.
t/capture.t .................. ok
Attempt to call undefined import method with arguments (":template") via package "Template" (Perhaps you forgot to load the package?) at lib/Template/Test.pm line 26.
t/case.t ..................... ok
Attempt to call undefined import method with arguments (":template") via package "Template" (Perhaps you forgot to load the package?) at lib/Template/Test.pm line 26.
t/chomp.t .................... ok
Attempt to call undefined import method with arguments (":template") via package "Template" (Perhaps you forgot to load the package?) at lib/Template/Test.pm line 26.
t/config.t ................... ok
Attempt to call undefined import method with arguments (":template") via package "Template" (Perhaps you forgot to load the package?) at lib/Template/Test.pm line 26.
t/constants.t ................ ok
Attempt to call undefined import method with arguments (":template") via package "Template" (Perhaps you forgot to load the package?) at lib/Template/Test.pm line 26.
t/context.t .................. ok
Attempt to call undefined import method with arguments (":status") via package "Template" (Perhaps you forgot to load the package?) at t/datafile.t line 21.
Attempt to call undefined import method with arguments (":template") via package "Template" (Perhaps you forgot to load the package?) at lib/Template/Test.pm line 26.
t/datafile.t ................. ok
Attempt to call undefined import method with arguments (":template") via package "Template" (Perhaps you forgot to load the package?) at lib/Template/Test.pm line 26.
t/date.t ..................... ok
Attempt to call undefined import method with arguments (":template") via package "Template" (Perhaps you forgot to load the package?) at lib/Template/Test.pm line 26.
t/date_offset.t .............. ok
Attempt to call undefined import method with arguments (":template") via package "Template" (Perhaps you forgot to load the package?) at lib/Template/Test.pm line 26.
t/date_utf8.t ................ skipped: Need to set env variable AUTHOR_TESTING=1
Attempt to call undefined import method with arguments (":template") via package "Template" (Perhaps you forgot to load the package?) at lib/Template/Test.pm line 26.
t/debug.t .................... ok
Attempt to call undefined import method with arguments (":template") via package "Template" (Perhaps you forgot to load the package?) at lib/Template/Test.pm line 26.
t/directive.t ................ ok
Attempt to call undefined import method with arguments (":template") via package "Template" (Perhaps you forgot to load the package?) at lib/Template/Test.pm line 26.
t/directry.t ................. ok
Attempt to call undefined import method with arguments (":template") via package "Template" (Perhaps you forgot to load the package?) at lib/Template/Test.pm line 26.
t/document.t ................. ok
Attempt to call undefined import method with arguments (":template") via package "Template" (Perhaps you forgot to load the package?) at lib/Template/Test.pm line 26.
t/dumper.t ................... ok
Attempt to call undefined import method with arguments (":template") via package "Template" (Perhaps you forgot to load the package?) at /tmp/loop_over_bdir-2423-bWtvR2/Template-Toolkit-3.101-0/blib/lib/Template/Test.pm line 26.
t/error.t .................... ok
Attempt to call undefined import method with arguments (":template") via package "Template" (Perhaps you forgot to load the package?) at lib/Template/Test.pm line 26.
t/evalperl.t ................. ok
Attempt to call undefined import method with arguments (":template") via package "Template" (Perhaps you forgot to load the package?) at lib/Template/Test.pm line 26.
t/exception.t ................ ok
Attempt to call undefined import method with arguments (":template") via package "Template" (Perhaps you forgot to load the package?) at lib/Template/Test.pm line 26.
t/factory.t .................. ok
Attempt to call undefined import method with arguments (":template") via package "Template" (Perhaps you forgot to load the package?) at lib/Template/Test.pm line 26.
t/file.t ..................... ok
Attempt to call undefined import method with arguments (":template") via package "Template" (Perhaps you forgot to load the package?) at lib/Template/Test.pm line 26.
t/fileline.t ................. ok
Attempt to call undefined import method with arguments (":status") via package "Template" (Perhaps you forgot to load the package?) at t/filter.t line 21.
Attempt to call undefined import method with arguments (":template") via package "Template" (Perhaps you forgot to load the package?) at lib/Template/Test.pm line 26.
t/filter.t ................... ok
Attempt to call undefined import method with arguments (":status") via package "Template" (Perhaps you forgot to load the package?) at t/foreach.t line 22.
Attempt to call undefined import method with arguments (":template") via package "Template" (Perhaps you forgot to load the package?) at lib/Template/Test.pm line 26.
t/foreach.t .................. ok
Attempt to call undefined import method with arguments (":status") via package "Template" (Perhaps you forgot to load the package?) at t/format.t line 21.
Attempt to call undefined import method with arguments (":template") via package "Template" (Perhaps you forgot to load the package?) at lib/Template/Test.pm line 26.
t/format.t ................... ok
Attempt to call undefined import method with arguments (":template") via package "Template" (Perhaps you forgot to load the package?) at lib/Template/Test.pm line 26.
t/html.t ..................... ok
Attempt to call undefined import method with arguments (":template") via package "Template" (Perhaps you forgot to load the package?) at lib/Template/Test.pm line 26.
t/image.t .................... skipped: Neither Image::Info nor Image::Size installed
Attempt to call undefined import method with arguments (":template") via package "Template" (Perhaps you forgot to load the package?) at /tmp/loop_over_bdir-2423-bWtvR2/Template-Toolkit-3.101-0/blib/lib/Template/Test.pm line 26.
t/include.t .................. ok
Attempt to call undefined import method with arguments (":template") via package "Template" (Perhaps you forgot to load the package?) at lib/Template/Test.pm line 26.
t/iterator.t ................. ok
Attempt to call undefined import method with arguments (":template") via package "Template" (Perhaps you forgot to load the package?) at lib/Template/Test.pm line 26.
t/leak.t ..................... ok
Attempt to call undefined import method with arguments (":template") via package "Template" (Perhaps you forgot to load the package?) at lib/Template/Test.pm line 26.
t/list.t ..................... ok
Attempt to call undefined import method with arguments (":template") via package "Template" (Perhaps you forgot to load the package?) at /tmp/loop_over_bdir-2423-bWtvR2/Template-Toolkit-3.101-0/blib/lib/Template/Test.pm line 26.
t/macro.t .................... ok
Attempt to call undefined import method with arguments (":template") via package "Template" (Perhaps you forgot to load the package?) at lib/Template/Test.pm line 26.
t/math.t ..................... ok
t/math_rand.t ................ ok
t/mtime-zero.t ............... ok
Attempt to call undefined import method with arguments (":template") via package "Template" (Perhaps you forgot to load the package?) at lib/Template/Test.pm line 26.
t/object.t ................... ok
Attempt to call undefined import method with arguments (":template") via package "Template" (Perhaps you forgot to load the package?) at lib/Template/Test.pm line 26.
t/outline.t .................. ok
Attempt to call undefined import method with arguments (":template") via package "Template" (Perhaps you forgot to load the package?) at lib/Template/Test.pm line 26.
t/output.t ................... ok
Attempt to call undefined import method with arguments (":template") via package "Template" (Perhaps you forgot to load the package?) at /tmp/loop_over_bdir-2423-bWtvR2/Template-Toolkit-3.101-0/blib/lib/Template/Test.pm line 26.
t/parser.t ................... ok
Attempt to call undefined import method with arguments (":template") via package "Template" (Perhaps you forgot to load the package?) at /tmp/loop_over_bdir-2423-bWtvR2/Template-Toolkit-3.101-0/blib/lib/Template/Test.pm line 26.
t/parser2.t .................. ok
Attempt to call undefined import method with arguments (":template") via package "Template" (Perhaps you forgot to load the package?) at lib/Template/Test.pm line 26.
t/plugins.t .................. ok
Attempt to call undefined import method with arguments (":template") via package "Template" (Perhaps you forgot to load the package?) at lib/Template/Test.pm line 26.
t/plusfile.t ................. ok
Attempt to call undefined import method with arguments (":template") via package "Template" (Perhaps you forgot to load the package?) at lib/Template/Test.pm line 26.
t/pod.t ...................... ok
Attempt to call undefined import method with arguments (":template") via package "Template" (Perhaps you forgot to load the package?) at lib/Template/Test.pm line 26.
t/prefix.t ................... ok
Attempt to call undefined import method with arguments (":template") via package "Template" (Perhaps you forgot to load the package?) at lib/Template/Test.pm line 26.
t/proc.t ..................... ok
t/process-relative.t ......... ok
Attempt to call undefined import method with arguments (":template") via package "Template" (Perhaps you forgot to load the package?) at lib/Template/Test.pm line 26.
t/process.t .................. ok
t/process_dir.t .............. ok
Attempt to call undefined import method with arguments (":template") via package "Template" (Perhaps you forgot to load the package?) at lib/Template/Test.pm line 26.
t/provider.t ................. ok
Attempt to call undefined import method with arguments (":template") via package "Template" (Perhaps you forgot to load the package?) at /tmp/loop_over_bdir-2423-bWtvR2/Template-Toolkit-3.101-0/blib/lib/Template/Test.pm line 26.
t/ref.t ...................... ok
Attempt to call undefined import method with arguments (":template") via package "Template" (Perhaps you forgot to load the package?) at lib/Template/Test.pm line 26.
t/scalar.t ................... ok
Attempt to call undefined import method with arguments (":template") via package "Template" (Perhaps you forgot to load the package?) at lib/Template/Test.pm line 26.
t/service.t .................. ok
Attempt to call undefined import method with arguments (":template") via package "Template" (Perhaps you forgot to load the package?) at lib/Template/Test.pm line 26.
t/skel.t ..................... ok
Attempt to call undefined import method with arguments (":template") via package "Template" (Perhaps you forgot to load the package?) at lib/Template/Test.pm line 26.
t/stash-xs-unicode.t ......... ok
Attempt to call undefined import method with arguments (":template") via package "Template" (Perhaps you forgot to load the package?) at lib/Template/Test.pm line 26.
t/stash-xs.t ................. ok
Attempt to call undefined import method with arguments (":template") via package "Template" (Perhaps you forgot to load the package?) at lib/Template/Test.pm line 26.
t/stash.t .................... ok
Attempt to call undefined import method with arguments (":template") via package "Template" (Perhaps you forgot to load the package?) at /tmp/loop_over_bdir-2423-bWtvR2/Template-Toolkit-3.101-0/blib/lib/Template/Test.pm line 26.
t/stashc.t ................... ok
Attempt to call undefined import method with arguments (":template") via package "Template" (Perhaps you forgot to load the package?) at lib/Template/Test.pm line 26.
t/stop.t ..................... ok
Attempt to call undefined import method with arguments (":template") via package "Template" (Perhaps you forgot to load the package?) at lib/Template/Test.pm line 26.
t/strcat.t ................... ok
Attempt to call undefined import method with arguments (":template") via package "Template" (Perhaps you forgot to load the package?) at /tmp/loop_over_bdir-2423-bWtvR2/Template-Toolkit-3.101-0/blib/lib/Template/Test.pm line 26.
t/strict.t ................... ok
Attempt to call undefined import method with arguments (":template") via package "Template" (Perhaps you forgot to load the package?) at lib/Template/Test.pm line 26.
t/string.t ................... ok
Attempt to call undefined import method with arguments (":template") via package "Template" (Perhaps you forgot to load the package?) at lib/Template/Test.pm line 26.
t/switch.t ................... ok
Attempt to call undefined import method with arguments (":template") via package "Template" (Perhaps you forgot to load the package?) at /tmp/loop_over_bdir-2423-bWtvR2/Template-Toolkit-3.101-0/blib/lib/Template/Test.pm line 26.
t/table.t .................... ok
Attempt to call undefined import method with arguments (":template") via package "Template" (Perhaps you forgot to load the package?) at lib/Template/Test.pm line 26.
t/tags.t ..................... ok
Attempt to call undefined import method with arguments (":template") via package "Template" (Perhaps you forgot to load the package?) at lib/Template/Test.pm line 26.
t/template.t ................. ok
Attempt to call undefined import method with arguments (":template") via package "Template" (Perhaps you forgot to load the package?) at lib/Template/Test.pm line 26.
t/text.t ..................... ok
Attempt to call undefined import method with arguments (":template") via package "Template" (Perhaps you forgot to load the package?) at lib/Template/Test.pm line 26.
t/throw.t .................... ok
Attempt to call undefined import method with arguments (":template") via package "Template" (Perhaps you forgot to load the package?) at blib/lib/Template/Test.pm line 26.
t/tiedhash.t ................. ok
Attempt to call undefined import method with arguments (":template") via package "Template" (Perhaps you forgot to load the package?) at lib/Template/Test.pm line 26.
t/trace_vars.t ............... ok
Attempt to call undefined import method with arguments (":template") via package "Template" (Perhaps you forgot to load the package?) at lib/Template/Test.pm line 26.
t/try.t ...................... ok
t/unicode.t .................. ok
Attempt to call undefined import method with arguments (":status") via package "Template" (Perhaps you forgot to load the package?) at t/url.t line 21.
Attempt to call undefined import method with arguments (":template") via package "Template" (Perhaps you forgot to load the package?) at /tmp/loop_over_bdir-2423-bWtvR2/Template-Toolkit-3.101-0/blib/lib/Template/Test.pm line 26.
t/url.t ...................... ok
Attempt to call undefined import method with arguments (":template") via package "Template" (Perhaps you forgot to load the package?) at lib/Template/Test.pm line 26.
t/vars.t ..................... ok
Attempt to call undefined import method with arguments (":template") via package "Template" (Perhaps you forgot to load the package?) at lib/Template/Test.pm line 26.
t/varsv1.t ................... ok
Attempt to call undefined import method with arguments (":template") via package "Template" (Perhaps you forgot to load the package?) at lib/Template/Test.pm line 26.
t/view.t ..................... ok
Attempt to call undefined import method with arguments (":template") via package "Template" (Perhaps you forgot to load the package?) at lib/Template/Test.pm line 26.
t/vmethods/hash.t ............ ok
Attempt to call undefined import method with arguments (":template") via package "Template" (Perhaps you forgot to load the package?) at lib/Template/Test.pm line 26.
t/vmethods/list.t ............ ok
Attempt to call undefined import method with arguments (":template") via package "Template" (Perhaps you forgot to load the package?) at lib/Template/Test.pm line 26.
t/vmethods/replace.t ......... ok
Attempt to call undefined import method with arguments (":template") via package "Template" (Perhaps you forgot to load the package?) at lib/Template/Test.pm line 26.
t/vmethods/text.t ............ ok
Attempt to call undefined import method with arguments (":template") via package "Template" (Perhaps you forgot to load the package?) at lib/Template/Test.pm line 26.
t/while.t .................... ok
Attempt to call undefined import method with arguments (":status") via package "Template" (Perhaps you forgot to load the package?) at t/wrap.t line 20.
Attempt to call undefined import method with arguments (":template") via package "Template" (Perhaps you forgot to load the package?) at /tmp/loop_over_bdir-2423-bWtvR2/Template-Toolkit-3.101-0/blib/lib/Template/Test.pm line 26.
t/wrap.t ..................... ok
Attempt to call undefined import method with arguments (":template") via package "Template" (Perhaps you forgot to load the package?) at lib/Template/Test.pm line 26.
t/wrapper.t .................. ok
t/zz-plugin-cycle.t .......... ok
t/zz-plugin-leak-gh-213.t .... skipped: Broken on older perls. We need to sort this out once everything is passing
t/zz-plugin-leak-rt-46691.t .. ok
Attempt to call undefined import method with arguments (":template") via package "Template" (Perhaps you forgot to load the package?) at lib/Template/Test.pm line 26.
t/zz-plugin-leak.t ........... skipped: Internal test for developer, add the --dev flag to run
t/zz-pmv.t ................... skipped: These aren't the tests you're looking for... move along
t/zz-pod-coverage.t .......... skipped: Author tests not required for installation
t/zz-pod-kwalitee.t .......... skipped: Author tests not required for installation
t/zz-stash-xs-leak.t ......... skipped: Internal test for developer, add the --dev flag to run
Attempt to call undefined import method with arguments (":status") via package "Template" (Perhaps you forgot to load the package?) at t/zz-url2.t line 20.
Attempt to call undefined import method with arguments (":template") via package "Template" (Perhaps you forgot to load the package?) at /tmp/loop_over_bdir-2423-bWtvR2/Template-Toolkit-3.101-0/blib/lib/Template/Test.pm line 26.
t/zz-url2.t .................. skipped: We can't agree on the right joint for the URL plugin
All tests successful.
Files=103, Tests=2928, 20 wallclock secs ( 0.36 usr 0.15 sys + 6.41 cusr 0.99 csys = 7.91 CPU)
Result: PASS
------------------------------
PREREQUISITES
------------------------------
Prerequisite modules loaded:
requires:
Module Need Have
------------------- ---- ------
AppConfig 1.56 1.71
File::Spec 0.8 3.90
File::Temp 0.12 0.2311
Scalar::Util 0 1.63
build_requires:
Module Need Have
------------------- ---- ------
ExtUtils::MakeMaker 0 7.70
Test::LeakTrace 0 0.17
------------------------------
ENVIRONMENT AND OTHER CONTEXT
------------------------------
Environment variables:
AUTOMATED_TESTING = 1
LANG = en_US.UTF-8
LC_ADDRESS = de_DE.UTF-8
LC_IDENTIFICATION = de_DE.UTF-8
LC_MEASUREMENT = de_DE.UTF-8
LC_MONETARY = de_DE.UTF-8
LC_NAME = de_DE.UTF-8
LC_NUMERIC = de_DE.UTF-8
LC_PAPER = de_DE.UTF-8
LC_TELEPHONE = de_DE.UTF-8
LC_TIME = de_DE.UTF-8
PATH = /home/sand/bin:/usr/local/bin:/usr/local/sbin:/usr/sbin:/usr/bin:/sbin:/bin:/usr/games:/usr/local/games:/snap/bin:/usr/local/perl/bin:/usr/X11/bin
PERL5LIB =
PERL5OPT =
PERL5_CPANPLUS_IS_RUNNING = 2431
PERL5_CPAN_IS_RUNNING = 2431
PERL_CANARY_STABILITY_NOPROMPT = 1
PERL_MM_USE_DEFAULT = 1
PERL_USE_UNSAFE_INC = 1
SHELL = /usr/bin/zsh
TERM = screen
Perl special variables (and OS-specific diagnostics, for MSWin32):
$^X = /tmp/basesmoker-reloperl-5m_0/bin/perl
$UID/$EUID = 1005 / 1005
$GID = 1005 1005
$EGID = 1005 1005
Perl module toolchain versions installed:
Module Have
------------------- --------
CPAN 2.36
CPAN::Meta 2.150010
Cwd 3.90
ExtUtils::CBuilder 0.280240
ExtUtils::Command 7.70
ExtUtils::Install 2.22
ExtUtils::MakeMaker 7.70
ExtUtils::Manifest 1.75
ExtUtils::ParseXS 3.51
File::Spec 3.90
JSON 4.10
JSON::PP 4.16
Module::Build 0.4234
Module::Signature 0.88
Parse::CPAN::Meta 2.150010
Test2 1.302198
Test::Harness 3.48
Test::More 1.302198
YAML 1.31
YAML::Syck 1.34
version 0.9930
--
Summary of my perl5 (revision 5 version 39 subversion 6) configuration:
Commit id: 19d146d89647634621ee2291d0baa267addfef3d
Platform:
osname=linux
osvers=6.2.0-39-generic
archname=x86_64-linux-ld
uname='linux k93jammy 6.2.0-39-generic #40~22.04.1-ubuntu smp preempt_dynamic thu nov 16 10:53:04 utc 2 x86_64 x86_64 x86_64 gnulinux '
config_args='-Dprefix=/home/sand/src/perl/repoperls/installed-perls/host/k93jammy/v5.39.6/5674 -Dmyhostname=k93jammy -Dinstallusrbinperl=n -Uversiononly -Dusedevel -des -Ui_db -Dlibswanted=cl pthread socket inet nsl gdbm dbm malloc dl ld sun m crypt sec util c cposix posix ucb BSD gdbm_compat -Uuseithreads -Duselongdouble -DEBUGGING=-g'
hint=recommended
useposix=true
d_sigaction=define
useithreads=undef
usemultiplicity=undef
use64bitint=define
use64bitall=define
uselongdouble=define
usemymalloc=n
default_inc_excludes_dot=define
Compiler:
cc='cc'
ccflags ='-fwrapv -fno-strict-aliasing -pipe -fstack-protector-strong -I/usr/local/include -D_LARGEFILE_SOURCE -D_FILE_OFFSET_BITS=64'
optimize='-O2 -g'
cppflags='-fwrapv -fno-strict-aliasing -pipe -fstack-protector-strong -I/usr/local/include'
ccversion=''
gccversion='11.4.0'
gccosandvers=''
intsize=4
longsize=8
ptrsize=8
doublesize=8
byteorder=12345678
doublekind=3
d_longlong=define
longlongsize=8
d_longdbl=define
longdblsize=16
longdblkind=3
ivtype='long'
ivsize=8
nvtype='long double'
nvsize=16
Off_t='off_t'
lseeksize=8
alignbytes=16
prototype=define
Linker and Libraries:
ld='cc'
ldflags =' -fstack-protector-strong -L/usr/local/lib'
libpth=/usr/local/lib /usr/lib/x86_64-linux-gnu /usr/lib /usr/lib64
libs=-lpthread -lnsl -ldl -lm -lcrypt -lutil -lc
perllibs=-lpthread -lnsl -ldl -lm -lcrypt -lutil -lc
libc=/lib/x86_64-linux-gnu/libc.so.6
so=so
useshrplib=false
libperl=libperl.a
gnulibc_version='2.35'
Dynamic Linking:
dlsrc=dl_dlopen.xs
dlext=so
d_dlsymun=undef
ccdlflags='-Wl,-E'
cccdlflags='-fPIC'
lddlflags='-shared -O2 -g -L/usr/local/lib -fstack-protector-strong'
Characteristics of this binary (from libperl):
Compile-time options:
HAS_LONG_DOUBLE
HAS_STRTOLD
HAS_TIMES
PERLIO_LAYERS
PERL_COPY_ON_WRITE
PERL_DONT_CREATE_GVSV
PERL_HASH_FUNC_SIPHASH13
PERL_HASH_USE_SBOX32
PERL_MALLOC_WRAP
PERL_OP_PARENT
PERL_PRESERVE_IVUV
PERL_USE_DEVEL
PERL_USE_SAFE_PUTENV
USE_64_BIT_ALL
USE_64_BIT_INT
USE_LARGE_FILES
USE_LOCALE
USE_LOCALE_COLLATE
USE_LOCALE_CTYPE
USE_LOCALE_NUMERIC
USE_LOCALE_TIME
USE_LONG_DOUBLE
USE_PERLIO
USE_PERL_ATOF
Built under linux
Compiled at Dec 31 2023 09:28:41
%ENV:
PERL5LIB=""
PERL5OPT=""
PERL5_CPANPLUS_IS_RUNNING="2431"
PERL5_CPAN_IS_RUNNING="2431"
PERL_CANARY_STABILITY_NOPROMPT="1"
PERL_MM_USE_DEFAULT="1"
PERL_USE_UNSAFE_INC="1"
@INC:
/home/sand/src/perl/repoperls/installed-perls/host/k93jammy/v5.39.6/5674/lib/site_perl/5.39.6/x86_64-linux-ld
/home/sand/src/perl/repoperls/installed-perls/host/k93jammy/v5.39.6/5674/lib/site_perl/5.39.6
/home/sand/src/perl/repoperls/installed-perls/host/k93jammy/v5.39.6/5674/lib/5.39.6/x86_64-linux-ld
/home/sand/src/perl/repoperls/installed-perls/host/k93jammy/v5.39.6/5674/lib/5.39.6
.