Test-Pod-LinkCheck v0.008 Perl 5 v5.28.0 RC2 darwin-2level
- Status
- Pass
- From
- Karen Etheridge
- Dist
-
Test-Pod-LinkCheck v0.008
- Platform
- Perl 5 v5.28.0 RC2 darwin-2level
- Date
- 2018-06-09 04:37:27
- ID
- d0079544-6b9e-11e8-aadc-4fea6e62e2db
This distribution has been tested as part of the CPAN Testers
project, supporting the Perl programming language. See
http://wiki.cpantesters.org/ for more information or email
questions to cpan-testers-discuss@perl.org
--
Dear APOCAL,
This is a computer-generated report for Test-Pod-LinkCheck-0.008
on perl 5.28.0, created by App::cpanminus::reporter 0.17 (1.7044).
Thank you for uploading your work to CPAN. Congratulations!
All tests were successful.
Sections of this report:
* Tester comments
* Program output
* Prerequisites
* Environment and other context
------------------------------
TESTER COMMENTS
------------------------------
Additional comments from tester:
none provided
------------------------------
PROGRAM OUTPUT
------------------------------
Output from '':
Building and testing Test-Pod-LinkCheck-0.008
#
You should load Test::Tester before Test::Builder (or anything that loads Test::Builder) at /Volumes/amaretto/Users/ether/.perlbrew/libs/28.0rc2@std/lib/perl5/Test/Tester.pm line 9.
#
# Generated by Dist::Zilla::Plugin::ReportVersions::Tiny v1.10
# perl: 5.028000 (wanted 5.006) on darwin from /Volumes/amaretto/Users/ether/perl5/perlbrew/perls/28.0rc2/bin/perl
#
# App::PodLinkCheck::ParseLinks => 15 (want 4)
# App::PodLinkCheck::ParseSections => 15 (want any version)
# Capture::Tiny => 0.48 (want any version)
# Exporter => 5.73 (want any version)
# ExtUtils::MakeMaker => 7.3503 (want any version)
# File::Spec => 3.74 (want any version)
# File::Temp => 0.2304 (want any version)
# IO::Handle => 1.39 (want any version)
# IPC::Open3 => 1.20 (want any version)
# Module::Build::Tiny => 0.039 (want 0.039)
# Moose => 2.2011 (want 1.01)
# Moose::Util::TypeConstraints => 2.2011 (want 1.01)
# Pod::Find => 1.63 (want any version)
# Test::Builder => 1.302136 (want 0.94)
# Test::More => 1.302136 (want 0.88)
# Test::Pod => 1.52 (want 1.44)
# Test::Tester => 1.302136 (want any version)
# parent => 0.236 (want any version)
# strict => 1.11 (want any version)
# warnings => 1.42 (want any version)
#
# Thanks for using my code. I hope it works for you.
# If not, please try and include this output in the bug report.
# That will help me reproduce the issue and solve your problem.
#
t/apocalypse.t ................ skipped: Test::Apocalypse required for validating the distribution
t/00-compile.t ................ ok
t/functions.t ................. ok
t/000-report-versions-tiny.t .. ok
t/cpan_backend.t .............. ok
t/simple.t .................... ok
All tests successful.
Test Summary Report
-------------------
t/cpan_backend.t (Wstat: 0 Tests: 24 Failed: 0)
TODO passed: 13-16, 21-24
Files=6, Tests=130, 2 wallclock secs ( 0.05 usr 0.02 sys + 2.53 cusr 0.39 csys = 2.99 CPU)
Result: PASS
------------------------------
PREREQUISITES
------------------------------
Prerequisite modules loaded:
No requirements found
------------------------------
ENVIRONMENT AND OTHER CONTEXT
------------------------------
Environment variables:
HARNESS_OPTIONS = j5:c
LANG = en_CA.UTF-8
NO_NETWORK_TESTING = 1
PATH = /Volumes/amaretto/Users/ether/.perlbrew/libs/28.0rc2@std/bin:/Volumes/amaretto/Users/ether/perl5/perlbrew/bin:/Volumes/amaretto/Users/ether/perl5/perlbrew/perls/28.0rc2/bin:/Volumes/amaretto/Users/ether/bin:/Volumes/amaretto/Users/ether/git/misc/install/jaeger/bin:/Volumes/amaretto/Users/ether/git/misc/install/generic/bin:/opt/local/bin:/opt/local/sbin:/Volumes/amaretto/Users/ether/git/git-hub/lib:/usr/local/bin:/usr/bin:/bin:/usr/sbin:/sbin:/opt/local/share/git-core/contrib/workdir
PERL5LIB = /Volumes/amaretto/Users/ether/.perlbrew/libs/28.0rc2@std/lib/perl5
PERLBREW_HOME = /Volumes/amaretto/Users/ether/.perlbrew
PERLBREW_LIB = std
PERLBREW_MANPATH = /Volumes/amaretto/Users/ether/.perlbrew/libs/28.0rc2@std/man:/Volumes/amaretto/Users/ether/perl5/perlbrew/perls/28.0rc2/man
PERLBREW_PATH = /Volumes/amaretto/Users/ether/.perlbrew/libs/28.0rc2@std/bin:/Volumes/amaretto/Users/ether/perl5/perlbrew/bin:/Volumes/amaretto/Users/ether/perl5/perlbrew/perls/28.0rc2/bin
PERLBREW_PERL = 28.0rc2
PERLBREW_ROOT = /Volumes/amaretto/Users/ether/perl5/perlbrew
PERLBREW_SHELLRC_VERSION = 0.82
PERLBREW_VERSION = 0.83
PERLDOC = -oman
PERLDOC_PAGER = less -sicMr
PERL_AUTOINSTALL_PREFER_CPAN = 1
PERL_INSTALL_QUIET = 1
PERL_LOCAL_LIB_ROOT = /Volumes/amaretto/Users/ether/.perlbrew/libs/28.0rc2@std
PERL_MB_OPT = --install_base /Volumes/amaretto/Users/ether/.perlbrew/libs/28.0rc2@std
PERL_MM_OPT = INSTALL_BASE=/Volumes/amaretto/Users/ether/.perlbrew/libs/28.0rc2@std
PERL_USE_UNSAFE_INC = 0
SHELL = /bin/bash
TERM = xterm-color
Perl special variables (and OS-specific diagnostics, for MSWin32):
EGID = 20 20 12 61 79 80 81 98 701 33 100 204 395 398 399
EUID = 502
EXECUTABLE_NAME = /Volumes/amaretto/Users/ether/perl5/perlbrew/perls/28.0rc2/bin/perl
GID = 20 20 12 61 79 80 81 98 701 33 100 204 395 398 399
UID = 502
Perl module toolchain versions installed:
Module Have
------------------- --------
CPAN 2.20
CPAN::Meta 2.150010
Cwd 3.74
ExtUtils::CBuilder 0.280230
ExtUtils::Command 7.35_03
ExtUtils::Install 2.14
ExtUtils::MakeMaker 7.35_03
ExtUtils::Manifest 1.71
ExtUtils::ParseXS 3.39
File::Spec 3.74
JSON 2.97001
JSON::PP 2.97001
Module::Build 0.4224
Module::Signature n/a
Parse::CPAN::Meta 2.150010
Test::Harness 3.42
Test::More 1.302136
YAML 1.26
YAML::Syck 1.30
version 0.9923
--
Summary of my perl5 (revision 5 version 28 subversion 0) configuration:
Platform:
osname=darwin
osvers=16.7.0
archname=darwin-2level
uname='darwin jaeger 16.7.0 darwin kernel version 16.7.0: tue jan 30 11:27:06 pst 2018; root:xnu-3789.73.11~1release_x86_64 x86_64 '
config_args='-de -Dprefix=/Volumes/amaretto/Users/ether/perl5/perlbrew/perls/28.0rc2 -Dman1dir=none -Dman3dir=none -Aeval:scriptdir=/Volumes/amaretto/Users/ether/perl5/perlbrew/perls/28.0rc2/bin'
hint=recommended
useposix=true
d_sigaction=define
useithreads=undef
usemultiplicity=undef
use64bitint=define
use64bitall=define
uselongdouble=undef
usemymalloc=n
default_inc_excludes_dot=define
bincompat5005=undef
Compiler:
cc='cc'
ccflags ='-fno-common -DPERL_DARWIN -mmacosx-version-min=10.12 -fno-strict-aliasing -pipe -fstack-protector-strong -I/opt/local/include -DPERL_USE_SAFE_PUTENV'
optimize='-O3'
cppflags='-fno-common -DPERL_DARWIN -mmacosx-version-min=10.12 -fno-strict-aliasing -pipe -fstack-protector-strong -I/opt/local/include'
ccversion=''
gccversion='4.2.1 Compatible Apple LLVM 9.0.0 (clang-900.0.39.2)'
gccosandvers=''
intsize=4
longsize=8
ptrsize=8
doublesize=8
byteorder=12345678
doublekind=3
d_longlong=define
longlongsize=8
d_longdbl=define
longdblsize=16
longdblkind=3
ivtype='long'
ivsize=8
nvtype='double'
nvsize=8
Off_t='off_t'
lseeksize=8
alignbytes=8
prototype=define
Linker and Libraries:
ld='cc'
ldflags =' -mmacosx-version-min=10.12 -fstack-protector-strong -L/opt/local/lib'
libpth=/Applications/Xcode.app/Contents/Developer/Toolchains/XcodeDefault.xctoolchain/usr/lib/clang/9.0.0/lib /Applications/Xcode.app/Contents/Developer/Toolchains/XcodeDefault.xctoolchain/usr/lib /usr/lib /opt/local/lib
libs=-lpthread -lgdbm -ldbm -ldl -lm -lutil -lc
perllibs=-lpthread -ldl -lm -lutil -lc
libc=
so=dylib
useshrplib=false
libperl=libperl.a
gnulibc_version=''
Dynamic Linking:
dlsrc=dl_dlopen.xs
dlext=bundle
d_dlsymun=undef
ccdlflags=' '
cccdlflags=' '
lddlflags=' -mmacosx-version-min=10.12 -bundle -undefined dynamic_lookup -L/opt/local/lib -fstack-protector-strong'
Characteristics of this binary (from libperl):
Compile-time options:
HAS_TIMES
PERLIO_LAYERS
PERL_COPY_ON_WRITE
PERL_DONT_CREATE_GVSV
PERL_MALLOC_WRAP
PERL_OP_PARENT
PERL_PRESERVE_IVUV
PERL_USE_SAFE_PUTENV
USE_64_BIT_ALL
USE_64_BIT_INT
USE_LARGE_FILES
USE_LOCALE
USE_LOCALE_COLLATE
USE_LOCALE_CTYPE
USE_LOCALE_NUMERIC
USE_LOCALE_TIME
USE_PERLIO
USE_PERL_ATOF
Locally applied patches:
RC2
Devel::PatchPerl 1.48
Built under darwin
Compiled at Jun 8 2018 19:44:15
%ENV:
PERL5LIB="/Volumes/amaretto/Users/ether/.perlbrew/libs/28.0rc2@std/lib/perl5"
PERLBREW_HOME="/Volumes/amaretto/Users/ether/.perlbrew"
PERLBREW_LIB="std"
PERLBREW_MANPATH="/Volumes/amaretto/Users/ether/.perlbrew/libs/28.0rc2@std/man:/Volumes/amaretto/Users/ether/perl5/perlbrew/perls/28.0rc2/man"
PERLBREW_PATH="/Volumes/amaretto/Users/ether/.perlbrew/libs/28.0rc2@std/bin:/Volumes/amaretto/Users/ether/perl5/perlbrew/bin:/Volumes/amaretto/Users/ether/perl5/perlbrew/perls/28.0rc2/bin"
PERLBREW_PERL="28.0rc2"
PERLBREW_ROOT="/Volumes/amaretto/Users/ether/perl5/perlbrew"
PERLBREW_SHELLRC_VERSION="0.82"
PERLBREW_VERSION="0.83"
PERLDOC="-oman"
PERLDOC_PAGER="less -sicMr"
PERL_AUTOINSTALL_PREFER_CPAN="1"
PERL_INSTALL_QUIET="1"
PERL_LOCAL_LIB_ROOT="/Volumes/amaretto/Users/ether/.perlbrew/libs/28.0rc2@std"
PERL_MB_OPT="--install_base /Volumes/amaretto/Users/ether/.perlbrew/libs/28.0rc2@std"
PERL_MM_OPT="INSTALL_BASE=/Volumes/amaretto/Users/ether/.perlbrew/libs/28.0rc2@std"
PERL_USE_UNSAFE_INC="0"
@INC:
/Volumes/amaretto/Users/ether/.perlbrew/libs/28.0rc2@std/lib/perl5/darwin-2level
/Volumes/amaretto/Users/ether/.perlbrew/libs/28.0rc2@std/lib/perl5
/Volumes/amaretto/Users/ether/perl5/perlbrew/perls/28.0rc2/lib/site_perl/5.28.0/darwin-2level
/Volumes/amaretto/Users/ether/perl5/perlbrew/perls/28.0rc2/lib/site_perl/5.28.0
/Volumes/amaretto/Users/ether/perl5/perlbrew/perls/28.0rc2/lib/5.28.0/darwin-2level
/Volumes/amaretto/Users/ether/perl5/perlbrew/perls/28.0rc2/lib/5.28.0