Report for Catalyst-ActionRole-MatchRequestMethod-0.03

Back
From: metabase:user:320bfe00-2aae-11df-837a-5e0a49663a4f
Subject: PASS Catalyst-ActionRole-MatchRequestMethod-0.03 v5.19.10 GNU/Linux
Date: 2014-02-21T03:18:19Z

This distribution has been tested as part of the CPAN Testers
project, supporting the Perl programming language.  See
http://wiki.cpantesters.org/ for more information or email
questions to cpan-testers-discuss@perl.org


--
Dear Florian Ragwitz,

This is a computer-generated report for Catalyst-ActionRole-MatchRequestMethod-0.03
on perl 5.19.10, created by CPAN-Reporter-1.2010.

Thank you for uploading your work to CPAN.  Congratulations!
All tests were successful.

Sections of this report:

    * Tester comments
    * Program output
    * Prerequisites
    * Environment and other context

------------------------------
TESTER COMMENTS
------------------------------

Additional comments from tester:

this report is from an automated smoke testing program
and was not reviewed by a human for accuracy

------------------------------
PROGRAM OUTPUT
------------------------------

Output from '/usr/bin/make test':

PERL_DL_NONLAZY=1 /tmp/basesmoker-reloperl-wo_J/bin/perl "-MExtUtils::Command::MM" "-MTest::Harness" "-e" "undef *Test::Harness::Switches; test_harness(0, 'blib/lib', 'blib/arch')" t/*.t
Class::MOP::load_first_existing_class is deprecated at /home/sand/src/perl/repoperls/installed-perls/perl/v5.19.9-10-gd0fa2fb/a2da/lib/site_perl/5.19.10/x86_64-linux-thread-multi-ld/Class/MOP.pm line 82.
	Class::MOP::load_first_existing_class("TestApp::ActionRole::MatchRequestMethod", "Catalyst::ActionRole::MatchRequestMethod") called at /home/sand/src/perl/repoperls/installed-perls/perl/v5.19.9-10-gd0fa2fb/a2da/lib/site_perl/5.19.10/Catalyst/Controller/ActionRole.pm line 120
	Catalyst::Controller::ActionRole::__ANON__("MatchRequestMethod") called at /home/sand/src/perl/repoperls/installed-perls/perl/v5.19.9-10-gd0fa2fb/a2da/lib/site_perl/5.19.10/String/RewritePrefix.pm line 44
	String::RewritePrefix::__ANON__("MatchRequestMethod") called at /home/sand/src/perl/repoperls/installed-perls/perl/v5.19.9-10-gd0fa2fb/a2da/lib/site_perl/5.19.10/String/RewritePrefix.pm line 18
	String::RewritePrefix::rewrite("String::RewritePrefix", HASH(0x38f19d0), "MatchRequestMethod") called at /home/sand/src/perl/repoperls/installed-perls/perl/v5.19.9-10-gd0fa2fb/a2da/lib/site_perl/5.19.10/Catalyst/Controller/ActionRole.pm line 125
	Catalyst::Controller::ActionRole::_expand_role_shortname(TestApp::Controller::Root=HASH(0x3558b80), "MatchRequestMethod") called at /home/sand/src/perl/repoperls/installed-perls/perl/v5.19.9-10-gd0fa2fb/a2da/lib/site_perl/5.19.10/Catalyst/Controller/ActionRole.pm line 49
	Catalyst::Controller::ActionRole::_build__action_roles(TestApp::Controller::Root=HASH(0x3558b80)) called at native delegation method Catalyst::Controller::ActionRole::_action_roles (elements) of attribute _action_roles (defined at /home/sand/src/perl/repoperls/installed-perls/perl/v5.19.9-10-gd0fa2fb/a2da/lib/site_perl/5.19.10/Catalyst/Controller/ActionRole.pm line 37) line 9
	Catalyst::Controller::ActionRole::_action_roles(TestApp::Controller::Root=HASH(0x3558b80)) called at /home/sand/src/perl/repoperls/installed-perls/perl/v5.19.9-10-gd0fa2fb/a2da/lib/site_perl/5.19.10/Catalyst/Controller.pm line 84
	Catalyst::Controller::BUILD(TestApp::Controller::Root=HASH(0x3558b80), HASH(0x385ec78)) called at constructor TestApp::Controller::Root::new (defined at /tmp/loop_over_bdir-5476-xQ80_u/Catalyst-ActionRole-MatchRequestMethod-0.03-KMm5ZI/t/lib/TestApp/Controller/Root.pm line 40) line 56
	TestApp::Controller::Root::new("TestApp::Controller::Root", "TestApp", HASH(0x3627118)) called at /home/sand/src/perl/repoperls/installed-perls/perl/v5.19.9-10-gd0fa2fb/a2da/lib/site_perl/5.19.10/Catalyst/Component.pm line 123
	Catalyst::Component::COMPONENT("TestApp::Controller::Root", "TestApp", HASH(0x3627118)) called at /home/sand/src/perl/repoperls/installed-perls/perl/v5.19.9-10-gd0fa2fb/a2da/lib/site_perl/5.19.10/Catalyst.pm line 2637
	eval {...} called at /home/sand/src/perl/repoperls/installed-perls/perl/v5.19.9-10-gd0fa2fb/a2da/lib/site_perl/5.19.10/Catalyst.pm line 2637
	Catalyst::setup_component("TestApp", "TestApp::Controller::Root") called at /home/sand/src/perl/repoperls/installed-perls/perl/v5.19.9-10-gd0fa2fb/a2da/lib/site_perl/5.19.10/Catalyst.pm line 2564
	Catalyst::setup_components("TestApp") called at /home/sand/src/perl/repoperls/installed-perls/perl/v5.19.9-10-gd0fa2fb/a2da/lib/site_perl/5.19.10/Catalyst.pm line 1180
	Catalyst::setup("TestApp") called at /tmp/loop_over_bdir-5476-xQ80_u/Catalyst-ActionRole-MatchRequestMethod-0.03-KMm5ZI/t/lib/TestApp.pm line 8
	require TestApp.pm called at /home/sand/src/perl/repoperls/installed-perls/perl/v5.19.9-10-gd0fa2fb/a2da/lib/site_perl/5.19.10/Module/Runtime.pm line 317
	Module::Runtime::require_module("TestApp") called at /home/sand/src/perl/repoperls/installed-perls/perl/v5.19.9-10-gd0fa2fb/a2da/lib/site_perl/5.19.10/Class/Load.pm line 179
	Class::Load::try {...} () called at /home/sand/src/perl/repoperls/installed-perls/perl/v5.19.9-10-gd0fa2fb/a2da/lib/site_perl/5.19.10/Try/Tiny.pm line 77
	eval {...} called at /home/sand/src/perl/repoperls/installed-perls/perl/v5.19.9-10-gd0fa2fb/a2da/lib/site_perl/5.19.10/Try/Tiny.pm line 72
	Try::Tiny::try(CODE(0x25ef740), Try::Tiny::Catch=REF(0x25eb440)) called at /home/sand/src/perl/repoperls/installed-perls/perl/v5.19.9-10-gd0fa2fb/a2da/lib/site_perl/5.19.10/Class/Load.pm line 185
	Class::Load::try_load_class("TestApp", undef) called at /home/sand/src/perl/repoperls/installed-perls/perl/v5.19.9-10-gd0fa2fb/a2da/lib/site_perl/5.19.10/Class/Load.pm line 40
	Class::Load::load_class("TestApp") called at /home/sand/src/perl/repoperls/installed-perls/perl/v5.19.9-10-gd0fa2fb/a2da/lib/site_perl/5.19.10/Catalyst/Test.pm line 29
	Catalyst::Test::_build_request_export("Catalyst::Test", HASH(0x2831e88)) called at /home/sand/src/perl/repoperls/installed-perls/perl/v5.19.9-10-gd0fa2fb/a2da/lib/site_perl/5.19.10/Catalyst/Test.pm line 92
	Catalyst::Test::__ANON__("Catalyst::Test", "all", HASH(0x2831e58), HASH(0x14d1948)) called at /home/sand/src/perl/repoperls/installed-perls/perl/v5.19.9-10-gd0fa2fb/a2da/lib/site_perl/5.19.10/Sub/Exporter.pm line 108
	Sub::Exporter::_expand_group("Catalyst::Test", HASH(0x281f4b8), ARRAY(0x14fd090), HASH(0x14d1948), HASH(0x2831eb8), HASH(0x1225608)) called at /home/sand/src/perl/repoperls/installed-perls/perl/v5.19.9-10-gd0fa2fb/a2da/lib/site_perl/5.19.10/Sub/Exporter.pm line 39
	Sub::Exporter::_expand_groups("Catalyst::Test", HASH(0x281f4b8), ARRAY(0x2831828), HASH(0x14d1948)) called at /home/sand/src/perl/repoperls/installed-perls/perl/v5.19.9-10-gd0fa2fb/a2da/lib/site_perl/5.19.10/Sub/Exporter.pm line 323
	Sub::Exporter::__ANON__("Catalyst::Test", "-all", HASH(0x12258f0)) called at /home/sand/src/perl/repoperls/installed-perls/perl/v5.19.9-10-gd0fa2fb/a2da/lib/site_perl/5.19.10/Catalyst/Test.pm line 155
	Catalyst::Test::import("Catalyst::Test", "TestApp") called at t/basic.t line 9
	main::BEGIN() called at /tmp/loop_over_bdir-5476-xQ80_u/Catalyst-ActionRole-MatchRequestMethod-0.03-KMm5ZI/t/lib/TestApp.pm line 0
	eval {...} called at /tmp/loop_over_bdir-5476-xQ80_u/Catalyst-ActionRole-MatchRequestMethod-0.03-KMm5ZI/t/lib/TestApp.pm line 0
Class::MOP::load_class is deprecated at /home/sand/src/perl/repoperls/installed-perls/perl/v5.19.9-10-gd0fa2fb/a2da/lib/site_perl/5.19.10/x86_64-linux-thread-multi-ld/Class/MOP.pm line 73.
	Class::MOP::load_class("Catalyst::ActionRole::MatchRequestMethod") called at /home/sand/src/perl/repoperls/installed-perls/perl/v5.19.9-10-gd0fa2fb/a2da/lib/site_perl/5.19.10/Catalyst/Controller/ActionRole.pm line 50
	Catalyst::Controller::ActionRole::_build__action_roles(TestApp::Controller::Root=HASH(0x3558b80)) called at native delegation method Catalyst::Controller::ActionRole::_action_roles (elements) of attribute _action_roles (defined at /home/sand/src/perl/repoperls/installed-perls/perl/v5.19.9-10-gd0fa2fb/a2da/lib/site_perl/5.19.10/Catalyst/Controller/ActionRole.pm line 37) line 9
	Catalyst::Controller::ActionRole::_action_roles(TestApp::Controller::Root=HASH(0x3558b80)) called at /home/sand/src/perl/repoperls/installed-perls/perl/v5.19.9-10-gd0fa2fb/a2da/lib/site_perl/5.19.10/Catalyst/Controller.pm line 84
	Catalyst::Controller::BUILD(TestApp::Controller::Root=HASH(0x3558b80), HASH(0x385ec78)) called at constructor TestApp::Controller::Root::new (defined at /tmp/loop_over_bdir-5476-xQ80_u/Catalyst-ActionRole-MatchRequestMethod-0.03-KMm5ZI/t/lib/TestApp/Controller/Root.pm line 40) line 56
	TestApp::Controller::Root::new("TestApp::Controller::Root", "TestApp", HASH(0x3627118)) called at /home/sand/src/perl/repoperls/installed-perls/perl/v5.19.9-10-gd0fa2fb/a2da/lib/site_perl/5.19.10/Catalyst/Component.pm line 123
	Catalyst::Component::COMPONENT("TestApp::Controller::Root", "TestApp", HASH(0x3627118)) called at /home/sand/src/perl/repoperls/installed-perls/perl/v5.19.9-10-gd0fa2fb/a2da/lib/site_perl/5.19.10/Catalyst.pm line 2637
	eval {...} called at /home/sand/src/perl/repoperls/installed-perls/perl/v5.19.9-10-gd0fa2fb/a2da/lib/site_perl/5.19.10/Catalyst.pm line 2637
	Catalyst::setup_component("TestApp", "TestApp::Controller::Root") called at /home/sand/src/perl/repoperls/installed-perls/perl/v5.19.9-10-gd0fa2fb/a2da/lib/site_perl/5.19.10/Catalyst.pm line 2564
	Catalyst::setup_components("TestApp") called at /home/sand/src/perl/repoperls/installed-perls/perl/v5.19.9-10-gd0fa2fb/a2da/lib/site_perl/5.19.10/Catalyst.pm line 1180
	Catalyst::setup("TestApp") called at /tmp/loop_over_bdir-5476-xQ80_u/Catalyst-ActionRole-MatchRequestMethod-0.03-KMm5ZI/t/lib/TestApp.pm line 8
	require TestApp.pm called at /home/sand/src/perl/repoperls/installed-perls/perl/v5.19.9-10-gd0fa2fb/a2da/lib/site_perl/5.19.10/Module/Runtime.pm line 317
	Module::Runtime::require_module("TestApp") called at /home/sand/src/perl/repoperls/installed-perls/perl/v5.19.9-10-gd0fa2fb/a2da/lib/site_perl/5.19.10/Class/Load.pm line 179
	Class::Load::try {...} () called at /home/sand/src/perl/repoperls/installed-perls/perl/v5.19.9-10-gd0fa2fb/a2da/lib/site_perl/5.19.10/Try/Tiny.pm line 77
	eval {...} called at /home/sand/src/perl/repoperls/installed-perls/perl/v5.19.9-10-gd0fa2fb/a2da/lib/site_perl/5.19.10/Try/Tiny.pm line 72
	Try::Tiny::try(CODE(0x25ef740), Try::Tiny::Catch=REF(0x25eb440)) called at /home/sand/src/perl/repoperls/installed-perls/perl/v5.19.9-10-gd0fa2fb/a2da/lib/site_perl/5.19.10/Class/Load.pm line 185
	Class::Load::try_load_class("TestApp", undef) called at /home/sand/src/perl/repoperls/installed-perls/perl/v5.19.9-10-gd0fa2fb/a2da/lib/site_perl/5.19.10/Class/Load.pm line 40
	Class::Load::load_class("TestApp") called at /home/sand/src/perl/repoperls/installed-perls/perl/v5.19.9-10-gd0fa2fb/a2da/lib/site_perl/5.19.10/Catalyst/Test.pm line 29
	Catalyst::Test::_build_request_export("Catalyst::Test", HASH(0x2831e88)) called at /home/sand/src/perl/repoperls/installed-perls/perl/v5.19.9-10-gd0fa2fb/a2da/lib/site_perl/5.19.10/Catalyst/Test.pm line 92
	Catalyst::Test::__ANON__("Catalyst::Test", "all", HASH(0x2831e58), HASH(0x14d1948)) called at /home/sand/src/perl/repoperls/installed-perls/perl/v5.19.9-10-gd0fa2fb/a2da/lib/site_perl/5.19.10/Sub/Exporter.pm line 108
	Sub::Exporter::_expand_group("Catalyst::Test", HASH(0x281f4b8), ARRAY(0x14fd090), HASH(0x14d1948), HASH(0x2831eb8), HASH(0x1225608)) called at /home/sand/src/perl/repoperls/installed-perls/perl/v5.19.9-10-gd0fa2fb/a2da/lib/site_perl/5.19.10/Sub/Exporter.pm line 39
	Sub::Exporter::_expand_groups("Catalyst::Test", HASH(0x281f4b8), ARRAY(0x2831828), HASH(0x14d1948)) called at /home/sand/src/perl/repoperls/installed-perls/perl/v5.19.9-10-gd0fa2fb/a2da/lib/site_perl/5.19.10/Sub/Exporter.pm line 323
	Sub::Exporter::__ANON__("Catalyst::Test", "-all", HASH(0x12258f0)) called at /home/sand/src/perl/repoperls/installed-perls/perl/v5.19.9-10-gd0fa2fb/a2da/lib/site_perl/5.19.10/Catalyst/Test.pm line 155
	Catalyst::Test::import("Catalyst::Test", "TestApp") called at t/basic.t line 9
	main::BEGIN() called at /tmp/loop_over_bdir-5476-xQ80_u/Catalyst-ActionRole-MatchRequestMethod-0.03-KMm5ZI/t/lib/TestApp.pm line 0
	eval {...} called at /tmp/loop_over_bdir-5476-xQ80_u/Catalyst-ActionRole-MatchRequestMethod-0.03-KMm5ZI/t/lib/TestApp.pm line 0
t/basic.t ................. ok
t/release-pod-coverage.t .. skipped: these tests are for release candidate testing
t/release-pod-syntax.t .... skipped: these tests are for release candidate testing
All tests successful.
Files=3, Tests=9,  1 wallclock secs ( 0.02 usr  0.01 sys +  0.64 cusr  0.01 csys =  0.68 CPU)
Result: PASS

------------------------------
PREREQUISITES
------------------------------

Prerequisite modules loaded:

requires:

    Module                           Need Have    
    -------------------------------- ---- --------
    Catalyst::Controller::ActionRole 0    0.15    
    Catalyst::Runtime                5.80 5.90060 
    Moose::Role                      0    2.1204  
    namespace::autoclean             0    0.15    
    Perl6::Junction                  0    1.60000 

build_requires:

    Module                           Need Have    
    -------------------------------- ---- --------
    Catalyst::Controller::ActionRole 0    0.15    
    Catalyst::Test                   0    0       
    FindBin                          0    1.51    
    HTTP::Request::Common            0    6.04    
    Moose                            1.03 2.1204  
    Test::More                       0.89 1.001002

configure_requires:

    Module                           Need Have    
    -------------------------------- ---- --------
    ExtUtils::MakeMaker              6.31 6.88    


------------------------------
ENVIRONMENT AND OTHER CONTEXT
------------------------------

Environment variables:

    AUTOMATED_TESTING = 1
    LANG = en_US.UTF-8
    LANGUAGE = en_US:en
    PATH = /usr/lib/ccache:/home/sand/bin:/usr/local/bin:/usr/bin:/bin:/usr/bin/X11:/usr/games:/usr/local/perl/bin:/usr/X11/bin:/sbin:/usr/sbin
    PERL5LIB = 
    PERL5OPT = 
    PERL5_CPANPLUS_IS_RUNNING = 11123
    PERL5_CPAN_IS_RUNNING = 11123
    PERL_MM_USE_DEFAULT = 1
    SHELL = /usr/bin/zsh
    TERM = screen

Perl special variables (and OS-specific diagnostics, for MSWin32):

    $^X = /tmp/basesmoker-reloperl-wo_J/bin/perl
    $UID/$EUID = 1005 / 1005
    $GID = 1005 1005
    $EGID = 1005 1005

Perl module toolchain versions installed:

    Module              Have    
    ------------------- --------
    CPAN                2.00    
    CPAN::Meta          2.133380
    Cwd                 3.47    
    ExtUtils::CBuilder  0.280216
    ExtUtils::Command   1.18    
    ExtUtils::Install   1.62    
    ExtUtils::MakeMaker 6.88    
    ExtUtils::Manifest  1.63    
    ExtUtils::ParseXS   3.23    
    File::Spec          3.47    
    JSON                2.90    
    JSON::PP            2.27203 
    Module::Build       0.4205  
    Module::Signature   0.73    
    Parse::CPAN::Meta   1.4413  
    Test::Harness       3.30    
    Test::More          1.001002
    YAML                0.90    
    YAML::Syck          1.27    
    version             0.9908  


--

Summary of my perl5 (revision 5 version 19 subversion 10) configuration:
  Commit id: d0fa2fb96ef26fc952df78c9bc59b4c6fa32c382
  Platform:
    osname=linux, osvers=3.10-3-amd64, archname=x86_64-linux-thread-multi-ld
    uname='linux k83 3.10-3-amd64 #1 smp debian 3.10.11-1 (2013-09-10) x86_64 gnulinux '
    config_args='-Dprefix=/home/sand/src/perl/repoperls/installed-perls/perl/v5.19.9-10-gd0fa2fb/a2da -Dmyhostname=k83 -Dinstallusrbinperl=n -Uversiononly -Dusedevel -des -Ui_db -Duseithreads -Duselongdouble -DDEBUGGING=-g'
    hint=recommended, useposix=true, d_sigaction=define
    useithreads=define, usemultiplicity=define
    use64bitint=define, use64bitall=define, uselongdouble=define
    usemymalloc=n, bincompat5005=undef
  Compiler:
    cc='cc', ccflags ='-D_REENTRANT -D_GNU_SOURCE -fno-strict-aliasing -pipe -fstack-protector -I/usr/local/include -D_LARGEFILE_SOURCE -D_FILE_OFFSET_BITS=64',
    optimize='-O2 -g',
    cppflags='-D_REENTRANT -D_GNU_SOURCE -fno-strict-aliasing -pipe -fstack-protector -I/usr/local/include'
    ccversion='', gccversion='4.8.2', gccosandvers=''
    intsize=4, longsize=8, ptrsize=8, doublesize=8, byteorder=12345678
    d_longlong=define, longlongsize=8, d_longdbl=define, longdblsize=16
    ivtype='long', ivsize=8, nvtype='long double', nvsize=16, Off_t='off_t', lseeksize=8
    alignbytes=16, prototype=define
  Linker and Libraries:
    ld='cc', ldflags =' -fstack-protector -L/usr/local/lib'
    libpth=/usr/local/lib /usr/lib/gcc/x86_64-linux-gnu/4.8/include-fixed /usr/include/x86_64-linux-gnu /usr/lib /lib/x86_64-linux-gnu /lib/../lib /usr/lib/x86_64-linux-gnu /usr/lib/../lib /lib
    libs=-lnsl -lgdbm -ldb -ldl -lm -lcrypt -lutil -lpthread -lc -lgdbm_compat
    perllibs=-lnsl -ldl -lm -lcrypt -lutil -lpthread -lc
    libc=libc-2.17.so, so=so, useshrplib=false, libperl=libperl.a
    gnulibc_version='2.17'
  Dynamic Linking:
    dlsrc=dl_dlopen.xs, dlext=so, d_dlsymun=undef, ccdlflags='-Wl,-E'
    cccdlflags='-fPIC', lddlflags='-shared -O2 -g -L/usr/local/lib -fstack-protector'


Characteristics of this binary (from libperl): 
  Compile-time options: HAS_TIMES MULTIPLICITY PERLIO_LAYERS
                        PERL_DONT_CREATE_GVSV
                        PERL_HASH_FUNC_ONE_AT_A_TIME_HARD
                        PERL_IMPLICIT_CONTEXT PERL_MALLOC_WRAP
                        PERL_NEW_COPY_ON_WRITE PERL_PRESERVE_IVUV
                        PERL_USE_DEVEL USE_64_BIT_ALL USE_64_BIT_INT
                        USE_ITHREADS USE_LARGE_FILES USE_LOCALE
                        USE_LOCALE_COLLATE USE_LOCALE_CTYPE
                        USE_LOCALE_NUMERIC USE_LONG_DOUBLE USE_PERLIO
                        USE_PERL_ATOF USE_REENTRANT_API
  Built under linux
  Compiled at Feb 20 2014 12:12:57
  %ENV:
    PERL5LIB=""
    PERL5OPT=""
    PERL5_CPANPLUS_IS_RUNNING="11123"
    PERL5_CPAN_IS_RUNNING="11123"
    PERL_MM_USE_DEFAULT="1"
  @INC:
    /home/sand/src/perl/repoperls/installed-perls/perl/v5.19.9-10-gd0fa2fb/a2da/lib/site_perl/5.19.10/x86_64-linux-thread-multi-ld
    /home/sand/src/perl/repoperls/installed-perls/perl/v5.19.9-10-gd0fa2fb/a2da/lib/site_perl/5.19.10
    /home/sand/src/perl/repoperls/installed-perls/perl/v5.19.9-10-gd0fa2fb/a2da/lib/5.19.10/x86_64-linux-thread-multi-ld
    /home/sand/src/perl/repoperls/installed-perls/perl/v5.19.9-10-gd0fa2fb/a2da/lib/5.19.10
    .