autodie v2.29 Perl 5 v5.8.9 i386-freebsd
- Status
- Pass
- From
- Chris Williams (BINGOS)
- Dist
-
autodie v2.29
- Platform
- Perl 5 v5.8.9 i386-freebsd
- Date
- 2019-05-04 21:15:59
- ID
- d01bc7fa-6eb1-11e9-9ccb-b1ae95f66eb9
This distribution has been tested as part of the CPAN Testers
project, supporting the Perl programming language. See
http://wiki.cpantesters.org/ for more information or email
questions to cpan-testers-discuss@perl.org
--
Dear Paul Jamieson Fenwick,
This is a computer-generated error report created automatically by
CPANPLUS, version 0.9176. Testers personal comments may appear
at the end of this report.
Thank you for uploading your work to CPAN. Congratulations!
All tests were successful.
TEST RESULTS:
Below is the error stack from stage 'make test':
PERL_DL_NONLAZY=1 "/usr/home/cpan/pit/bare/perl-5.8.9/bin/perl" "-MExtUtils::Command::MM" "-MTest::Harness" "-e" "undef *Test::Harness::Switches; test_harness(0, 'blib/lib', 'blib/arch')" t/*.t
t/00-load.t ...................... ok
t/args.t ......................... ok
t/author-critic.t ................ skipped: these tests are for testing by the author
t/autodie.t ...................... ok
t/backcompat.t ................... ok
t/basic_exceptions.t ............. ok
t/binmode.t ...................... ok
t/blog_hints.t ................... ok
t/caller.t ....................... ok
t/chmod.t ........................ ok
t/chown.t ........................ ok
t/context.t ...................... ok
t/context_lexical.t .............. ok
t/core-trampoline-slurp.t ........ ok
t/crickey.t ...................... ok
t/critic.t ....................... skipped: Author test. Set $ENV{AUTHOR_TESTING} to true to run.
t/dbmopen.t ...................... ok
t/eval_error.t ................... ok
t/exception_class.t .............. ok
t/exceptions.t ................... skipped: Perl 5.10 only tests
t/exec.t ......................... ok
t/Fatal.t ........................ ok
t/filehandles.t .................. ok
t/fileno.t ....................... ok
t/flock.t ........................ ok
t/fork.t ......................... skipped: BSD::Resource required to test fork()
t/format-clobber.t ............... ok
# Sub::Identify is not loaded
t/hints.t ........................ ok
t/hints_insist.t ................. ok
t/hints_pod_examples.t ........... skipped: Only subroutine hints supported in 5.8.x
t/hints_provider_does.t .......... ok
t/hints_provider_easy_does_it.t .. ok
t/hints_provider_isa.t ........... ok
t/import-into.t .................. skipped: Test needs Import::Into >= 1.002004
t/internal-backcompat.t .......... ok
t/internal.t ..................... ok
t/kill.t ......................... ok
t/kwalitee.t ..................... skipped: Author test. Set $ENV{RELEASE_TESTING} to true to run.
t/lethal.t ....................... ok
t/lex58.t ........................ skipped: IPC::System::Simple required
t/mkdir.t ........................ ok
t/no_carp.t ...................... ok
t/open.t ......................... ok
t/pod-coverage.t ................. skipped: Author test. Set $ENV{AUTHOR_TESTING} to true to run.
t/pod.t .......................... skipped: Author test. Set $ENV{AUTHOR_TESTING} to true to run.
t/read.t ......................... ok
t/recv.t ......................... ok
t/release-pod-coverage.t ......... skipped: these tests are for release candidate testing
t/release-pod-syntax.t ........... skipped: these tests are for release candidate testing
t/repeat.t ....................... ok
Variable "$open" is not imported at (eval 5) line 5.
(Did you mean &open instead?)
t/rt-74246.t ..................... ok
t/scope_leak.t ................... ok
t/skip.t ......................... ok
t/socket.t ....................... skipped: Author test. Set $ENV{AUTHOR_TESTING} to true to run.
t/string-eval-basic.t ............ ok
t/string-eval-leak.t ............. ok
t/sysopen.t ...................... ok
t/system.t ....................... skipped: IPC::System::Simple not installed
t/truncate.t ..................... ok
t/unlink.t ....................... ok
t/user-context.t ................. ok
t/usersub.t ...................... ok
t/utf8_open.t .................... skipped: autodie does not honor the open pragma before 5.10
t/utime.t ........................ ok
t/version.t ...................... skipped: Release test. Set $ENV{RELEASE_TESTING} to true to run.
t/version_tag.t .................. ok
All tests successful.
Files=66, Tests=385, 6 wallclock secs ( 0.17 usr 0.12 sys + 3.85 cusr 1.59 csys = 5.73 CPU)
Result: PASS
PREREQUISITES:
Here is a list of prerequisites you specified and versions we
managed to load:
Module Name Have Want
B 1.19 0
Carp 1.10 0
Exporter 5.63 5.57
ExtUtils::MakeMaker 7.36 0
Fcntl 1.06 0
File::Copy 2.13 0
File::Spec 3.75 0
File::Temp 0.2309 0
FindBin 1.49 0
IO::Handle 1.27 0
POSIX 1.15 0
Scalar::Util 1.19 0
Socket 1.81 0
Test::More 1.302164 0
Tie::RefHash 1.38 0
constant 1.17 0
if 0.05 0
lib 0.61 0
overload 1.06 0
parent 0.237 0
strict 1.03 0
warnings 1.05_01 0
Perl module toolchain versions installed:
Module Name Have
CPANPLUS 0.9176
CPANPLUS::Dist::Build 0.90
Cwd 3.75
ExtUtils::CBuilder 0.280231
ExtUtils::Command 7.36
ExtUtils::Install 2.14
ExtUtils::MakeMaker 7.36
ExtUtils::Manifest 1.72
ExtUtils::ParseXS 3.35
File::Spec 3.75
Module::Build 0.4229
Pod::Parser 1.35
Pod::Simple 3.35
Test2 1.302164
Test::Harness 3.42
Test::More 1.302164
version 0.9924
******************************** NOTE ********************************
The comments above are created mechanically, possibly without manual
checking by the sender. As there are many people performing automatic
tests on each upload to CPAN, it is likely that you will receive
identical messages about the same problem.
If you believe that the message is mistaken, please reply to the first
one with correction and/or additional informations, and do not take
it personally. We appreciate your patience. :)
**********************************************************************
Additional comments:
This report was machine-generated by CPANPLUS::Dist::YACSmoke 1.08.
Powered by minismokebox version 0.68
CPANPLUS is prefering Build.PL
------------------------------
ENVIRONMENT AND OTHER CONTEXT
------------------------------
Environment variables:
AUTOMATED_TESTING = 1
NONINTERACTIVE_TESTING = 1
PATH = /sbin:/bin:/usr/sbin:/usr/bin:/usr/local/sbin:/usr/local/bin:/home/cpan/bin
PERL5LIB = /usr/home/cpan/pit/jail/yeBuet9bTz/lib/perl5:/usr/home/cpan/pit/bare/conf/perl-5.8.9/.cpanplus/5.8.9/build/B58EDpt7Ky/autodie-2.29/blib/lib:/usr/home/cpan/pit/bare/conf/perl-5.8.9/.cpanplus/5.8.9/build/B58EDpt7Ky/autodie-2.29/blib/arch
PERL5_CPANPLUS_IS_RUNNING = 56972
PERL5_CPANPLUS_IS_VERSION = 0.9176
PERL5_MINISMOKEBOX = 0.68
PERL5_YACSMOKE_BASE = /usr/home/cpan/pit/bare/conf/perl-5.8.9
PERL_EXTUTILS_AUTOINSTALL = --defaultdeps
PERL_LOCAL_LIB_ROOT = /usr/home/cpan/pit/jail/yeBuet9bTz
PERL_MB_OPT = --install_base "/usr/home/cpan/pit/jail/yeBuet9bTz"
PERL_MM_OPT = INSTALL_BASE=/usr/home/cpan/pit/jail/yeBuet9bTz
PERL_MM_USE_DEFAULT = 1
PERL_USE_UNSAFE_INC = 1
SHELL = /usr/local/bin/bash
TERM = screen
Perl special variables (and OS-specific diagnostics, for MSWin32):
Perl: $^X = /usr/home/cpan/pit/bare/perl-5.8.9/bin/perl
UID: $< = 1002
EUID: $> = 1002
GID: $( = 1002 1002
EGID: $) = 1002 1002
-------------------------------
--
Summary of my perl5 (revision 5 version 8 subversion 9) configuration:
Platform:
osname=freebsd, osvers=11.2-release-p8, archname=i386-freebsd
uname='freebsd froggle 11.2-release-p8 freebsd 11.2-release-p8 #0: tue jan 8 21:31:23 utc 2019 root@amd64-builder.daemonology.net:usrobjusrsrcsysgeneric i386 '
config_args='-des -Dprefix=/usr/home/cpan/pit/bare/perl-5.8.9'
hint=recommended, useposix=true, d_sigaction=define
usethreads=undef use5005threads=undef useithreads=undef usemultiplicity=undef
useperlio=define d_sfio=undef uselargefiles=define usesocks=undef
use64bitint=undef use64bitall=undef uselongdouble=undef
usemymalloc=n, bincompat5005=undef
Compiler:
cc='cc', ccflags ='-DHAS_FPSETMASK -DHAS_FLOATINGPOINT_H -fno-strict-aliasing -pipe -I/usr/local/include',
optimize='-O2',
cppflags='-DHAS_FPSETMASK -DHAS_FLOATINGPOINT_H -fno-strict-aliasing -pipe -I/usr/local/include'
ccversion='', gccversion='4.2.1 Compatible FreeBSD Clang 6.0.0 (tags/RELEASE_600/final 326565)', gccosandvers=''
intsize=4, longsize=4, ptrsize=4, doublesize=8, byteorder=1234
d_longlong=define, longlongsize=8, d_longdbl=define, longdblsize=12
ivtype='long', ivsize=4, nvtype='double', nvsize=8, Off_t='off_t', lseeksize=8
alignbytes=4, prototype=define
Linker and Libraries:
ld='cc', ldflags ='-Wl,-E -L/usr/local/lib'
libpth=/usr/lib /usr/local/lib
libs=-lgdbm -ldl -lm -lcrypt -lutil -lc
perllibs=-ldl -lm -lcrypt -lutil -lc
libc=, so=so, useshrplib=false, libperl=libperl.a
gnulibc_version=''
Dynamic Linking:
dlsrc=dl_dlopen.xs, dlext=so, d_dlsymun=undef, ccdlflags=' '
cccdlflags='-DPIC -fPIC', lddlflags='-shared -L/usr/local/lib'
Characteristics of this binary (from libperl):
Compile-time options: PERL_MALLOC_WRAP USE_FAST_STDIO USE_LARGE_FILES
USE_PERLIO
Locally applied patches:
Devel::PatchPerl 1.52
Built under freebsd
Compiled at Jan 15 2019 11:03:04
%ENV:
PERL5LIB="/usr/home/cpan/pit/jail/yeBuet9bTz/lib/perl5:/usr/home/cpan/pit/bare/conf/perl-5.8.9/.cpanplus/5.8.9/build/B58EDpt7Ky/autodie-2.29/blib/lib:/usr/home/cpan/pit/bare/conf/perl-5.8.9/.cpanplus/5.8.9/build/B58EDpt7Ky/autodie-2.29/blib/arch"
PERL5_CPANPLUS_IS_RUNNING="56972"
PERL5_CPANPLUS_IS_VERSION="0.9176"
PERL5_MINISMOKEBOX="0.68"
PERL5_YACSMOKE_BASE="/usr/home/cpan/pit/bare/conf/perl-5.8.9"
PERL_EXTUTILS_AUTOINSTALL="--defaultdeps"
PERL_LOCAL_LIB_ROOT="/usr/home/cpan/pit/jail/yeBuet9bTz"
PERL_MB_OPT="--install_base "/usr/home/cpan/pit/jail/yeBuet9bTz""
PERL_MM_OPT="INSTALL_BASE=/usr/home/cpan/pit/jail/yeBuet9bTz"
PERL_MM_USE_DEFAULT="1"
PERL_USE_UNSAFE_INC="1"
@INC:
/usr/home/cpan/pit/jail/yeBuet9bTz/lib/perl5/5.8.9/i386-freebsd
/usr/home/cpan/pit/jail/yeBuet9bTz/lib/perl5/5.8.9
/usr/home/cpan/pit/jail/yeBuet9bTz/lib/perl5/i386-freebsd
/usr/home/cpan/pit/jail/yeBuet9bTz/lib/perl5
/usr/home/cpan/pit/bare/conf/perl-5.8.9/.cpanplus/5.8.9/build/B58EDpt7Ky/autodie-2.29/blib/lib
/usr/home/cpan/pit/bare/conf/perl-5.8.9/.cpanplus/5.8.9/build/B58EDpt7Ky/autodie-2.29/blib/arch
/usr/home/cpan/pit/bare/perl-5.8.9/lib/5.8.9/i386-freebsd
/usr/home/cpan/pit/bare/perl-5.8.9/lib/5.8.9
/usr/home/cpan/pit/bare/perl-5.8.9/lib/site_perl/5.8.9/i386-freebsd
/usr/home/cpan/pit/bare/perl-5.8.9/lib/site_perl/5.8.9
.