StorageDisplay v2.01 Perl 5 v5.30.3 x86_64-linux
- Status
- Pass
- From
- Slaven Rezić
- Dist
-
StorageDisplay v2.01
- Platform
- Perl 5 v5.30.3 x86_64-linux
- Date
- 2023-03-26 16:32:34
- ID
- d01d6ff8-cbf3-11ed-ace9-fe1b6e8775ea
This distribution has been tested as part of the CPAN Testers
project, supporting the Perl programming language. See
http://wiki.cpantesters.org/ for more information or email
questions to cpan-testers-discuss@perl.org
--
Dear Vincent Danjean,
This is a computer-generated report for StorageDisplay-2.01
on perl 5.30.3, created by CPAN-Reporter-1.2018.
Thank you for uploading your work to CPAN. Congratulations!
All tests were successful.
Sections of this report:
* Tester comments
* Program output
* Prerequisites
* Environment and other context
------------------------------
TESTER COMMENTS
------------------------------
Additional comments from tester:
none provided
------------------------------
PROGRAM OUTPUT
------------------------------
Output from '/usr/bin/make test':
PERL_DL_NONLAZY=1 "/bbbike/perl-5.30.3/bin/perl" "-MExtUtils::Command::MM" "-MTest::Harness" "-e" "undef *Test::Harness::Switches; test_harness(0, 'blib/lib', 'blib/arch')" t/*.t
# Testing with Perl 5.030003, /bbbike/perl-5.30.3/bin/perl
# Carp version is 1.50
# Data::Compare version is 1.28
# Data::Dumper version is 2.174
# ExtUtils::MakeMaker version is 7.64
# Getopt::Long version is 2.5
# IO::Select version is 1.40
# JSON::PP version is 4.02
# Moose version is 2.2201
# MooseX::NonMoose version is 0.26
# MooseX::Role::Parameterized version is 1.11
# Net::OpenSSH version is 0.82
# Object::ID version is v0.1.2
# POSIX version is 1.88
# Path::Class version is 0.37
# Path::Class::Dir version is 0.37
# Pod::Usage version is 1.69
# Scalar::Util version is 1.62
# Storable version is 3.15
# Term::ReadKey version is 2.38
# Test2::V0 version is 0.000145
# Test::File::Contents version is 0.242
# Test::More version is 1.302190
# Test::Script version is 1.29
# Types::Standard version is 1.012004
# base version is 2.27
# bignum version is 0.51
# bigrat version is 0.51
# namespace::sweep version is 0.006
# parent version is 0.237
# strict version is 1.11
# utf8 version is 1.22
# warnings version is 1.44
t/000-report-versions.t .. ok
t/05_round.t ............. ok
t/06_int-data-dumper.t ... ok
# JSON::PP: boolean_values support: 1
# JSON::PP: allow_bignum support: 1
# JSON::PP has boolean_values: 1
t/07_json.t .............. ok
t/10_scripts.t ........... ok
t/20_reference.t ......... ok
t/author-critic.t ........ skipped: these tests are for testing by the author
t/author-distmeta.t ...... skipped: these tests are for testing by the author
t/author-pod-syntax.t .... skipped: these tests are for testing by the author
All tests successful.
Files=9, Tests=111, 12 wallclock secs ( 0.04 usr 0.05 sys + 8.75 cusr 2.82 csys = 11.66 CPU)
Result: PASS
------------------------------
PREREQUISITES
------------------------------
Prerequisite modules loaded:
requires:
Module Need Have
--------------------------- -------- --------
base 0 2.27
bignum 0.51 0.51
bigrat 0.51 0.51
Carp 0 1.50
Data::Compare 0 1.28
Data::Dumper 0 2.174
Getopt::Long 0 2.5
IO::Select 0 1.40
JSON::PP 0 4.02
Moose 0 2.2201
Moose::Role 0 2.2201
MooseX::NonMoose 0 0.26
MooseX::Role::Parameterized 0 1.11
namespace::sweep 0 0.006
Net::OpenSSH 0 0.82
Object::ID 0 v0.1.2
parent 0 0.237
Path::Class::Dir 0 0.37
perl 5.014000 5.030003
Pod::Usage 0 1.69
POSIX 0 1.88
Scalar::Util 0 1.62
Storable 0 3.15
strict 0 1.11
Term::ReadKey 0 2.38
Types::Standard 0 1.012004
warnings 0 1.44
build_requires:
Module Need Have
--------------------------- -------- --------
ExtUtils::MakeMaker 0 7.64
Path::Class 0 0.37
Test2::V0 0 0.000145
Test::File::Contents 0 0.242
Test::More 0.94 1.302190
Test::Script 0 1.29
utf8 0 1.22
configure_requires:
Module Need Have
--------------------------- -------- --------
ExtUtils::MakeMaker 0 7.64
------------------------------
ENVIRONMENT AND OTHER CONTEXT
------------------------------
Environment variables:
LANG = C
PATH = /usr/local/bin:/usr/bin:/bin:/usr/local/sbin:/usr/sbin:/sbin:/home/cpansand/bin/linux-gnu:/home/cpansand/bin/sh:/home/cpansand/bin:/usr/games:/home/cpansand/devel:/home/eserte/src/srezic-misc/scripts
PERL5LIB = /home/cpansand/.cpan/build/2023032614/namespace-sweep-0.006-0/blib/arch:/home/cpansand/.cpan/build/2023032614/namespace-sweep-0.006-0/blib/lib:/home/cpansand/.cpan/build/2023032614/Test-File-Contents-0.242-0/blib/arch:/home/cpansand/.cpan/build/2023032614/Test-File-Contents-0.242-0/blib/lib:/home/cpansand/.cpan/build/2023032614/Object-ID-v0.1.2-0/blib/arch:/home/cpansand/.cpan/build/2023032614/Object-ID-v0.1.2-0/blib/lib:/home/cpansand/.cpan/build/2023032614/Hash-FieldHash-0.15-0/blib/arch:/home/cpansand/.cpan/build/2023032614/Hash-FieldHash-0.15-0/blib/lib:/home/cpansand/.cpan/build/2023032614/MooseX-NonMoose-0.26-0/blib/arch:/home/cpansand/.cpan/build/2023032614/MooseX-NonMoose-0.26-0/blib/lib:/home/cpansand/.cpan/build/2023032614/Data-Compare-1.28-1/blib/arch:/home/cpansand/.cpan/build/2023032614/Data-Compare-1.28-1/blib/lib
PERL5OPT =
PERL5_CPANPLUS_IS_RUNNING = 540812
PERL5_CPAN_IS_RUNNING = 540812
PERL5_CPAN_IS_RUNNING_IN_RECURSION = 3017748,540812
PERLDOC = -MPod::Perldoc::ToTextOverstrike
PERL_BATCH = yes
PERL_CANARY_STABILITY_NOPROMPT = 1
PERL_CPAN_REPORTER_CONFIG = /var/tmp/cpansmoker-1023/2023032518/cpanreporter_003_config.ini
PERL_EXTUTILS_AUTOINSTALL = --defaultdeps
PERL_USE_UNSAFE_INC = 1
SHELL = /usr/bin/zsh
TERM = screen
TMPDIR = /var/tmp/cpansmoker-1023/2023032518
Perl special variables (and OS-specific diagnostics, for MSWin32):
$^X = /bbbike/perl-5.30.3/bin/perl
$UID/$EUID = 1023 / 1023
$GID = 1023 1023
$EGID = 1023 1023
Perl module toolchain versions installed:
Module Have
------------------- --------
CPAN 2.22
CPAN::Meta 2.150010
Cwd 3.78
ExtUtils::CBuilder 0.280231
ExtUtils::Command 7.64
ExtUtils::Install 2.14
ExtUtils::MakeMaker 7.64
ExtUtils::Manifest 1.72
ExtUtils::ParseXS 3.40
File::Spec 3.78
JSON n/a
JSON::PP 4.02
Module::Build 0.4231
Module::Signature 0.88
Parse::CPAN::Meta 2.150010
Test::Harness 3.42
Test::More 1.302190
YAML 1.30
YAML::Syck 1.34
version 0.9924
--
Summary of my perl5 (revision 5 version 30 subversion 3) configuration:
Platform:
osname=linux
osvers=5.10.0-13-amd64
archname=x86_64-linux
uname='linux eserte 5.10.0-13-amd64 #1 smp debian 5.10.106-1 (2022-03-17) x86_64 gnulinux '
config_args='-ds -e -Dprefix=/opt/perl-5.30.3 -Dcf_email=srezic@cpan.org'
hint=recommended
useposix=true
d_sigaction=define
useithreads=undef
usemultiplicity=undef
use64bitint=define
use64bitall=define
uselongdouble=undef
usemymalloc=n
default_inc_excludes_dot=define
bincompat5005=undef
Compiler:
cc='cc'
ccflags ='-fwrapv -fno-strict-aliasing -pipe -fstack-protector-strong -I/usr/local/include -D_LARGEFILE_SOURCE -D_FILE_OFFSET_BITS=64 -D_FORTIFY_SOURCE=2'
optimize='-O2'
cppflags='-fwrapv -fno-strict-aliasing -pipe -fstack-protector-strong -I/usr/local/include'
ccversion=''
gccversion='10.2.1 20210110'
gccosandvers=''
intsize=4
longsize=8
ptrsize=8
doublesize=8
byteorder=12345678
doublekind=3
d_longlong=define
longlongsize=8
d_longdbl=define
longdblsize=16
longdblkind=3
ivtype='long'
ivsize=8
nvtype='double'
nvsize=8
Off_t='off_t'
lseeksize=8
alignbytes=8
prototype=define
Linker and Libraries:
ld='cc'
ldflags =' -fstack-protector-strong -L/usr/local/lib'
libpth=/usr/local/lib /usr/include/x86_64-linux-gnu /usr/lib /lib/x86_64-linux-gnu /lib/../lib /usr/lib/x86_64-linux-gnu /usr/lib/../lib /lib
libs=-lpthread -lnsl -lgdbm -ldb -ldl -lm -lcrypt -lutil -lc
perllibs=-lpthread -lnsl -ldl -lm -lcrypt -lutil -lc
libc=libc-2.31.so
so=so
useshrplib=false
libperl=libperl.a
gnulibc_version='2.31'
Dynamic Linking:
dlsrc=dl_dlopen.xs
dlext=so
d_dlsymun=undef
ccdlflags='-Wl,-E'
cccdlflags='-fPIC'
lddlflags='-shared -O2 -L/usr/local/lib -fstack-protector-strong'
Characteristics of this binary (from libperl):
Compile-time options:
HAS_TIMES
PERLIO_LAYERS
PERL_COPY_ON_WRITE
PERL_DONT_CREATE_GVSV
PERL_MALLOC_WRAP
PERL_OP_PARENT
PERL_PRESERVE_IVUV
USE_64_BIT_ALL
USE_64_BIT_INT
USE_LARGE_FILES
USE_LOCALE
USE_LOCALE_COLLATE
USE_LOCALE_CTYPE
USE_LOCALE_NUMERIC
USE_LOCALE_TIME
USE_PERLIO
USE_PERL_ATOF
Built under linux
Compiled at May 17 2022 05:21:59
%ENV:
PERL5LIB="/home/cpansand/.cpan/build/2023032614/namespace-sweep-0.006-0/blib/arch:/home/cpansand/.cpan/build/2023032614/namespace-sweep-0.006-0/blib/lib:/home/cpansand/.cpan/build/2023032614/Test-File-Contents-0.242-0/blib/arch:/home/cpansand/.cpan/build/2023032614/Test-File-Contents-0.242-0/blib/lib:/home/cpansand/.cpan/build/2023032614/Object-ID-v0.1.2-0/blib/arch:/home/cpansand/.cpan/build/2023032614/Object-ID-v0.1.2-0/blib/lib:/home/cpansand/.cpan/build/2023032614/Hash-FieldHash-0.15-0/blib/arch:/home/cpansand/.cpan/build/2023032614/Hash-FieldHash-0.15-0/blib/lib:/home/cpansand/.cpan/build/2023032614/MooseX-NonMoose-0.26-0/blib/arch:/home/cpansand/.cpan/build/2023032614/MooseX-NonMoose-0.26-0/blib/lib:/home/cpansand/.cpan/build/2023032614/Data-Compare-1.28-1/blib/arch:/home/cpansand/.cpan/build/2023032614/Data-Compare-1.28-1/blib/lib"
PERL5OPT=""
PERL5_CPANPLUS_IS_RUNNING="540812"
PERL5_CPAN_IS_RUNNING="540812"
PERL5_CPAN_IS_RUNNING_IN_RECURSION="3017748,540812"
PERLDOC="-MPod::Perldoc::ToTextOverstrike"
PERL_BATCH="yes"
PERL_CANARY_STABILITY_NOPROMPT="1"
PERL_CPAN_REPORTER_CONFIG="/var/tmp/cpansmoker-1023/2023032518/cpanreporter_003_config.ini"
PERL_EXTUTILS_AUTOINSTALL="--defaultdeps"
PERL_USE_UNSAFE_INC="1"
@INC:
/home/cpansand/.cpan/build/2023032614/namespace-sweep-0.006-0/blib/arch
/home/cpansand/.cpan/build/2023032614/namespace-sweep-0.006-0/blib/lib
/home/cpansand/.cpan/build/2023032614/Test-File-Contents-0.242-0/blib/arch
/home/cpansand/.cpan/build/2023032614/Test-File-Contents-0.242-0/blib/lib
/home/cpansand/.cpan/build/2023032614/Object-ID-v0.1.2-0/blib/arch
/home/cpansand/.cpan/build/2023032614/Object-ID-v0.1.2-0/blib/lib
/home/cpansand/.cpan/build/2023032614/Hash-FieldHash-0.15-0/blib/arch
/home/cpansand/.cpan/build/2023032614/Hash-FieldHash-0.15-0/blib/lib
/home/cpansand/.cpan/build/2023032614/MooseX-NonMoose-0.26-0/blib/arch
/home/cpansand/.cpan/build/2023032614/MooseX-NonMoose-0.26-0/blib/lib
/home/cpansand/.cpan/build/2023032614/Data-Compare-1.28-1/blib/arch
/home/cpansand/.cpan/build/2023032614/Data-Compare-1.28-1/blib/lib
/opt/perl-5.30.3/lib/site_perl/5.30.3/x86_64-linux
/opt/perl-5.30.3/lib/site_perl/5.30.3
/opt/perl-5.30.3/lib/5.30.3/x86_64-linux
/opt/perl-5.30.3/lib/5.30.3
.