Report for Log-Log4perl-Appender-Chunk-0.002

Back
From: metabase:user:31d414ea-2aae-11df-837a-5e0a49663a4f
Subject: PASS Log-Log4perl-Appender-Chunk-0.002 v5.16.0 GNU/Linux
Date: 2014-04-12T18:18:14Z

This distribution has been tested as part of the CPAN Testers
project, supporting the Perl programming language.  See
http://wiki.cpantesters.org/ for more information or email
questions to cpan-testers-discuss@perl.org


--
Dear Jerome Eteve,

This is a computer-generated report for Log-Log4perl-Appender-Chunk-0.002
on perl 5.16.0, created by CPAN-Reporter-1.2006.

Thank you for uploading your work to CPAN.  Congratulations!
All tests were successful.

Sections of this report:

    * Tester comments
    * Program output
    * Prerequisites
    * Environment and other context

------------------------------
TESTER COMMENTS
------------------------------

Additional comments from tester:

this report is from an automated smoke testing program
and was not reviewed by a human for accuracy

------------------------------
PROGRAM OUTPUT
------------------------------

Output from '/usr/bin/make test':

PERL_DL_NONLAZY=1 /home/david/cpantesting/perl-5.16.0/bin/perl "-MExtUtils::Command::MM" "-MTest::Harness" "-e" "undef *Test::Harness::Switches; test_harness(0, 'blib/lib', 'blib/arch')" t/*.t
t/00-load.t .......... ok
t/01-basic.t ......... ok
t/02-store.t ......... ok
Passing a list of values to enum is deprecated. Enum values should be wrapped in an arrayref. at /home/david/cpantesting/perl-5.16.0/lib/site_perl/5.16.0/x86_64-linux-thread-multi/Moose/Util/TypeConstraints.pm line 441.
	Moose::Util::TypeConstraints::enum('AclShort', 'private', 'public-read', 'public-read-write', 'authenticated-read') called at /home/david/cpantesting/perl-5.16.0/lib/site_perl/5.16.0/Net/Amazon/S3/Client/Object.pm line 18
	require Net/Amazon/S3/Client/Object.pm called at /home/david/cpantesting/perl-5.16.0/lib/site_perl/5.16.0/Net/Amazon/S3.pm line 17
	Net::Amazon::S3::BEGIN() called at /home/david/cpantesting/perl-5.16.0/lib/site_perl/5.16.0/Net/Amazon/S3/Client/Object.pm line 0
	eval {...} called at /home/david/cpantesting/perl-5.16.0/lib/site_perl/5.16.0/Net/Amazon/S3/Client/Object.pm line 0
	require Net/Amazon/S3.pm called at /home/david/cpantesting/perl-5.16.0/.cpan/build/Log-Log4perl-Appender-Chunk-0.002-Ya4iM9/blib/lib/Log/Log4perl/Appender/Chunk/Store/S3.pm line 12
	Log::Log4perl::Appender::Chunk::Store::S3::BEGIN() called at /home/david/cpantesting/perl-5.16.0/lib/site_perl/5.16.0/Net/Amazon/S3/Client/Object.pm line 0
	eval {...} called at /home/david/cpantesting/perl-5.16.0/lib/site_perl/5.16.0/Net/Amazon/S3/Client/Object.pm line 0
	require Log/Log4perl/Appender/Chunk/Store/S3.pm called at /home/david/cpantesting/perl-5.16.0/lib/site_perl/5.16.0/Module/Runtime.pm line 317
	Module::Runtime::require_module('Log::Log4perl::Appender::Chunk::Store::S3') called at /home/david/cpantesting/perl-5.16.0/lib/site_perl/5.16.0/Class/Load.pm line 179
	Class::Load::try {...} () called at /home/david/cpantesting/perl-5.16.0/lib/site_perl/5.16.0/Try/Tiny.pm line 77
	eval {...} called at /home/david/cpantesting/perl-5.16.0/lib/site_perl/5.16.0/Try/Tiny.pm line 72
	Try::Tiny::try('CODE(0x36f82a0)', 'Try::Tiny::Catch=REF(0x37201c0)') called at /home/david/cpantesting/perl-5.16.0/lib/site_perl/5.16.0/Class/Load.pm line 185
	Class::Load::try_load_class('Log::Log4perl::Appender::Chunk::Store::S3', undef) called at /home/david/cpantesting/perl-5.16.0/lib/site_perl/5.16.0/Class/Load.pm line 40
	Class::Load::load_class('Log::Log4perl::Appender::Chunk::Store::S3') called at /home/david/cpantesting/perl-5.16.0/.cpan/build/Log-Log4perl-Appender-Chunk-0.002-Ya4iM9/blib/lib/Log/Log4perl/Appender/Chunk.pm line 54
	Log::Log4perl::Appender::Chunk::_full_store_class('Log::Log4perl::Appender::Chunk=HASH(0x36487a0)') called at /home/david/cpantesting/perl-5.16.0/.cpan/build/Log-Log4perl-Appender-Chunk-0.002-Ya4iM9/blib/lib/Log/Log4perl/Appender/Chunk.pm line 37
	Log::Log4perl::Appender::Chunk::__ANON__() called at /home/david/cpantesting/perl-5.16.0/.cpan/build/Log-Log4perl-Appender-Chunk-0.002-Ya4iM9/blib/lib/Log/Log4perl/Appender/Chunk.pm line 43
	Log::Log4perl::Appender::Chunk::_build_store('Log::Log4perl::Appender::Chunk=HASH(0x36487a0)') called at reader Log::Log4perl::Appender::Chunk::store (defined at /home/david/cpantesting/perl-5.16.0/.cpan/build/Log-Log4perl-Appender-Chunk-0.002-Ya4iM9/blib/lib/Log/Log4perl/Appender/Chunk.pm line 29) line 8
	Log::Log4perl::Appender::Chunk::store('Log::Log4perl::Appender::Chunk=HASH(0x36487a0)') called at t/03-store-s3.t line 37
Passing a list of values to enum is deprecated. Enum values should be wrapped in an arrayref. at /home/david/cpantesting/perl-5.16.0/lib/site_perl/5.16.0/x86_64-linux-thread-multi/Moose/Util/TypeConstraints.pm line 441.
	Moose::Util::TypeConstraints::enum('HTTPMethod', 'DELETE', 'GET', 'HEAD', 'PUT', 'POST') called at /home/david/cpantesting/perl-5.16.0/lib/site_perl/5.16.0/Net/Amazon/S3/HTTPRequest.pm line 19
	require Net/Amazon/S3/HTTPRequest.pm called at /home/david/cpantesting/perl-5.16.0/lib/site_perl/5.16.0/Net/Amazon/S3.pm line 18
	Net::Amazon::S3::BEGIN() called at /home/david/cpantesting/perl-5.16.0/lib/site_perl/5.16.0/Net/Amazon/S3/HTTPRequest.pm line 0
	eval {...} called at /home/david/cpantesting/perl-5.16.0/lib/site_perl/5.16.0/Net/Amazon/S3/HTTPRequest.pm line 0
	require Net/Amazon/S3.pm called at /home/david/cpantesting/perl-5.16.0/.cpan/build/Log-Log4perl-Appender-Chunk-0.002-Ya4iM9/blib/lib/Log/Log4perl/Appender/Chunk/Store/S3.pm line 12
	Log::Log4perl::Appender::Chunk::Store::S3::BEGIN() called at /home/david/cpantesting/perl-5.16.0/lib/site_perl/5.16.0/Net/Amazon/S3/HTTPRequest.pm line 0
	eval {...} called at /home/david/cpantesting/perl-5.16.0/lib/site_perl/5.16.0/Net/Amazon/S3/HTTPRequest.pm line 0
	require Log/Log4perl/Appender/Chunk/Store/S3.pm called at /home/david/cpantesting/perl-5.16.0/lib/site_perl/5.16.0/Module/Runtime.pm line 317
	Module::Runtime::require_module('Log::Log4perl::Appender::Chunk::Store::S3') called at /home/david/cpantesting/perl-5.16.0/lib/site_perl/5.16.0/Class/Load.pm line 179
	Class::Load::try {...} () called at /home/david/cpantesting/perl-5.16.0/lib/site_perl/5.16.0/Try/Tiny.pm line 77
	eval {...} called at /home/david/cpantesting/perl-5.16.0/lib/site_perl/5.16.0/Try/Tiny.pm line 72
	Try::Tiny::try('CODE(0x36f82a0)', 'Try::Tiny::Catch=REF(0x37201c0)') called at /home/david/cpantesting/perl-5.16.0/lib/site_perl/5.16.0/Class/Load.pm line 185
	Class::Load::try_load_class('Log::Log4perl::Appender::Chunk::Store::S3', undef) called at /home/david/cpantesting/perl-5.16.0/lib/site_perl/5.16.0/Class/Load.pm line 40
	Class::Load::load_class('Log::Log4perl::Appender::Chunk::Store::S3') called at /home/david/cpantesting/perl-5.16.0/.cpan/build/Log-Log4perl-Appender-Chunk-0.002-Ya4iM9/blib/lib/Log/Log4perl/Appender/Chunk.pm line 54
	Log::Log4perl::Appender::Chunk::_full_store_class('Log::Log4perl::Appender::Chunk=HASH(0x36487a0)') called at /home/david/cpantesting/perl-5.16.0/.cpan/build/Log-Log4perl-Appender-Chunk-0.002-Ya4iM9/blib/lib/Log/Log4perl/Appender/Chunk.pm line 37
	Log::Log4perl::Appender::Chunk::__ANON__() called at /home/david/cpantesting/perl-5.16.0/.cpan/build/Log-Log4perl-Appender-Chunk-0.002-Ya4iM9/blib/lib/Log/Log4perl/Appender/Chunk.pm line 43
	Log::Log4perl::Appender::Chunk::_build_store('Log::Log4perl::Appender::Chunk=HASH(0x36487a0)') called at reader Log::Log4perl::Appender::Chunk::store (defined at /home/david/cpantesting/perl-5.16.0/.cpan/build/Log-Log4perl-Appender-Chunk-0.002-Ya4iM9/blib/lib/Log/Log4perl/Appender/Chunk.pm line 29) line 8
	Log::Log4perl::Appender::Chunk::store('Log::Log4perl::Appender::Chunk=HASH(0x36487a0)') called at t/03-store-s3.t line 37
Passing a list of values to enum is deprecated. Enum values should be wrapped in an arrayref. at /home/david/cpantesting/perl-5.16.0/lib/site_perl/5.16.0/x86_64-linux-thread-multi/Moose/Util/TypeConstraints.pm line 441.
	Moose::Util::TypeConstraints::enum('AclShort', 'private', 'public-read', 'public-read-write', 'authenticated-read') called at /home/david/cpantesting/perl-5.16.0/lib/site_perl/5.16.0/Net/Amazon/S3/Request.pm line 12
	require Net/Amazon/S3/Request.pm called at /home/david/cpantesting/perl-5.16.0/lib/site_perl/5.16.0/Net/Amazon/S3.pm line 19
	Net::Amazon::S3::BEGIN() called at /home/david/cpantesting/perl-5.16.0/lib/site_perl/5.16.0/Net/Amazon/S3/Request.pm line 0
	eval {...} called at /home/david/cpantesting/perl-5.16.0/lib/site_perl/5.16.0/Net/Amazon/S3/Request.pm line 0
	require Net/Amazon/S3.pm called at /home/david/cpantesting/perl-5.16.0/.cpan/build/Log-Log4perl-Appender-Chunk-0.002-Ya4iM9/blib/lib/Log/Log4perl/Appender/Chunk/Store/S3.pm line 12
	Log::Log4perl::Appender::Chunk::Store::S3::BEGIN() called at /home/david/cpantesting/perl-5.16.0/lib/site_perl/5.16.0/Net/Amazon/S3/Request.pm line 0
	eval {...} called at /home/david/cpantesting/perl-5.16.0/lib/site_perl/5.16.0/Net/Amazon/S3/Request.pm line 0
	require Log/Log4perl/Appender/Chunk/Store/S3.pm called at /home/david/cpantesting/perl-5.16.0/lib/site_perl/5.16.0/Module/Runtime.pm line 317
	Module::Runtime::require_module('Log::Log4perl::Appender::Chunk::Store::S3') called at /home/david/cpantesting/perl-5.16.0/lib/site_perl/5.16.0/Class/Load.pm line 179
	Class::Load::try {...} () called at /home/david/cpantesting/perl-5.16.0/lib/site_perl/5.16.0/Try/Tiny.pm line 77
	eval {...} called at /home/david/cpantesting/perl-5.16.0/lib/site_perl/5.16.0/Try/Tiny.pm line 72
	Try::Tiny::try('CODE(0x36f82a0)', 'Try::Tiny::Catch=REF(0x37201c0)') called at /home/david/cpantesting/perl-5.16.0/lib/site_perl/5.16.0/Class/Load.pm line 185
	Class::Load::try_load_class('Log::Log4perl::Appender::Chunk::Store::S3', undef) called at /home/david/cpantesting/perl-5.16.0/lib/site_perl/5.16.0/Class/Load.pm line 40
	Class::Load::load_class('Log::Log4perl::Appender::Chunk::Store::S3') called at /home/david/cpantesting/perl-5.16.0/.cpan/build/Log-Log4perl-Appender-Chunk-0.002-Ya4iM9/blib/lib/Log/Log4perl/Appender/Chunk.pm line 54
	Log::Log4perl::Appender::Chunk::_full_store_class('Log::Log4perl::Appender::Chunk=HASH(0x36487a0)') called at /home/david/cpantesting/perl-5.16.0/.cpan/build/Log-Log4perl-Appender-Chunk-0.002-Ya4iM9/blib/lib/Log/Log4perl/Appender/Chunk.pm line 37
	Log::Log4perl::Appender::Chunk::__ANON__() called at /home/david/cpantesting/perl-5.16.0/.cpan/build/Log-Log4perl-Appender-Chunk-0.002-Ya4iM9/blib/lib/Log/Log4perl/Appender/Chunk.pm line 43
	Log::Log4perl::Appender::Chunk::_build_store('Log::Log4perl::Appender::Chunk=HASH(0x36487a0)') called at reader Log::Log4perl::Appender::Chunk::store (defined at /home/david/cpantesting/perl-5.16.0/.cpan/build/Log-Log4perl-Appender-Chunk-0.002-Ya4iM9/blib/lib/Log/Log4perl/Appender/Chunk.pm line 29) line 8
	Log::Log4perl::Appender::Chunk::store('Log::Log4perl::Appender::Chunk=HASH(0x36487a0)') called at t/03-store-s3.t line 37
t/03-store-s3.t ...... ok
t/04-store-memory.t .. ok
Passing a list of values to enum is deprecated. Enum values should be wrapped in an arrayref. at /home/david/cpantesting/perl-5.16.0/lib/site_perl/5.16.0/x86_64-linux-thread-multi/Moose/Util/TypeConstraints.pm line 441.
	Moose::Util::TypeConstraints::enum('AclShort', 'private', 'public-read', 'public-read-write', 'authenticated-read') called at /home/david/cpantesting/perl-5.16.0/lib/site_perl/5.16.0/Net/Amazon/S3/Client/Object.pm line 18
	require Net/Amazon/S3/Client/Object.pm called at /home/david/cpantesting/perl-5.16.0/lib/site_perl/5.16.0/Net/Amazon/S3.pm line 17
	Net::Amazon::S3::BEGIN() called at /home/david/cpantesting/perl-5.16.0/lib/site_perl/5.16.0/Net/Amazon/S3/Client/Object.pm line 0
	eval {...} called at /home/david/cpantesting/perl-5.16.0/lib/site_perl/5.16.0/Net/Amazon/S3/Client/Object.pm line 0
	require Net/Amazon/S3.pm called at /home/david/cpantesting/perl-5.16.0/.cpan/build/Log-Log4perl-Appender-Chunk-0.002-Ya4iM9/blib/lib/Log/Log4perl/Appender/Chunk/Store/S3.pm line 12
	Log::Log4perl::Appender::Chunk::Store::S3::BEGIN() called at /home/david/cpantesting/perl-5.16.0/lib/site_perl/5.16.0/Net/Amazon/S3/Client/Object.pm line 0
	eval {...} called at /home/david/cpantesting/perl-5.16.0/lib/site_perl/5.16.0/Net/Amazon/S3/Client/Object.pm line 0
	require Log/Log4perl/Appender/Chunk/Store/S3.pm called at (eval 217) line 2
	eval ' require Log::Log4perl::Appender::Chunk::Store::S3 
;' called at /home/david/cpantesting/perl-5.16.0/lib/site_perl/5.16.0/Pod/Coverage.pm line 308
	Pod::Coverage::_get_syms('Pod::Coverage=HASH(0x219c030)', 'Log::Log4perl::Appender::Chunk::Store::S3') called at /home/david/cpantesting/perl-5.16.0/lib/site_perl/5.16.0/Pod/Coverage.pm line 152
	Pod::Coverage::coverage('Pod::Coverage=HASH(0x219c030)') called at /home/david/cpantesting/perl-5.16.0/lib/site_perl/5.16.0/Test/Pod/Coverage.pm line 162
	Test::Pod::Coverage::pod_coverage_ok('Log::Log4perl::Appender::Chunk::Store::S3', 'HASH(0x1c320c0)', 'Pod coverage on Log::Log4perl::Appender::Chunk::Store::S3') called at /home/david/cpantesting/perl-5.16.0/lib/site_perl/5.16.0/Test/Pod/Coverage.pm line 126
	Test::Pod::Coverage::all_pod_coverage_ok() called at t/pod-coverage.t line 19
Passing a list of values to enum is deprecated. Enum values should be wrapped in an arrayref. at /home/david/cpantesting/perl-5.16.0/lib/site_perl/5.16.0/x86_64-linux-thread-multi/Moose/Util/TypeConstraints.pm line 441.
	Moose::Util::TypeConstraints::enum('HTTPMethod', 'DELETE', 'GET', 'HEAD', 'PUT', 'POST') called at /home/david/cpantesting/perl-5.16.0/lib/site_perl/5.16.0/Net/Amazon/S3/HTTPRequest.pm line 19
	require Net/Amazon/S3/HTTPRequest.pm called at /home/david/cpantesting/perl-5.16.0/lib/site_perl/5.16.0/Net/Amazon/S3.pm line 18
	Net::Amazon::S3::BEGIN() called at /home/david/cpantesting/perl-5.16.0/lib/site_perl/5.16.0/Net/Amazon/S3/HTTPRequest.pm line 0
	eval {...} called at /home/david/cpantesting/perl-5.16.0/lib/site_perl/5.16.0/Net/Amazon/S3/HTTPRequest.pm line 0
	require Net/Amazon/S3.pm called at /home/david/cpantesting/perl-5.16.0/.cpan/build/Log-Log4perl-Appender-Chunk-0.002-Ya4iM9/blib/lib/Log/Log4perl/Appender/Chunk/Store/S3.pm line 12
	Log::Log4perl::Appender::Chunk::Store::S3::BEGIN() called at /home/david/cpantesting/perl-5.16.0/lib/site_perl/5.16.0/Net/Amazon/S3/HTTPRequest.pm line 0
	eval {...} called at /home/david/cpantesting/perl-5.16.0/lib/site_perl/5.16.0/Net/Amazon/S3/HTTPRequest.pm line 0
	require Log/Log4perl/Appender/Chunk/Store/S3.pm called at (eval 217) line 2
	eval ' require Log::Log4perl::Appender::Chunk::Store::S3 
;' called at /home/david/cpantesting/perl-5.16.0/lib/site_perl/5.16.0/Pod/Coverage.pm line 308
	Pod::Coverage::_get_syms('Pod::Coverage=HASH(0x219c030)', 'Log::Log4perl::Appender::Chunk::Store::S3') called at /home/david/cpantesting/perl-5.16.0/lib/site_perl/5.16.0/Pod/Coverage.pm line 152
	Pod::Coverage::coverage('Pod::Coverage=HASH(0x219c030)') called at /home/david/cpantesting/perl-5.16.0/lib/site_perl/5.16.0/Test/Pod/Coverage.pm line 162
	Test::Pod::Coverage::pod_coverage_ok('Log::Log4perl::Appender::Chunk::Store::S3', 'HASH(0x1c320c0)', 'Pod coverage on Log::Log4perl::Appender::Chunk::Store::S3') called at /home/david/cpantesting/perl-5.16.0/lib/site_perl/5.16.0/Test/Pod/Coverage.pm line 126
	Test::Pod::Coverage::all_pod_coverage_ok() called at t/pod-coverage.t line 19
Passing a list of values to enum is deprecated. Enum values should be wrapped in an arrayref. at /home/david/cpantesting/perl-5.16.0/lib/site_perl/5.16.0/x86_64-linux-thread-multi/Moose/Util/TypeConstraints.pm line 441.
	Moose::Util::TypeConstraints::enum('AclShort', 'private', 'public-read', 'public-read-write', 'authenticated-read') called at /home/david/cpantesting/perl-5.16.0/lib/site_perl/5.16.0/Net/Amazon/S3/Request.pm line 12
	require Net/Amazon/S3/Request.pm called at /home/david/cpantesting/perl-5.16.0/lib/site_perl/5.16.0/Net/Amazon/S3.pm line 19
	Net::Amazon::S3::BEGIN() called at /home/david/cpantesting/perl-5.16.0/lib/site_perl/5.16.0/Net/Amazon/S3/Request.pm line 0
	eval {...} called at /home/david/cpantesting/perl-5.16.0/lib/site_perl/5.16.0/Net/Amazon/S3/Request.pm line 0
	require Net/Amazon/S3.pm called at /home/david/cpantesting/perl-5.16.0/.cpan/build/Log-Log4perl-Appender-Chunk-0.002-Ya4iM9/blib/lib/Log/Log4perl/Appender/Chunk/Store/S3.pm line 12
	Log::Log4perl::Appender::Chunk::Store::S3::BEGIN() called at /home/david/cpantesting/perl-5.16.0/lib/site_perl/5.16.0/Net/Amazon/S3/Request.pm line 0
	eval {...} called at /home/david/cpantesting/perl-5.16.0/lib/site_perl/5.16.0/Net/Amazon/S3/Request.pm line 0
	require Log/Log4perl/Appender/Chunk/Store/S3.pm called at (eval 217) line 2
	eval ' require Log::Log4perl::Appender::Chunk::Store::S3 
;' called at /home/david/cpantesting/perl-5.16.0/lib/site_perl/5.16.0/Pod/Coverage.pm line 308
	Pod::Coverage::_get_syms('Pod::Coverage=HASH(0x219c030)', 'Log::Log4perl::Appender::Chunk::Store::S3') called at /home/david/cpantesting/perl-5.16.0/lib/site_perl/5.16.0/Pod/Coverage.pm line 152
	Pod::Coverage::coverage('Pod::Coverage=HASH(0x219c030)') called at /home/david/cpantesting/perl-5.16.0/lib/site_perl/5.16.0/Test/Pod/Coverage.pm line 162
	Test::Pod::Coverage::pod_coverage_ok('Log::Log4perl::Appender::Chunk::Store::S3', 'HASH(0x1c320c0)', 'Pod coverage on Log::Log4perl::Appender::Chunk::Store::S3') called at /home/david/cpantesting/perl-5.16.0/lib/site_perl/5.16.0/Test/Pod/Coverage.pm line 126
	Test::Pod::Coverage::all_pod_coverage_ok() called at t/pod-coverage.t line 19
t/pod-coverage.t ..... ok
All tests successful.
Files=6, Tests=34,  7 wallclock secs ( 0.03 usr  0.03 sys +  2.33 cusr  0.24 csys =  2.63 CPU)
Result: PASS

------------------------------
PREREQUISITES
------------------------------

Prerequisite modules loaded:

requires:

    Module              Need   Have    
    ------------------- ------ --------
    Carp                0      1.26    
    Class::Load         0.20   0.21    
    DateTime            0      1.08    
    Log::Log4perl       1.42   1.43    
    Moose               2.1005 2.1204  

build_requires:

    Module              Need   Have    
    ------------------- ------ --------
    Data::UUID          0      1.217   
    Net::Amazon::S3     0.59   0.59    
    Test::More          0      1.001003

configure_requires:

    Module              Need   Have    
    ------------------- ------ --------
    ExtUtils::MakeMaker 6.30   6.96    


------------------------------
ENVIRONMENT AND OTHER CONTEXT
------------------------------

Environment variables:

    AUTOMATED_TESTING = 1
    PATH = /usr/local/bin:/usr/bin:/bin:/usr/games
    PERL = 5.16.0
    PERL5LIB = 
    PERL5OPT = 
    PERL5_CPANPLUS_IS_RUNNING = 5624
    PERL5_CPAN_IS_RUNNING = 5624
    PERLVER = 5.16.0
    PERL_INLINE_DIRECTORY = /home/david/.Inline-5.16.0
    PERL_MM_USE_DEFAULT = 1
    SHELL = /bin/bash
    TERM = screen

Perl special variables (and OS-specific diagnostics, for MSWin32):

    $^X = /home/david/cpantesting/perl-5.16.0/bin/perl
    $UID/$EUID = 1000 / 1000
    $GID = 1000 1000
    $EGID = 1000 1000

Perl module toolchain versions installed:

    Module              Have    
    ------------------- --------
    CPAN                1.9800  
    CPAN::Meta          2.140640
    Cwd                 3.40    
    ExtUtils::CBuilder  0.280206
    ExtUtils::Command   1.17    
    ExtUtils::Install   1.58    
    ExtUtils::MakeMaker 6.96    
    ExtUtils::Manifest  1.61    
    ExtUtils::ParseXS   3.16    
    File::Spec          3.40    
    JSON                2.53    
    JSON::PP            2.27203 
    Module::Build       0.4205  
    Module::Signature   n/a     
    Parse::CPAN::Meta   1.4414  
    Test::Harness       3.30    
    Test::More          1.001003
    YAML                0.90    
    YAML::Syck          n/a     
    version             0.99    


--

Summary of my perl5 (revision 5 version 16 subversion 0) configuration:
   
  Platform:
    osname=linux, osvers=2.6.32-5-xen-amd64, archname=x86_64-linux-thread-multi
    uname='linux pigsty.barnyard.co.uk 2.6.32-5-xen-amd64 #1 smp mon jan 16 20:48:30 utc 2012 x86_64 gnulinux '
    config_args='-de -Dprefix=/home/david/cpantesting/perl-5.16.0 -Dusethreads -Duse64bitall'
    hint=recommended, useposix=true, d_sigaction=define
    useithreads=define, usemultiplicity=define
    useperlio=define, d_sfio=undef, uselargefiles=define, usesocks=undef
    use64bitint=define, use64bitall=define, uselongdouble=undef
    usemymalloc=n, bincompat5005=undef
  Compiler:
    cc='cc', ccflags ='-D_REENTRANT -D_GNU_SOURCE -fno-strict-aliasing -pipe -fstack-protector -I/usr/local/include -D_LARGEFILE_SOURCE -D_FILE_OFFSET_BITS=64',
    optimize='-O2',
    cppflags='-D_REENTRANT -D_GNU_SOURCE -fno-strict-aliasing -pipe -fstack-protector -I/usr/local/include'
    ccversion='', gccversion='4.1.2 20061115 (prerelease) (Debian 4.1.1-21)', gccosandvers=''
    intsize=4, longsize=8, ptrsize=8, doublesize=8, byteorder=12345678
    d_longlong=define, longlongsize=8, d_longdbl=define, longdblsize=16
    ivtype='long', ivsize=8, nvtype='double', nvsize=8, Off_t='off_t', lseeksize=8
    alignbytes=8, prototype=define
  Linker and Libraries:
    ld='cc', ldflags =' -fstack-protector -L/usr/local/lib'
    libpth=/usr/local/lib /lib /usr/lib /lib64 /usr/lib64
    libs=-lnsl -lgdbm -ldb -ldl -lm -lcrypt -lutil -lpthread -lc -lgdbm_compat
    perllibs=-lnsl -ldl -lm -lcrypt -lutil -lpthread -lc
    libc=/lib/libc-2.3.6.so, so=so, useshrplib=false, libperl=libperl.a
    gnulibc_version='2.3.6'
  Dynamic Linking:
    dlsrc=dl_dlopen.xs, dlext=so, d_dlsymun=undef, ccdlflags='-Wl,-E'
    cccdlflags='-fPIC', lddlflags='-shared -O2 -L/usr/local/lib -fstack-protector'


Characteristics of this binary (from libperl): 
  Compile-time options: HAS_TIMES MULTIPLICITY PERLIO_LAYERS
                        PERL_DONT_CREATE_GVSV PERL_IMPLICIT_CONTEXT
                        PERL_MALLOC_WRAP PERL_PRESERVE_IVUV USE_64_BIT_ALL
                        USE_64_BIT_INT USE_ITHREADS USE_LARGE_FILES
                        USE_LOCALE USE_LOCALE_COLLATE USE_LOCALE_CTYPE
                        USE_LOCALE_NUMERIC USE_PERLIO USE_PERL_ATOF
                        USE_REENTRANT_API
  Built under linux
  Compiled at May 21 2012 14:49:20
  %ENV:
    PERL="5.16.0"
    PERL5LIB=""
    PERL5OPT=""
    PERL5_CPANPLUS_IS_RUNNING="5624"
    PERL5_CPAN_IS_RUNNING="5624"
    PERLVER="5.16.0"
    PERL_INLINE_DIRECTORY="/home/david/.Inline-5.16.0"
    PERL_MM_USE_DEFAULT="1"
  @INC:
    /home/david/cpantesting/perl-5.16.0/lib/site_perl/5.16.0/x86_64-linux-thread-multi
    /home/david/cpantesting/perl-5.16.0/lib/site_perl/5.16.0
    /home/david/cpantesting/perl-5.16.0/lib/5.16.0/x86_64-linux-thread-multi
    /home/david/cpantesting/perl-5.16.0/lib/5.16.0
    .