App-DBCritic v0.023 Perl 5 v5.37.8 x86_64-linux-thread-multi

Status
Pass
From
Andreas J. König (ANDK)
Dist
App-DBCritic v0.023
Platform
Perl 5 v5.37.8 x86_64-linux-thread-multi
Date
2023-01-22 10:59:16
ID
d0404cda-9a43-11ed-b681-a29ab0125217
This distribution has been tested as part of the CPAN Testers
project, supporting the Perl programming language.  See
http://wiki.cpantesters.org/ for more information or email
questions to cpan-testers-discuss@perl.org


--
Dear Mark Gardner,

This is a computer-generated report for App-DBCritic-0.023
on perl 5.37.8, created by CPAN-Reporter-1.2018.

Thank you for uploading your work to CPAN.  Congratulations!
All tests were successful.

Sections of this report:

    * Tester comments
    * Program output
    * Prerequisites
    * Environment and other context

------------------------------
TESTER COMMENTS
------------------------------

Additional comments from tester:

this report is from an automated smoke testing program
and was not reviewed by a human for accuracy

------------------------------
PROGRAM OUTPUT
------------------------------

Output from '/usr/bin/make test':

PERL_DL_NONLAZY=1 "/tmp/basesmoker-reloperl-i8dx/bin/perl" "-MExtUtils::Command::MM" "-MTest::Harness" "-e" "undef *Test::Harness::Switches; test_harness(0, 'blib/lib', 'blib/arch')" t/*.t t/policy/*.t
t/00-compile.t ......................... ok
# Testing with Perl 5.037008, /tmp/basesmoker-reloperl-i8dx/bin/perl
#     Algorithm::Combinatorics version is 0.27
#     Carp version is 1.54
#     Const::Fast version is 0.014
#     DBI version is 1.643
#     DBICx::TestDatabase version is 0.05
#     DBIx::Class version is 0.082843
#     DBIx::Class::Core version is undefined
#     DBIx::Class::Schema version is undefined
#     DBIx::Class::Schema::Loader version is 0.07051
#     Data::Compare version is 1.27
#     Devel::Symdump version is 2.18
#     English version is 1.11
#     ExtUtils::MakeMaker version is 7.66
#     File::Spec version is 3.88
#     FindBin version is 1.53
#     Getopt::Long::Descriptive version is 0.111
#     IO::Handle version is 1.51
#     IPC::Open3 version is 1.22
#     List::MoreUtils version is 0.430
#     List::Util version is 1.63
#     Modern::Perl version is 1.20230106
#     Module::Pluggable version is 5.2
#     Moo version is 2.005005
#     Moo::Role version is 2.005005
#     Path::Class version is 0.37
#     Scalar::Util version is 1.63
#     Sub::Quote version is 2.006008
#     Test::More version is 1.302191
#     Test::Most version is 0.38
#     Test::Script::Run version is 0.08
#     base version is 2.27
#     local::lib version is 2.000029
#     namespace::autoclean version is 0.29
#     overload version is 1.36
#     strict version is 1.12
#     utf8 version is 1.25
#     warnings version is 1.61
t/000-report-versions.t ................ ok
t/author-critic.t ...................... skipped: these tests are for testing by the author
t/author-eol.t ......................... skipped: these tests are for testing by the author
t/author-minimum-version.t ............. skipped: these tests are for testing by the author
t/author-mojibake.t .................... skipped: these tests are for testing by the author
t/author-no-tabs.t ..................... skipped: these tests are for testing by the author
t/author-pod-coverage.t ................ skipped: these tests are for testing by the author
t/author-pod-linkcheck.t ............... skipped: these tests are for testing by the author
t/author-pod-syntax.t .................. skipped: these tests are for testing by the author
t/author-portability.t ................. skipped: these tests are for testing by the author
t/author-synopsis.t .................... skipped: these tests are for testing by the author
t/author-test-version.t ................ skipped: these tests are for testing by the author
Attempting to create directory /tmp/loop_over_bdir-2491094-Zu3b2v/App-DBCritic-0.023-0/t/schema
t/loader.t ............................. ok
Attempting to create directory /tmp/loop_over_bdir-2491094-Zu3b2v/App-DBCritic-0.023-0/t/policy/bidirectional_relationship
t/policy/bidirectional_relationship.t .. ok
Attempting to create directory /tmp/loop_over_bdir-2491094-Zu3b2v/App-DBCritic-0.023-0/t/policy/duplicate_relationships
t/policy/duplicate_relationships.t ..... ok
Attempting to create directory /tmp/loop_over_bdir-2491094-Zu3b2v/App-DBCritic-0.023-0/t/policy/no_primary_key
t/policy/no_primary_key.t .............. ok
Attempting to create directory /tmp/loop_over_bdir-2491094-Zu3b2v/App-DBCritic-0.023-0/t/policy/nullable_text_column
t/policy/nullable_text_column.t ........ ok
t/release-changes_has_content.t ........ skipped: these tests are for release candidate testing
t/release-cpan-changes.t ............... skipped: these tests are for release candidate testing
t/release-dist-manifest.t .............. skipped: these tests are for release candidate testing
t/release-distmeta.t ................... skipped: these tests are for release candidate testing
t/release-kwalitee.t ................... skipped: these tests are for release candidate testing
t/release-meta-json.t .................. skipped: these tests are for release candidate testing
t/release-unused-vars.t ................ skipped: these tests are for release candidate testing
t/schema.t ............................. ok
t/script.t ............................. ok
All tests successful.
Files=27, Tests=57,  6 wallclock secs ( 0.07 usr  0.03 sys +  4.79 cusr  0.61 csys =  5.50 CPU)
Result: PASS

------------------------------
PREREQUISITES
------------------------------

Prerequisite modules loaded:

requires:

    Module                      Need    Have      
    --------------------------- ------- ----------
    Algorithm::Combinatorics    0       0.27      
    Carp                        0       1.54      
    Const::Fast                 0       0.014     
    Data::Compare               0       1.27      
    DBI                         0       1.643     
    DBIx::Class                 0.08125 0.082843  
    DBIx::Class::Schema::Loader 0.07007 0.07051   
    Devel::Symdump              0       2.18      
    English                     0       1.11      
    Getopt::Long::Descriptive   0       0.111     
    List::MoreUtils             0       0.430     
    List::Util                  1.33    1.63      
    Modern::Perl                0       1.20230106
    Module::Pluggable           0       5.2       
    Moo                         0       2.005005  
    Moo::Role                   0       2.005005  
    namespace::autoclean        0       0.29      
    overload                    0       1.36      
    perl                        5.012   5.037008  
    Scalar::Util                0       1.63      
    strict                      0       1.12      
    Sub::Quote                  0       2.006008  
    utf8                        0       1.25      

build_requires:

    Module                      Need    Have      
    --------------------------- ------- ----------
    base                        0       2.27      
    DBICx::TestDatabase         0       0.05      
    DBIx::Class::Core           0       0         
    DBIx::Class::Schema         0       0         
    ExtUtils::MakeMaker         0       7.66      
    File::Spec                  0       3.88      
    FindBin                     0       1.53      
    IO::Handle                  0       1.51      
    IPC::Open3                  0       1.22      
    local::lib                  0       2.000029  
    Path::Class                 0       0.37      
    Test::More                  0.94    1.302191  
    Test::Most                  0       0.38      
    Test::Script::Run           0       0.08      
    warnings                    0       1.61      

configure_requires:

    Module                      Need    Have      
    --------------------------- ------- ----------
    ExtUtils::MakeMaker         0       7.66      


------------------------------
ENVIRONMENT AND OTHER CONTEXT
------------------------------

Environment variables:

    AUTOMATED_TESTING = 1
    LANG = en_US.UTF-8
    PATH = /home/sand/bin:/usr/local/bin:/usr/local/sbin:/usr/sbin:/usr/bin:/sbin:/bin:/usr/games:/usr/local/games:/snap/bin:/usr/local/perl/bin:/usr/X11/bin
    PERL5LIB = /tmp/loop_over_bdir-2491094-Zu3b2v/Dpkg-1.21.14-0/blib/arch:/tmp/loop_over_bdir-2491094-Zu3b2v/Dpkg-1.21.14-0/blib/lib
    PERL5OPT = 
    PERL5_CPANPLUS_IS_RUNNING = 2491102
    PERL5_CPAN_IS_RUNNING = 2491102
    PERL_CANARY_STABILITY_NOPROMPT = 1
    PERL_MM_USE_DEFAULT = 1
    PERL_USE_UNSAFE_INC = 1
    SHELL = /usr/bin/zsh
    TERM = screen

Perl special variables (and OS-specific diagnostics, for MSWin32):

    $^X = /tmp/basesmoker-reloperl-i8dx/bin/perl
    $UID/$EUID = 1005 / 1005
    $GID = 1005 1005
    $EGID = 1005 1005

Perl module toolchain versions installed:

    Module              Have    
    ------------------- --------
    CPAN                2.34    
    CPAN::Meta          2.150010
    Cwd                 3.88    
    ExtUtils::CBuilder  0.280238
    ExtUtils::Command   7.66    
    ExtUtils::Install   2.22    
    ExtUtils::MakeMaker 7.66    
    ExtUtils::Manifest  1.73    
    ExtUtils::ParseXS   3.49    
    File::Spec          3.88    
    JSON                4.10    
    JSON::PP            4.16    
    Module::Build       0.4232  
    Module::Signature   0.88    
    Parse::CPAN::Meta   2.150010
    Test::Harness       3.44    
    Test::More          1.302191
    YAML                1.30    
    YAML::Syck          1.34    
    version             0.9929  


--

Summary of my perl5 (revision 5 version 37 subversion 8) configuration:
  Commit id: aaff26e0f2e98dc425f7514531d35dfec6948f6d
  Platform:
    osname=linux
    osvers=5.4.0-137-generic
    archname=x86_64-linux-thread-multi
    uname='linux k93focal 5.4.0-137-generic #154-ubuntu smp thu jan 5 17:03:22 utc 2023 x86_64 x86_64 x86_64 gnulinux '
    config_args='-Dprefix=/home/sand/src/perl/repoperls/installed-perls/host/k93focal/v5.37.8/d119 -Dmyhostname=k93focal -Dinstallusrbinperl=n -Uversiononly -Dusedevel -des -Ui_db -Dlibswanted=cl pthread socket inet nsl gdbm dbm malloc dl ld sun m crypt sec util c cposix posix ucb BSD gdbm_compat -Duseithreads -Uuselongdouble -DEBUGGING=both'
    hint=recommended
    useposix=true
    d_sigaction=define
    useithreads=define
    usemultiplicity=define
    use64bitint=define
    use64bitall=define
    uselongdouble=undef
    usemymalloc=n
    default_inc_excludes_dot=define
  Compiler:
    cc='cc'
    ccflags ='-D_REENTRANT -D_GNU_SOURCE -fwrapv -DDEBUGGING -fno-strict-aliasing -pipe -fstack-protector-strong -I/usr/local/include -D_LARGEFILE_SOURCE -D_FILE_OFFSET_BITS=64'
    optimize='-O2 -g'
    cppflags='-D_REENTRANT -D_GNU_SOURCE -fwrapv -DDEBUGGING -fno-strict-aliasing -pipe -fstack-protector-strong -I/usr/local/include'
    ccversion=''
    gccversion='9.4.0'
    gccosandvers=''
    intsize=4
    longsize=8
    ptrsize=8
    doublesize=8
    byteorder=12345678
    doublekind=3
    d_longlong=define
    longlongsize=8
    d_longdbl=define
    longdblsize=16
    longdblkind=3
    ivtype='long'
    ivsize=8
    nvtype='double'
    nvsize=8
    Off_t='off_t'
    lseeksize=8
    alignbytes=8
    prototype=define
  Linker and Libraries:
    ld='cc'
    ldflags =' -fstack-protector-strong -L/usr/local/lib'
    libpth=/usr/local/lib /usr/lib/x86_64-linux-gnu /usr/lib /usr/lib64
    libs=-lpthread -lnsl -ldl -lm -lcrypt -lutil -lc
    perllibs=-lpthread -lnsl -ldl -lm -lcrypt -lutil -lc
    libc=libc-2.31.so
    so=so
    useshrplib=false
    libperl=libperl.a
    gnulibc_version='2.31'
  Dynamic Linking:
    dlsrc=dl_dlopen.xs
    dlext=so
    d_dlsymun=undef
    ccdlflags='-Wl,-E'
    cccdlflags='-fPIC'
    lddlflags='-shared -O2 -g -L/usr/local/lib -fstack-protector-strong'


Characteristics of this binary (from libperl): 
  Compile-time options:
    DEBUGGING
    HAS_TIMES
    MULTIPLICITY
    PERLIO_LAYERS
    PERL_COPY_ON_WRITE
    PERL_DONT_CREATE_GVSV
    PERL_HASH_FUNC_SIPHASH13
    PERL_HASH_USE_SBOX32
    PERL_MALLOC_WRAP
    PERL_OP_PARENT
    PERL_PRESERVE_IVUV
    PERL_TRACK_MEMPOOL
    PERL_USE_DEVEL
    PERL_USE_SAFE_PUTENV
    USE_64_BIT_ALL
    USE_64_BIT_INT
    USE_ITHREADS
    USE_LARGE_FILES
    USE_LOCALE
    USE_LOCALE_COLLATE
    USE_LOCALE_CTYPE
    USE_LOCALE_NUMERIC
    USE_LOCALE_TIME
    USE_PERLIO
    USE_PERL_ATOF
    USE_REENTRANT_API
    USE_THREAD_SAFE_LOCALE
  Built under linux
  Compiled at Jan 21 2023 06:39:57
  %ENV:
    PERL5LIB="/tmp/loop_over_bdir-2491094-Zu3b2v/Dpkg-1.21.14-0/blib/arch:/tmp/loop_over_bdir-2491094-Zu3b2v/Dpkg-1.21.14-0/blib/lib"
    PERL5OPT=""
    PERL5_CPANPLUS_IS_RUNNING="2491102"
    PERL5_CPAN_IS_RUNNING="2491102"
    PERL_CANARY_STABILITY_NOPROMPT="1"
    PERL_MM_USE_DEFAULT="1"
    PERL_USE_UNSAFE_INC="1"
  @INC:
    /tmp/loop_over_bdir-2491094-Zu3b2v/Dpkg-1.21.14-0/blib/arch
    /tmp/loop_over_bdir-2491094-Zu3b2v/Dpkg-1.21.14-0/blib/lib
    /home/sand/src/perl/repoperls/installed-perls/host/k93focal/v5.37.8/d119/lib/site_perl/5.37.8/x86_64-linux-thread-multi
    /home/sand/src/perl/repoperls/installed-perls/host/k93focal/v5.37.8/d119/lib/site_perl/5.37.8
    /home/sand/src/perl/repoperls/installed-perls/host/k93focal/v5.37.8/d119/lib/5.37.8/x86_64-linux-thread-multi
    /home/sand/src/perl/repoperls/installed-perls/host/k93focal/v5.37.8/d119/lib/5.37.8
    .