Dist-Zilla-Plugin-Test-ReportMetadata v0.5.1 Perl 5 v5.41.12 x86_64-linux-thread-multi
- Status
- Pass
- From
- Andreas J. König (ANDK)
- Dist
-
Dist-Zilla-Plugin-Test-ReportMetadata v0.5.1
- Platform
- Perl 5 v5.41.12 x86_64-linux-thread-multi
- Date
- 2025-05-07 21:47:04
- ID
- d08f90e2-2b8c-11f0-ba04-db2192981b07
This distribution has been tested as part of the CPAN Testers
project, supporting the Perl programming language. See
http://wiki.cpantesters.org/ for more information or email
questions to cpan-testers-discuss@perl.org
--
Dear Peter Flanigan,
This is a computer-generated report for Dist-Zilla-Plugin-Test-ReportMetadata-0.5.1
on perl 5.41.12, created by CPAN-Reporter-1.2020.
Thank you for uploading your work to CPAN. Congratulations!
All tests were successful.
Sections of this report:
* Tester comments
* Program output
* Prerequisites
* Environment and other context
------------------------------
TESTER COMMENTS
------------------------------
Additional comments from tester:
this report is from an automated smoke testing program
and was not reviewed by a human for accuracy
------------------------------
PROGRAM OUTPUT
------------------------------
Output from './Build test':
OS: linux, Host: k93focal
=== Environment variables ===
$AUTHOR_TESTING undef
$AUTOMATED_TESTING 1
$EXTENDED_TESTING undef
$NONINTERACTIVE_TESTING undef
$PERL_CPAN_REPORTER_CONFIG undef
$PERL_CR_SMOKER_CURRENT undef
$PERL5_CPAN_IS_RUNNING 98224
$PERL5_CPANPLUS_IS_VERSION undef
$TEST_CRITIC undef
$TEST_SPELLING undef
Versions for all modules listed in MYMETA.json (including optional ones):
=== Configure Requires ===
Module Want Have
------------- ------ ------
Module::Build 0.4004 0.4234
version 0.88 0.9933
=== Build Requires ===
Module Want Have
------------- ------ ------
Module::Build 0.4004 0.4234
version 0.88 0.9933
=== Test Requires ===
Module Want Have
---------------- ------ --------
File::Spec any 3.94
Module::Build 0.4004 0.4234
Module::Metadata any 1.000038
Sys::Hostname any 1.25
Test::Requires 0.06 0.11
version 0.88 0.9933
=== Test Recommends ===
Module Want Have
---------- -------- --------
CPAN::Meta 2.120900 2.150010
=== Runtime Requires ===
Module Want Have
--------------------------- -------- --------
Data::Section 0.200006 0.200008
Dist::Zilla 5.031 6.033
Moose 2.1405 2.2207
MooseX::Role::Parameterized 1.08 1.11
Sub::Exporter::ForMethods 0.100051 0.100055
version 0.88 0.9933
t/00report-metadata.t .. ok
t/02pod.t .............. skipped: POD test only for developers
t/03podcoverage.t ...... skipped: POD coverage test only for developers
t/05kwalitee.t ......... skipped: Kwalitee test only for developers
t/06yaml.t ............. skipped: YAML test only for developers
t/07podspelling.t ...... skipped: POD spelling test only for developers
t/10test_script.t ...... ok
All tests successful.
Files=7, Tests=9, 3 wallclock secs ( 0.03 usr 0.01 sys + 2.16 cusr 0.21 csys = 2.41 CPU)
Result: PASS
------------------------------
PREREQUISITES
------------------------------
Prerequisite modules loaded:
requires:
Module Need Have
--------------------------- -------- --------
Data::Section 0.200006 0.200008
Dist::Zilla 5.031 6.033
Moose 2.1405 2.2207
MooseX::Role::Parameterized 1.08 1.11
perl 5.008 5.041012
Sub::Exporter::ForMethods 0.100051 0.100055
version 0.88 0.9933
build_requires:
Module Need Have
--------------------------- -------- --------
File::Spec 0 3.94
Module::Build 0.4004 0.4234
Module::Metadata 0 1.000038
Sys::Hostname 0 1.25
Test::Requires 0.06 0.11
version 0.88 0.9933
configure_requires:
Module Need Have
--------------------------- -------- --------
Module::Build 0.4004 0.4234
version 0.88 0.9933
------------------------------
ENVIRONMENT AND OTHER CONTEXT
------------------------------
Environment variables:
AUTOMATED_TESTING = 1
LANG = en_US.UTF-8
PATH = /home/sand/bin:/usr/local/bin:/usr/local/sbin:/usr/sbin:/usr/bin:/sbin:/bin:/usr/games:/usr/local/games:/snap/bin:/usr/local/perl/bin:/usr/X11/bin
PERL = /tmp/basesmoker-reloperl-w77x/bin/perl
PERL5LIB = /tmp/loop_over_bdir-98215-lOufUo/Devel-Required-0.17-0/blib/arch:/tmp/loop_over_bdir-98215-lOufUo/Devel-Required-0.17-0/blib/lib:/tmp/loop_over_bdir-98215-lOufUo/Linux-InitFS-0.2-0/blib/arch:/tmp/loop_over_bdir-98215-lOufUo/Linux-InitFS-0.2-0/blib/lib
PERL5OPT =
PERL5_CPANPLUS_IS_RUNNING = 98224
PERL5_CPAN_IS_RUNNING = 98224
PERL_CANARY_STABILITY_NOPROMPT = 1
PERL_MM_USE_DEFAULT = 1
PERL_USE_UNSAFE_INC = 1
SHELL = /usr/bin/zsh
TERM = screen
Perl special variables (and OS-specific diagnostics, for MSWin32):
$^X = /tmp/basesmoker-reloperl-w77x/bin/perl
$UID/$EUID = 1005 / 1005
$GID = 1005 1005
$EGID = 1005 1005
Perl module toolchain versions installed:
Module Have
------------------- --------
CPAN 2.38
CPAN::Meta 2.150010
Cwd 3.94
ExtUtils::CBuilder 0.280240
ExtUtils::Command 7.74
ExtUtils::Install 2.22
ExtUtils::MakeMaker 7.74
ExtUtils::Manifest 1.75
ExtUtils::ParseXS 3.57
File::Spec 3.94
JSON 4.10
JSON::PP 4.16
Module::Build 0.4234
Module::Signature 0.89
Parse::CPAN::Meta 2.150010
Test2 1.302210
Test::Harness 3.50
Test::More 1.302210
YAML 1.31
YAML::Syck 1.34
version 0.9933
--
Summary of my perl5 (revision 5 version 41 subversion 12) configuration:
Commit id: bc4cd0b708bd15e68ef7f85105f7edb5be1f0f58
Platform:
osname=linux
osvers=5.4.0-208-generic
archname=x86_64-linux-thread-multi
uname='linux k93focal 5.4.0-208-generic #228-ubuntu smp fri feb 7 19:41:33 utc 2025 x86_64 x86_64 x86_64 gnulinux '
config_args='-Dprefix=/home/sand/src/perl/repoperls/installed-perls/host/k93focal/v5.41.12/d119 -Dmyhostname=k93focal -Dinstallusrbinperl=n -Uversiononly -Dusedevel -des -Ui_db -Dlibswanted=cl pthread socket inet nsl gdbm dbm malloc dl ld sun m crypt sec util c cposix posix ucb BSD gdbm_compat -Duseithreads -Uuselongdouble -DEBUGGING=both'
hint=recommended
useposix=true
d_sigaction=define
useithreads=define
usemultiplicity=define
use64bitint=define
use64bitall=define
uselongdouble=undef
usemymalloc=n
default_inc_excludes_dot=define
Compiler:
cc='cc'
ccflags ='-D_REENTRANT -D_GNU_SOURCE -fwrapv -DDEBUGGING -fno-strict-aliasing -pipe -fstack-protector-strong -I/usr/local/include -D_LARGEFILE_SOURCE -D_FILE_OFFSET_BITS=64'
optimize='-O2 -g'
cppflags='-D_REENTRANT -D_GNU_SOURCE -fwrapv -DDEBUGGING -fno-strict-aliasing -pipe -fstack-protector-strong -I/usr/local/include'
ccversion=''
gccversion='9.4.0'
gccosandvers=''
intsize=4
longsize=8
ptrsize=8
doublesize=8
byteorder=12345678
doublekind=3
d_longlong=define
longlongsize=8
d_longdbl=define
longdblsize=16
longdblkind=3
ivtype='long'
ivsize=8
nvtype='double'
nvsize=8
Off_t='off_t'
lseeksize=8
alignbytes=8
prototype=define
Linker and Libraries:
ld='cc'
ldflags =' -fstack-protector-strong -L/usr/local/lib'
libpth=/usr/local/lib /usr/lib/x86_64-linux-gnu /usr/lib /usr/lib64
libs=-lpthread -lnsl -ldl -lm -lcrypt -lutil -lc
perllibs=-lpthread -lnsl -ldl -lm -lcrypt -lutil -lc
libc=libc-2.31.so
so=so
useshrplib=false
libperl=libperl.a
gnulibc_version='2.31'
Dynamic Linking:
dlsrc=dl_dlopen.xs
dlext=so
d_dlsymun=undef
ccdlflags='-Wl,-E'
cccdlflags='-fPIC'
lddlflags='-shared -O2 -g -L/usr/local/lib -fstack-protector-strong'
Characteristics of this binary (from libperl):
Compile-time options:
DEBUGGING
HAS_LONG_DOUBLE
HAS_STRTOLD
HAS_TIMES
MULTIPLICITY
PERLIO_LAYERS
PERL_COPY_ON_WRITE
PERL_DONT_CREATE_GVSV
PERL_HASH_FUNC_SIPHASH13
PERL_HASH_USE_SBOX32
PERL_MALLOC_WRAP
PERL_OP_PARENT
PERL_PRESERVE_IVUV
PERL_TRACK_MEMPOOL
PERL_USE_DEVEL
PERL_USE_SAFE_PUTENV
USE_64_BIT_ALL
USE_64_BIT_INT
USE_ITHREADS
USE_LARGE_FILES
USE_LOCALE
USE_LOCALE_COLLATE
USE_LOCALE_CTYPE
USE_LOCALE_NUMERIC
USE_LOCALE_TIME
USE_PERLIO
USE_PERL_ATOF
USE_REENTRANT_API
USE_THREAD_SAFE_LOCALE
Built under linux
Compiled at Apr 22 2025 00:22:08
%ENV:
PERL="/tmp/basesmoker-reloperl-w77x/bin/perl"
PERL5LIB="/tmp/loop_over_bdir-98215-lOufUo/Devel-Required-0.17-0/blib/arch:/tmp/loop_over_bdir-98215-lOufUo/Devel-Required-0.17-0/blib/lib:/tmp/loop_over_bdir-98215-lOufUo/Linux-InitFS-0.2-0/blib/arch:/tmp/loop_over_bdir-98215-lOufUo/Linux-InitFS-0.2-0/blib/lib"
PERL5OPT=""
PERL5_CPANPLUS_IS_RUNNING="98224"
PERL5_CPAN_IS_RUNNING="98224"
PERL_CANARY_STABILITY_NOPROMPT="1"
PERL_MM_USE_DEFAULT="1"
PERL_USE_UNSAFE_INC="1"
@INC:
/tmp/loop_over_bdir-98215-lOufUo/Devel-Required-0.17-0/blib/arch
/tmp/loop_over_bdir-98215-lOufUo/Devel-Required-0.17-0/blib/lib
/tmp/loop_over_bdir-98215-lOufUo/Linux-InitFS-0.2-0/blib/arch
/tmp/loop_over_bdir-98215-lOufUo/Linux-InitFS-0.2-0/blib/lib
/home/sand/src/perl/repoperls/installed-perls/host/k93focal/v5.41.12/d119/lib/site_perl/5.41.12/x86_64-linux-thread-multi
/home/sand/src/perl/repoperls/installed-perls/host/k93focal/v5.41.12/d119/lib/site_perl/5.41.12
/home/sand/src/perl/repoperls/installed-perls/host/k93focal/v5.41.12/d119/lib/5.41.12/x86_64-linux-thread-multi
/home/sand/src/perl/repoperls/installed-perls/host/k93focal/v5.41.12/d119/lib/5.41.12
.