Bio-Procedural v1.7.4 Perl 5 v5.20.2 amd64-freebsd

Status
Pass
From
Slaven Rezić
Dist
Bio-Procedural v1.7.4
Platform
Perl 5 v5.20.2 amd64-freebsd
Date
2024-01-08 11:33:59
ID
d0c20d5c-ae19-11ee-800b-794c6e8775ea
This distribution has been tested as part of the CPAN Testers
project, supporting the Perl programming language.  See
http://wiki.cpantesters.org/ for more information or email
questions to cpan-testers-discuss@perl.org


--
Dear Christopher Fields,

This is a computer-generated report for Bio-Procedural-1.7.4
on perl 5.20.2, created by CPAN-Reporter-1.2019.

Thank you for uploading your work to CPAN.  Congratulations!
All tests were successful.

Sections of this report:

    * Tester comments
    * Program output
    * Prerequisites
    * Environment and other context

------------------------------
TESTER COMMENTS
------------------------------

Additional comments from tester:

none provided

------------------------------
PROGRAM OUTPUT
------------------------------

Output from '/usr/bin/make test':

PERL_DL_NONLAZY=1 "/usr/perl5.20.2p/bin/perl" "-MExtUtils::Command::MM" "-MTest::Harness" "-e" "undef *Test::Harness::Switches; test_harness(0, 'blib/lib', 'blib/arch')" t/*.t
t/00-compile.t ........... ok
t/author-eol.t ........... skipped: these tests are for testing by the author
t/author-mojibake.t ...... skipped: these tests are for testing by the author
t/author-no-tabs.t ....... skipped: these tests are for testing by the author
t/author-pod-coverage.t .. skipped: these tests are for testing by the author
t/author-pod-syntax.t .... skipped: these tests are for testing by the author

--------------------- WARNING ---------------------
MSG: No feature key in putative feature table line: FT   CHAIN           1..372

---------------------------------------------------

--------------------- WARNING ---------------------
MSG: failed to parse feature table line for seq ROA1_HUMAN
FT   CHAIN           1..372

---------------------------------------------------

--------------------- WARNING ---------------------
MSG: No feature key in putative feature table line: FT                   /note="Heterogeneous nuclear ribonucleoprotein A1"

---------------------------------------------------

--------------------- WARNING ---------------------
MSG: failed to parse feature table line for seq ROA1_HUMAN
FT                   /note="Heterogeneous nuclear ribonucleoprotein A1"

---------------------------------------------------

--------------------- WARNING ---------------------
MSG: No feature key in putative feature table line: FT                   /id="PRO_0000424509"

---------------------------------------------------

--------------------- WARNING ---------------------
MSG: failed to parse feature table line for seq ROA1_HUMAN
FT                   /id="PRO_0000424509"

---------------------------------------------------

--------------------- WARNING ---------------------
MSG: No feature key in putative feature table line: FT   INIT_MET        1

---------------------------------------------------

--------------------- WARNING ---------------------
MSG: failed to parse feature table line for seq ROA1_HUMAN
FT   INIT_MET        1

---------------------------------------------------

--------------------- WARNING ---------------------
MSG: No feature key in putative feature table line: FT                   /note="Removed; alternate"

---------------------------------------------------

--------------------- WARNING ---------------------
MSG: failed to parse feature table line for seq ROA1_HUMAN
FT                   /note="Removed; alternate"

---------------------------------------------------

--------------------- WARNING ---------------------
MSG: No feature key in putative feature table line: FT                   /evidence="ECO:0000269|Ref.9, ECO:0007744|PubMed:20068231,

---------------------------------------------------

--------------------- WARNING ---------------------
MSG: failed to parse feature table line for seq ROA1_HUMAN
FT                   /evidence="ECO:0000269|Ref.9, ECO:0007744|PubMed:20068231,

---------------------------------------------------

--------------------- WARNING ---------------------
MSG: No feature key in putative feature table line: FT                   ECO:0007744|PubMed:22814378"

---------------------------------------------------

--------------------- WARNING ---------------------
MSG: failed to parse feature table line for seq ROA1_HUMAN
FT                   ECO:0007744|PubMed:22814378"

---------------------------------------------------

--------------------- WARNING ---------------------
MSG: No feature key in putative feature table line: FT   CHAIN           2..372

---------------------------------------------------

--------------------- WARNING ---------------------
MSG: failed to parse feature table line for seq ROA1_HUMAN
FT   CHAIN           2..372

---------------------------------------------------

--------------------- WARNING ---------------------
MSG: No feature key in putative feature table line: FT                   /note="Heterogeneous nuclear ribonucleoprotein A1, N-

---------------------------------------------------

--------------------- WARNING ---------------------
MSG: failed to parse feature table line for seq ROA1_HUMAN
FT                   /note="Heterogeneous nuclear ribonucleoprotein A1, N-

---------------------------------------------------

--------------------- WARNING ---------------------
MSG: No feature key in putative feature table line: FT                   terminally processed"

---------------------------------------------------

--------------------- WARNING ---------------------
MSG: failed to parse feature table line for seq ROA1_HUMAN
FT                   terminally processed"

---------------------------------------------------

--------------------- WARNING ---------------------
MSG: No feature key in putative feature table line: FT                   /id="PRO_0000081828"

---------------------------------------------------

--------------------- WARNING ---------------------
MSG: failed to parse feature table line for seq ROA1_HUMAN
FT                   /id="PRO_0000081828"

---------------------------------------------------

--------------------- WARNING ---------------------
MSG: No feature key in putative feature table line: FT   DOMAIN          14..97

---------------------------------------------------

--------------------- WARNING ---------------------
MSG: failed to parse feature table line for seq ROA1_HUMAN
FT   DOMAIN          14..97

---------------------------------------------------

--------------------- WARNING ---------------------
MSG: No feature key in putative feature table line: FT                   /note="RRM 1"

---------------------------------------------------

--------------------- WARNING ---------------------
MSG: failed to parse feature table line for seq ROA1_HUMAN
FT                   /note="RRM 1"

---------------------------------------------------

--------------------- WARNING ---------------------
MSG: No feature key in putative feature table line: FT                   /evidence="ECO:0000255|PROSITE-ProRule:PRU00176"

---------------------------------------------------

--------------------- WARNING ---------------------
MSG: failed to parse feature table line for seq ROA1_HUMAN
FT                   /evidence="ECO:0000255|PROSITE-ProRule:PRU00176"

---------------------------------------------------

--------------------- WARNING ---------------------
MSG: No feature key in putative feature table line: FT   DOMAIN          105..184

---------------------------------------------------

--------------------- WARNING ---------------------
MSG: failed to parse feature table line for seq ROA1_HUMAN
FT   DOMAIN          105..184

---------------------------------------------------

--------------------- WARNING ---------------------
MSG: No feature key in putative feature table line: FT                   /note="RRM 2"

---------------------------------------------------

--------------------- WARNING ---------------------
MSG: failed to parse feature table line for seq ROA1_HUMAN
FT                   /note="RRM 2"

---------------------------------------------------

--------------------- WARNING ---------------------
MSG: No feature key in putative feature table line: FT                   /evidence="ECO:0000255|PROSITE-ProRule:PRU00176"

---------------------------------------------------

--------------------- WARNING ---------------------
MSG: failed to parse feature table line for seq ROA1_HUMAN
FT                   /evidence="ECO:0000255|PROSITE-ProRule:PRU00176"

---------------------------------------------------

--------------------- WARNING ---------------------
MSG: No feature key in putative feature table line: FT   REGION          4..94

---------------------------------------------------

--------------------- WARNING ---------------------
MSG: failed to parse feature table line for seq ROA1_HUMAN
FT   REGION          4..94

---------------------------------------------------

--------------------- WARNING ---------------------
MSG: No feature key in putative feature table line: FT                   /note="Globular A domain"

---------------------------------------------------

--------------------- WARNING ---------------------
MSG: failed to parse feature table line for seq ROA1_HUMAN
FT                   /note="Globular A domain"

---------------------------------------------------

--------------------- WARNING ---------------------
MSG: No feature key in putative feature table line: FT   REGION          95..185

---------------------------------------------------

--------------------- WARNING ---------------------
MSG: failed to parse feature table line for seq ROA1_HUMAN
FT   REGION          95..185

---------------------------------------------------

--------------------- WARNING ---------------------
MSG: No feature key in putative feature table line: FT                   /note="Globular B domain"

---------------------------------------------------

--------------------- WARNING ---------------------
MSG: failed to parse feature table line for seq ROA1_HUMAN
FT                   /note="Globular B domain"

---------------------------------------------------

--------------------- WARNING ---------------------
MSG: No feature key in putative feature table line: FT   REGION          182..216

---------------------------------------------------

--------------------- WARNING ---------------------
MSG: failed to parse feature table line for seq ROA1_HUMAN
FT   REGION          182..216

---------------------------------------------------

--------------------- WARNING ---------------------
MSG: No feature key in putative feature table line: FT                   /note="Disordered"

---------------------------------------------------

--------------------- WARNING ---------------------
MSG: failed to parse feature table line for seq ROA1_HUMAN
FT                   /note="Disordered"

---------------------------------------------------

--------------------- WARNING ---------------------
MSG: No feature key in putative feature table line: FT                   /evidence="ECO:0000256|SAM:MobiDB-lite"

---------------------------------------------------

--------------------- WARNING ---------------------
MSG: failed to parse feature table line for seq ROA1_HUMAN
FT                   /evidence="ECO:0000256|SAM:MobiDB-lite"

---------------------------------------------------

--------------------- WARNING ---------------------
MSG: No feature key in putative feature table line: FT   REGION          218..240

---------------------------------------------------

--------------------- WARNING ---------------------
MSG: failed to parse feature table line for seq ROA1_HUMAN
FT   REGION          218..240

---------------------------------------------------

--------------------- WARNING ---------------------
MSG: No feature key in putative feature table line: FT                   /note="RNA-binding RGG-box"

---------------------------------------------------

--------------------- WARNING ---------------------
MSG: failed to parse feature table line for seq ROA1_HUMAN
FT                   /note="RNA-binding RGG-box"

---------------------------------------------------

--------------------- WARNING ---------------------
MSG: No feature key in putative feature table line: FT   REGION          317..372

---------------------------------------------------

--------------------- WARNING ---------------------
MSG: failed to parse feature table line for seq ROA1_HUMAN
FT   REGION          317..372

---------------------------------------------------

--------------------- WARNING ---------------------
MSG: No feature key in putative feature table line: FT                   /note="Disordered"

---------------------------------------------------

--------------------- WARNING ---------------------
MSG: failed to parse feature table line for seq ROA1_HUMAN
FT                   /note="Disordered"

---------------------------------------------------

--------------------- WARNING ---------------------
MSG: No feature key in putative feature table line: FT                   /evidence="ECO:0000256|SAM:MobiDB-lite"

---------------------------------------------------

--------------------- WARNING ---------------------
MSG: failed to parse feature table line for seq ROA1_HUMAN
FT                   /evidence="ECO:0000256|SAM:MobiDB-lite"

---------------------------------------------------

--------------------- WARNING ---------------------
MSG: No feature key in putative feature table line: FT   REGION          320..357

---------------------------------------------------

--------------------- WARNING ---------------------
MSG: failed to parse feature table line for seq ROA1_HUMAN
FT   REGION          320..357

---------------------------------------------------

--------------------- WARNING ---------------------
MSG: No feature key in putative feature table line: FT                   /note="Nuclear targeting sequence (M9)"

---------------------------------------------------

--------------------- WARNING ---------------------
MSG: failed to parse feature table line for seq ROA1_HUMAN
FT                   /note="Nuclear targeting sequence (M9)"

---------------------------------------------------

--------------------- WARNING ---------------------
MSG: No feature key in putative feature table line: FT   COMPBIAS        184..199

---------------------------------------------------

--------------------- WARNING ---------------------
MSG: failed to parse feature table line for seq ROA1_HUMAN
FT   COMPBIAS        184..199

---------------------------------------------------

--------------------- WARNING ---------------------
MSG: No feature key in putative feature table line: FT                   /note="Polar residues"

---------------------------------------------------

--------------------- WARNING ---------------------
MSG: failed to parse feature table line for seq ROA1_HUMAN
FT                   /note="Polar residues"

---------------------------------------------------

--------------------- WARNING ---------------------
MSG: No feature key in putative feature table line: FT                   /evidence="ECO:0000256|SAM:MobiDB-lite"

---------------------------------------------------

--------------------- WARNING ---------------------
MSG: failed to parse feature table line for seq ROA1_HUMAN
FT                   /evidence="ECO:0000256|SAM:MobiDB-lite"

---------------------------------------------------

--------------------- WARNING ---------------------
MSG: No feature key in putative feature table line: FT   COMPBIAS        355..372

---------------------------------------------------

--------------------- WARNING ---------------------
MSG: failed to parse feature table line for seq ROA1_HUMAN
FT   COMPBIAS        355..372

---------------------------------------------------

--------------------- WARNING ---------------------
MSG: No feature key in putative feature table line: FT                   /note="Polar residues"

---------------------------------------------------

--------------------- WARNING ---------------------
MSG: failed to parse feature table line for seq ROA1_HUMAN
FT                   /note="Polar residues"

---------------------------------------------------

--------------------- WARNING ---------------------
MSG: No feature key in putative feature table line: FT                   /evidence="ECO:0000256|SAM:MobiDB-lite"

---------------------------------------------------

--------------------- WARNING ---------------------
MSG: failed to parse feature table line for seq ROA1_HUMAN
FT                   /evidence="ECO:0000256|SAM:MobiDB-lite"

---------------------------------------------------

--------------------- WARNING ---------------------
MSG: No feature key in putative feature table line: FT   MOD_RES         1

---------------------------------------------------

--------------------- WARNING ---------------------
MSG: failed to parse feature table line for seq ROA1_HUMAN
FT   MOD_RES         1

---------------------------------------------------

--------------------- WARNING ---------------------
MSG: No feature key in putative feature table line: FT                   /note="N-acetylmethionine"

---------------------------------------------------

--------------------- WARNING ---------------------
MSG: failed to parse feature table line for seq ROA1_HUMAN
FT                   /note="N-acetylmethionine"

---------------------------------------------------

--------------------- WARNING ---------------------
MSG: No feature key in putative feature table line: FT                   /evidence="ECO:0007744|PubMed:22814378"

---------------------------------------------------

--------------------- WARNING ---------------------
MSG: failed to parse feature table line for seq ROA1_HUMAN
FT                   /evidence="ECO:0007744|PubMed:22814378"

---------------------------------------------------

--------------------- WARNING ---------------------
MSG: No feature key in putative feature table line: FT   MOD_RES         2

---------------------------------------------------

--------------------- WARNING ---------------------
MSG: failed to parse feature table line for seq ROA1_HUMAN
FT   MOD_RES         2

---------------------------------------------------

--------------------- WARNING ---------------------
MSG: No feature key in putative feature table line: FT                   /note="N-acetylserine; in Heterogeneous nuclear

---------------------------------------------------

--------------------- WARNING ---------------------
MSG: failed to parse feature table line for seq ROA1_HUMAN
FT                   /note="N-acetylserine; in Heterogeneous nuclear

---------------------------------------------------

--------------------- WARNING ---------------------
MSG: No feature key in putative feature table line: FT                   ribonucleoprotein A1, N-terminally processed"

---------------------------------------------------

--------------------- WARNING ---------------------
MSG: failed to parse feature table line for seq ROA1_HUMAN
FT                   ribonucleoprotein A1, N-terminally processed"

---------------------------------------------------

--------------------- WARNING ---------------------
MSG: No feature key in putative feature table line: FT                   /evidence="ECO:0000269|Ref.9, ECO:0007744|PubMed:20068231,

---------------------------------------------------

--------------------- WARNING ---------------------
MSG: failed to parse feature table line for seq ROA1_HUMAN
FT                   /evidence="ECO:0000269|Ref.9, ECO:0007744|PubMed:20068231,

---------------------------------------------------

--------------------- WARNING ---------------------
MSG: No feature key in putative feature table line: FT                   ECO:0007744|PubMed:22814378"

---------------------------------------------------

--------------------- WARNING ---------------------
MSG: failed to parse feature table line for seq ROA1_HUMAN
FT                   ECO:0007744|PubMed:22814378"

---------------------------------------------------

--------------------- WARNING ---------------------
MSG: No feature key in putative feature table line: FT   MOD_RES         2

---------------------------------------------------

--------------------- WARNING ---------------------
MSG: failed to parse feature table line for seq ROA1_HUMAN
FT   MOD_RES         2

---------------------------------------------------

--------------------- WARNING ---------------------
MSG: No feature key in putative feature table line: FT                   /note="Phosphoserine"

---------------------------------------------------

--------------------- WARNING ---------------------
MSG: failed to parse feature table line for seq ROA1_HUMAN
FT                   /note="Phosphoserine"

---------------------------------------------------

--------------------- WARNING ---------------------
MSG: No feature key in putative feature table line: FT                   /evidence="ECO:0007744|PubMed:20068231,

---------------------------------------------------

--------------------- WARNING ---------------------
MSG: failed to parse feature table line for seq ROA1_HUMAN
FT                   /evidence="ECO:0007744|PubMed:20068231,

---------------------------------------------------

--------------------- WARNING ---------------------
MSG: No feature key in putative feature table line: FT                   ECO:0007744|PubMed:23186163"

---------------------------------------------------

--------------------- WARNING ---------------------
MSG: failed to parse feature table line for seq ROA1_HUMAN
FT                   ECO:0007744|PubMed:23186163"

---------------------------------------------------

--------------------- WARNING ---------------------
MSG: No feature key in putative feature table line: FT   MOD_RES         3

---------------------------------------------------

--------------------- WARNING ---------------------
MSG: failed to parse feature table line for seq ROA1_HUMAN
FT   MOD_RES         3

---------------------------------------------------

--------------------- WARNING ---------------------
MSG: No feature key in putative feature table line: FT                   /note="N6-acetyllysine; alternate"

---------------------------------------------------

--------------------- WARNING ---------------------
MSG: failed to parse feature table line for seq ROA1_HUMAN
FT                   /note="N6-acetyllysine; alternate"

---------------------------------------------------

--------------------- WARNING ---------------------
MSG: No feature key in putative feature table line: FT                   /evidence="ECO:0007744|PubMed:19608861"

---------------------------------------------------

--------------------- WARNING ---------------------
MSG: failed to parse feature table line for seq ROA1_HUMAN
FT                   /evidence="ECO:0007744|PubMed:19608861"

---------------------------------------------------

--------------------- WARNING ---------------------
MSG: No feature key in putative feature table line: FT   MOD_RES         4

---------------------------------------------------

--------------------- WARNING ---------------------
MSG: failed to parse feature table line for seq ROA1_HUMAN
FT   MOD_RES         4

---------------------------------------------------

--------------------- WARNING ---------------------
MSG: No feature key in putative feature table line: FT                   /note="Phosphoserine"

---------------------------------------------------

--------------------- WARNING ---------------------
MSG: failed to parse feature table line for seq ROA1_HUMAN
FT                   /note="Phosphoserine"

---------------------------------------------------

--------------------- WARNING ---------------------
MSG: No feature key in putative feature table line: FT                   /evidence="ECO:0007744|PubMed:20068231,

---------------------------------------------------

--------------------- WARNING ---------------------
MSG: failed to parse feature table line for seq ROA1_HUMAN
FT                   /evidence="ECO:0007744|PubMed:20068231,

---------------------------------------------------

--------------------- WARNING ---------------------
MSG: No feature key in putative feature table line: FT                   ECO:0007744|PubMed:21406692, ECO:0007744|PubMed:23186163"

---------------------------------------------------

--------------------- WARNING ---------------------
MSG: failed to parse feature table line for seq ROA1_HUMAN
FT                   ECO:0007744|PubMed:21406692, ECO:0007744|PubMed:23186163"

---------------------------------------------------

--------------------- WARNING ---------------------
MSG: No feature key in putative feature table line: FT   MOD_RES         6

---------------------------------------------------

--------------------- WARNING ---------------------
MSG: failed to parse feature table line for seq ROA1_HUMAN
FT   MOD_RES         6

---------------------------------------------------

--------------------- WARNING ---------------------
MSG: No feature key in putative feature table line: FT                   /note="Phosphoserine"

---------------------------------------------------

--------------------- WARNING ---------------------
MSG: failed to parse feature table line for seq ROA1_HUMAN
FT                   /note="Phosphoserine"

---------------------------------------------------

--------------------- WARNING ---------------------
MSG: No feature key in putative feature table line: FT                   /evidence="ECO:0007744|PubMed:18669648,

---------------------------------------------------

--------------------- WARNING ---------------------
MSG: failed to parse feature table line for seq ROA1_HUMAN
FT                   /evidence="ECO:0007744|PubMed:18669648,

---------------------------------------------------

--------------------- WARNING ---------------------
MSG: No feature key in putative feature table line: FT                   ECO:0007744|PubMed:20068231, ECO:0007744|PubMed:21406692,

---------------------------------------------------

--------------------- WARNING ---------------------
MSG: failed to parse feature table line for seq ROA1_HUMAN
FT                   ECO:0007744|PubMed:20068231, ECO:0007744|PubMed:21406692,

---------------------------------------------------

--------------------- WARNING ---------------------
MSG: No feature key in putative feature table line: FT                   ECO:0007744|PubMed:23186163"

---------------------------------------------------

--------------------- WARNING ---------------------
MSG: failed to parse feature table line for seq ROA1_HUMAN
FT                   ECO:0007744|PubMed:23186163"

---------------------------------------------------

--------------------- WARNING ---------------------
MSG: No feature key in putative feature table line: FT   MOD_RES         22

---------------------------------------------------

--------------------- WARNING ---------------------
MSG: failed to parse feature table line for seq ROA1_HUMAN
FT   MOD_RES         22

---------------------------------------------------

--------------------- WARNING ---------------------
MSG: No feature key in putative feature table line: FT                   /note="Phosphoserine"

---------------------------------------------------

--------------------- WARNING ---------------------
MSG: failed to parse feature table line for seq ROA1_HUMAN
FT                   /note="Phosphoserine"

---------------------------------------------------

--------------------- WARNING ---------------------
MSG: No feature key in putative feature table line: FT                   /evidence="ECO:0000250|UniProtKB:P49312"

---------------------------------------------------

--------------------- WARNING ---------------------
MSG: failed to parse feature table line for seq ROA1_HUMAN
FT                   /evidence="ECO:0000250|UniProtKB:P49312"

---------------------------------------------------

--------------------- WARNING ---------------------
MSG: No feature key in putative feature table line: FT   MOD_RES         192

---------------------------------------------------

--------------------- WARNING ---------------------
MSG: failed to parse feature table line for seq ROA1_HUMAN
FT   MOD_RES         192

---------------------------------------------------

--------------------- WARNING ---------------------
MSG: No feature key in putative feature table line: FT                   /note="Phosphoserine; by MKNK2"

---------------------------------------------------

--------------------- WARNING ---------------------
MSG: failed to parse feature table line for seq ROA1_HUMAN
FT                   /note="Phosphoserine; by MKNK2"

---------------------------------------------------

--------------------- WARNING ---------------------
MSG: No feature key in putative feature table line: FT                   /evidence="ECO:0000269|PubMed:16111636"

---------------------------------------------------

--------------------- WARNING ---------------------
MSG: failed to parse feature table line for seq ROA1_HUMAN
FT                   /evidence="ECO:0000269|PubMed:16111636"

---------------------------------------------------

--------------------- WARNING ---------------------
MSG: No feature key in putative feature table line: FT   MOD_RES         194

---------------------------------------------------

--------------------- WARNING ---------------------
MSG: failed to parse feature table line for seq ROA1_HUMAN
FT   MOD_RES         194

---------------------------------------------------

--------------------- WARNING ---------------------
MSG: No feature key in putative feature table line: FT                   /note="Asymmetric dimethylarginine; alternate"

---------------------------------------------------

--------------------- WARNING ---------------------
MSG: failed to parse feature table line for seq ROA1_HUMAN
FT                   /note="Asymmetric dimethylarginine; alternate"

---------------------------------------------------

--------------------- WARNING ---------------------
MSG: No feature key in putative feature table line: FT                   /evidence="ECO:0000250|UniProtKB:P09867"

---------------------------------------------------

--------------------- WARNING ---------------------
MSG: failed to parse feature table line for seq ROA1_HUMAN
FT                   /evidence="ECO:0000250|UniProtKB:P09867"

---------------------------------------------------

--------------------- WARNING ---------------------
MSG: No feature key in putative feature table line: FT   MOD_RES         194

---------------------------------------------------

--------------------- WARNING ---------------------
MSG: failed to parse feature table line for seq ROA1_HUMAN
FT   MOD_RES         194

---------------------------------------------------

--------------------- WARNING ---------------------
MSG: No feature key in putative feature table line: FT                   /note="Dimethylated arginine; alternate"

---------------------------------------------------

--------------------- WARNING ---------------------
MSG: failed to parse feature table line for seq ROA1_HUMAN
FT                   /note="Dimethylated arginine; alternate"

---------------------------------------------------

--------------------- WARNING ---------------------
MSG: No feature key in putative feature table line: FT                   /evidence="ECO:0007744|PubMed:15782174"

---------------------------------------------------

--------------------- WARNING ---------------------
MSG: failed to parse feature table line for seq ROA1_HUMAN
FT                   /evidence="ECO:0007744|PubMed:15782174"

---------------------------------------------------

--------------------- WARNING ---------------------
MSG: No feature key in putative feature table line: FT   MOD_RES         194

---------------------------------------------------

--------------------- WARNING ---------------------
MSG: failed to parse feature table line for seq ROA1_HUMAN
FT   MOD_RES         194

---------------------------------------------------

--------------------- WARNING ---------------------
MSG: No feature key in putative feature table line: FT                   /note="Omega-N-methylarginine; alternate"

---------------------------------------------------

--------------------- WARNING ---------------------
MSG: failed to parse feature table line for seq ROA1_HUMAN
FT                   /note="Omega-N-methylarginine; alternate"

---------------------------------------------------

--------------------- WARNING ---------------------
MSG: No feature key in putative feature table line: FT                   /evidence="ECO:0000250|UniProtKB:P49312"

---------------------------------------------------

--------------------- WARNING ---------------------
MSG: failed to parse feature table line for seq ROA1_HUMAN
FT                   /evidence="ECO:0000250|UniProtKB:P49312"

---------------------------------------------------

--------------------- WARNING ---------------------
MSG: No feature key in putative feature table line: FT   MOD_RES         199

---------------------------------------------------

--------------------- WARNING ---------------------
MSG: failed to parse feature table line for seq ROA1_HUMAN
FT   MOD_RES         199

---------------------------------------------------

--------------------- WARNING ---------------------
MSG: No feature key in putative feature table line: FT                   /note="Phosphoserine"

---------------------------------------------------

--------------------- WARNING ---------------------
MSG: failed to parse feature table line for seq ROA1_HUMAN
FT                   /note="Phosphoserine"

---------------------------------------------------

--------------------- WARNING ---------------------
MSG: No feature key in putative feature table line: FT                   /evidence="ECO:0007744|PubMed:21406692"

---------------------------------------------------

--------------------- WARNING ---------------------
MSG: failed to parse feature table line for seq ROA1_HUMAN
FT                   /evidence="ECO:0007744|PubMed:21406692"

---------------------------------------------------

--------------------- WARNING ---------------------
MSG: No feature key in putative feature table line: FT   MOD_RES         206

---------------------------------------------------

--------------------- WARNING ---------------------
MSG: failed to parse feature table line for seq ROA1_HUMAN
FT   MOD_RES         206

---------------------------------------------------

--------------------- WARNING ---------------------
MSG: No feature key in putative feature table line: FT                   /note="Asymmetric dimethylarginine; alternate"

---------------------------------------------------

--------------------- WARNING ---------------------
MSG: failed to parse feature table line for seq ROA1_HUMAN
FT                   /note="Asymmetric dimethylarginine; alternate"

---------------------------------------------------

--------------------- WARNING ---------------------
MSG: No feature key in putative feature table line: FT                   /evidence="ECO:0000269|Ref.9, ECO:0007744|PubMed:24129315"

---------------------------------------------------

--------------------- WARNING ---------------------
MSG: failed to parse feature table line for seq ROA1_HUMAN
FT                   /evidence="ECO:0000269|Ref.9, ECO:0007744|PubMed:24129315"

---------------------------------------------------

--------------------- WARNING ---------------------
MSG: No feature key in putative feature table line: FT   MOD_RES         206

---------------------------------------------------

--------------------- WARNING ---------------------
MSG: failed to parse feature table line for seq ROA1_HUMAN
FT   MOD_RES         206

---------------------------------------------------

--------------------- WARNING ---------------------
MSG: No feature key in putative feature table line: FT                   /note="Dimethylated arginine; alternate"

---------------------------------------------------

--------------------- WARNING ---------------------
MSG: failed to parse feature table line for seq ROA1_HUMAN
FT                   /note="Dimethylated arginine; alternate"

---------------------------------------------------

--------------------- WARNING ---------------------
MSG: No feature key in putative feature table line: FT                   /evidence="ECO:0007744|PubMed:15782174"

---------------------------------------------------

--------------------- WARNING ---------------------
MSG: failed to parse feature table line for seq ROA1_HUMAN
FT                   /evidence="ECO:0007744|PubMed:15782174"

---------------------------------------------------

--------------------- WARNING ---------------------
MSG: No feature key in putative feature table line: FT   MOD_RES         206

---------------------------------------------------

--------------------- WARNING ---------------------
MSG: failed to parse feature table line for seq ROA1_HUMAN
FT   MOD_RES         206

---------------------------------------------------

--------------------- WARNING ---------------------
MSG: No feature key in putative feature table line: FT                   /note="Omega-N-methylarginine; alternate"

---------------------------------------------------

--------------------- WARNING ---------------------
MSG: failed to parse feature table line for seq ROA1_HUMAN
FT                   /note="Omega-N-methylarginine; alternate"

---------------------------------------------------

--------------------- WARNING ---------------------
MSG: No feature key in putative feature table line: FT                   /evidence="ECO:0000269|Ref.9, ECO:0007744|PubMed:24129315"

---------------------------------------------------

--------------------- WARNING ---------------------
MSG: failed to parse feature table line for seq ROA1_HUMAN
FT                   /evidence="ECO:0000269|Ref.9, ECO:0007744|PubMed:24129315"

---------------------------------------------------

--------------------- WARNING ---------------------
MSG: No feature key in putative feature table line: FT   MOD_RES         218

---------------------------------------------------

--------------------- WARNING ---------------------
MSG: failed to parse feature table line for seq ROA1_HUMAN
FT   MOD_RES         218

---------------------------------------------------

--------------------- WARNING ---------------------
MSG: No feature key in putative feature table line: FT                   /note="Asymmetric dimethylarginine; alternate"

---------------------------------------------------

--------------------- WARNING ---------------------
MSG: failed to parse feature table line for seq ROA1_HUMAN
FT                   /note="Asymmetric dimethylarginine; alternate"

---------------------------------------------------

--------------------- WARNING ---------------------
MSG: No feature key in putative feature table line: FT                   /evidence="ECO:0007744|PubMed:24129315"

---------------------------------------------------

--------------------- WARNING ---------------------
MSG: failed to parse feature table line for seq ROA1_HUMAN
FT                   /evidence="ECO:0007744|PubMed:24129315"

---------------------------------------------------

--------------------- WARNING ---------------------
MSG: No feature key in putative feature table line: FT   MOD_RES         218

---------------------------------------------------

--------------------- WARNING ---------------------
MSG: failed to parse feature table line for seq ROA1_HUMAN
FT   MOD_RES         218

---------------------------------------------------

--------------------- WARNING ---------------------
MSG: No feature key in putative feature table line: FT                   /note="Omega-N-methylarginine; alternate"

---------------------------------------------------

--------------------- WARNING ---------------------
MSG: failed to parse feature table line for seq ROA1_HUMAN
FT                   /note="Omega-N-methylarginine; alternate"

---------------------------------------------------

--------------------- WARNING ---------------------
MSG: No feature key in putative feature table line: FT                   /evidence="ECO:0007744|PubMed:24129315"

---------------------------------------------------

--------------------- WARNING ---------------------
MSG: failed to parse feature table line for seq ROA1_HUMAN
FT                   /evidence="ECO:0007744|PubMed:24129315"

---------------------------------------------------

--------------------- WARNING ---------------------
MSG: No feature key in putative feature table line: FT   MOD_RES         225

---------------------------------------------------

--------------------- WARNING ---------------------
MSG: failed to parse feature table line for seq ROA1_HUMAN
FT   MOD_RES         225

---------------------------------------------------

--------------------- WARNING ---------------------
MSG: No feature key in putative feature table line: FT                   /note="Asymmetric dimethylarginine; alternate"

---------------------------------------------------

--------------------- WARNING ---------------------
MSG: failed to parse feature table line for seq ROA1_HUMAN
FT                   /note="Asymmetric dimethylarginine; alternate"

---------------------------------------------------

--------------------- WARNING ---------------------
MSG: No feature key in putative feature table line: FT                   /evidence="ECO:0000269|Ref.9, ECO:0007744|PubMed:24129315"

---------------------------------------------------

--------------------- WARNING ---------------------
MSG: failed to parse feature table line for seq ROA1_HUMAN
FT                   /evidence="ECO:0000269|Ref.9, ECO:0007744|PubMed:24129315"

---------------------------------------------------

--------------------- WARNING ---------------------
MSG: No feature key in putative feature table line: FT   MOD_RES         225

---------------------------------------------------

--------------------- WARNING ---------------------
MSG: failed to parse feature table line for seq ROA1_HUMAN
FT   MOD_RES         225

---------------------------------------------------

--------------------- WARNING ---------------------
MSG: No feature key in putative feature table line: FT                   /note="Dimethylated arginine; alternate"

---------------------------------------------------

--------------------- WARNING ---------------------
MSG: failed to parse feature table line for seq ROA1_HUMAN
FT                   /note="Dimethylated arginine; alternate"

---------------------------------------------------

--------------------- WARNING ---------------------
MSG: No feature key in putative feature table line: FT                   /evidence="ECO:0007744|PubMed:15782174"

---------------------------------------------------

--------------------- WARNING ---------------------
MSG: failed to parse feature table line for seq ROA1_HUMAN
FT                   /evidence="ECO:0007744|PubMed:15782174"

---------------------------------------------------

--------------------- WARNING ---------------------
MSG: No feature key in putative feature table line: FT   MOD_RES         225

---------------------------------------------------

--------------------- WARNING ---------------------
MSG: failed to parse feature table line for seq ROA1_HUMAN
FT   MOD_RES         225

---------------------------------------------------

--------------------- WARNING ---------------------
MSG: No feature key in putative feature table line: FT                   /note="Omega-N-methylarginine; alternate"

---------------------------------------------------

--------------------- WARNING ---------------------
MSG: failed to parse feature table line for seq ROA1_HUMAN
FT                   /note="Omega-N-methylarginine; alternate"

---------------------------------------------------

--------------------- WARNING ---------------------
MSG: No feature key in putative feature table line: FT                   /evidence="ECO:0000269|Ref.9, ECO:0007744|PubMed:24129315"

---------------------------------------------------

--------------------- WARNING ---------------------
MSG: failed to parse feature table line for seq ROA1_HUMAN
FT                   /evidence="ECO:0000269|Ref.9, ECO:0007744|PubMed:24129315"

---------------------------------------------------

--------------------- WARNING ---------------------
MSG: No feature key in putative feature table line: FT   MOD_RES         232

---------------------------------------------------

--------------------- WARNING ---------------------
MSG: failed to parse feature table line for seq ROA1_HUMAN
FT   MOD_RES         232

---------------------------------------------------

--------------------- WARNING ---------------------
MSG: No feature key in putative feature table line: FT                   /note="Asymmetric dimethylarginine; alternate"

---------------------------------------------------

--------------------- WARNING ---------------------
MSG: failed to parse feature table line for seq ROA1_HUMAN
FT                   /note="Asymmetric dimethylarginine; alternate"

---------------------------------------------------

--------------------- WARNING ---------------------
MSG: No feature key in putative feature table line: FT                   /evidence="ECO:0000250|UniProtKB:P04256"

---------------------------------------------------

--------------------- WARNING ---------------------
MSG: failed to parse feature table line for seq ROA1_HUMAN
FT                   /evidence="ECO:0000250|UniProtKB:P04256"

---------------------------------------------------

--------------------- WARNING ---------------------
MSG: No feature key in putative feature table line: FT   MOD_RES         232

---------------------------------------------------

--------------------- WARNING ---------------------
MSG: failed to parse feature table line for seq ROA1_HUMAN
FT   MOD_RES         232

---------------------------------------------------

--------------------- WARNING ---------------------
MSG: No feature key in putative feature table line: FT                   /note="Omega-N-methylarginine; alternate"

---------------------------------------------------

--------------------- WARNING ---------------------
MSG: failed to parse feature table line for seq ROA1_HUMAN
FT                   /note="Omega-N-methylarginine; alternate"

---------------------------------------------------

--------------------- WARNING ---------------------
MSG: No feature key in putative feature table line: FT                   /evidence="ECO:0007744|PubMed:24129315"

---------------------------------------------------

--------------------- WARNING ---------------------
MSG: failed to parse feature table line for seq ROA1_HUMAN
FT                   /evidence="ECO:0007744|PubMed:24129315"

---------------------------------------------------

--------------------- WARNING ---------------------
MSG: No feature key in putative feature table line: FT   MOD_RES         336

---------------------------------------------------

--------------------- WARNING ---------------------
MSG: failed to parse feature table line for seq ROA1_HUMAN
FT   MOD_RES         336

---------------------------------------------------

--------------------- WARNING ---------------------
MSG: No feature key in putative feature table line: FT                   /note="Omega-N-methylarginine"

---------------------------------------------------

--------------------- WARNING ---------------------
MSG: failed to parse feature table line for seq ROA1_HUMAN
FT                   /note="Omega-N-methylarginine"

---------------------------------------------------

--------------------- WARNING ---------------------
MSG: No feature key in putative feature table line: FT                   /evidence="ECO:0007744|PubMed:24129315"

---------------------------------------------------

--------------------- WARNING ---------------------
MSG: failed to parse feature table line for seq ROA1_HUMAN
FT                   /evidence="ECO:0007744|PubMed:24129315"

---------------------------------------------------

--------------------- WARNING ---------------------
MSG: No feature key in putative feature table line: FT   MOD_RES         337

---------------------------------------------------

--------------------- WARNING ---------------------
MSG: failed to parse feature table line for seq ROA1_HUMAN
FT   MOD_RES         337

---------------------------------------------------

--------------------- WARNING ---------------------
MSG: No feature key in putative feature table line: FT                   /note="Phosphoserine"

---------------------------------------------------

--------------------- WARNING ---------------------
MSG: failed to parse feature table line for seq ROA1_HUMAN
FT                   /note="Phosphoserine"

---------------------------------------------------

--------------------- WARNING ---------------------
MSG: No feature key in putative feature table line: FT                   /evidence="ECO:0007744|PubMed:23186163"

---------------------------------------------------

--------------------- WARNING ---------------------
MSG: failed to parse feature table line for seq ROA1_HUMAN
FT                   /evidence="ECO:0007744|PubMed:23186163"

---------------------------------------------------

--------------------- WARNING ---------------------
MSG: No feature key in putative feature table line: FT   MOD_RES         350

---------------------------------------------------

--------------------- WARNING ---------------------
MSG: failed to parse feature table line for seq ROA1_HUMAN
FT   MOD_RES         350

---------------------------------------------------

--------------------- WARNING ---------------------
MSG: No feature key in putative feature table line: FT                   /note="N6-acetyllysine; alternate"

---------------------------------------------------

--------------------- WARNING ---------------------
MSG: failed to parse feature table line for seq ROA1_HUMAN
FT                   /note="N6-acetyllysine; alternate"

---------------------------------------------------

--------------------- WARNING ---------------------
MSG: No feature key in putative feature table line: FT                   /evidence="ECO:0007744|PubMed:19608861"

---------------------------------------------------

--------------------- WARNING ---------------------
MSG: failed to parse feature table line for seq ROA1_HUMAN
FT                   /evidence="ECO:0007744|PubMed:19608861"

---------------------------------------------------

--------------------- WARNING ---------------------
MSG: No feature key in putative feature table line: FT   MOD_RES         352

---------------------------------------------------

--------------------- WARNING ---------------------
MSG: failed to parse feature table line for seq ROA1_HUMAN
FT   MOD_RES         352

---------------------------------------------------

--------------------- WARNING ---------------------
MSG: No feature key in putative feature table line: FT                   /note="Omega-N-methylarginine"

---------------------------------------------------

--------------------- WARNING ---------------------
MSG: failed to parse feature table line for seq ROA1_HUMAN
FT                   /note="Omega-N-methylarginine"

---------------------------------------------------

--------------------- WARNING ---------------------
MSG: No feature key in putative feature table line: FT                   /evidence="ECO:0007744|PubMed:24129315"

---------------------------------------------------

--------------------- WARNING ---------------------
MSG: failed to parse feature table line for seq ROA1_HUMAN
FT                   /evidence="ECO:0007744|PubMed:24129315"

---------------------------------------------------

--------------------- WARNING ---------------------
MSG: No feature key in putative feature table line: FT   MOD_RES         361

---------------------------------------------------

--------------------- WARNING ---------------------
MSG: failed to parse feature table line for seq ROA1_HUMAN
FT   MOD_RES         361

---------------------------------------------------

--------------------- WARNING ---------------------
MSG: No feature key in putative feature table line: FT                   /note="Phosphoserine"

---------------------------------------------------

--------------------- WARNING ---------------------
MSG: failed to parse feature table line for seq ROA1_HUMAN
FT                   /note="Phosphoserine"

---------------------------------------------------

--------------------- WARNING ---------------------
MSG: No feature key in putative feature table line: FT                   /evidence="ECO:0007744|PubMed:23186163"

---------------------------------------------------

--------------------- WARNING ---------------------
MSG: failed to parse feature table line for seq ROA1_HUMAN
FT                   /evidence="ECO:0007744|PubMed:23186163"

---------------------------------------------------

--------------------- WARNING ---------------------
MSG: No feature key in putative feature table line: FT   MOD_RES         362

---------------------------------------------------

--------------------- WARNING ---------------------
MSG: failed to parse feature table line for seq ROA1_HUMAN
FT   MOD_RES         362

---------------------------------------------------

--------------------- WARNING ---------------------
MSG: No feature key in putative feature table line: FT                   /note="Phosphoserine; by MKNK2"

---------------------------------------------------

--------------------- WARNING ---------------------
MSG: failed to parse feature table line for seq ROA1_HUMAN
FT                   /note="Phosphoserine; by MKNK2"

---------------------------------------------------

--------------------- WARNING ---------------------
MSG: No feature key in putative feature table line: FT                   /evidence="ECO:0000269|PubMed:16111636"

---------------------------------------------------

--------------------- WARNING ---------------------
MSG: failed to parse feature table line for seq ROA1_HUMAN
FT                   /evidence="ECO:0000269|PubMed:16111636"

---------------------------------------------------

--------------------- WARNING ---------------------
MSG: No feature key in putative feature table line: FT   MOD_RES         363

---------------------------------------------------

--------------------- WARNING ---------------------
MSG: failed to parse feature table line for seq ROA1_HUMAN
FT   MOD_RES         363

---------------------------------------------------

--------------------- WARNING ---------------------
MSG: No feature key in putative feature table line: FT                   /note="Phosphoserine; by MKNK2"

---------------------------------------------------

--------------------- WARNING ---------------------
MSG: failed to parse feature table line for seq ROA1_HUMAN
FT                   /note="Phosphoserine; by MKNK2"

---------------------------------------------------

--------------------- WARNING ---------------------
MSG: No feature key in putative feature table line: FT                   /evidence="ECO:0000269|PubMed:16111636"

---------------------------------------------------

--------------------- WARNING ---------------------
MSG: failed to parse feature table line for seq ROA1_HUMAN
FT                   /evidence="ECO:0000269|PubMed:16111636"

---------------------------------------------------

--------------------- WARNING ---------------------
MSG: No feature key in putative feature table line: FT   MOD_RES         364

---------------------------------------------------

--------------------- WARNING ---------------------
MSG: failed to parse feature table line for seq ROA1_HUMAN
FT   MOD_RES         364

---------------------------------------------------

--------------------- WARNING ---------------------
MSG: No feature key in putative feature table line: FT                   /note="Phosphoserine; by MKNK2"

---------------------------------------------------

--------------------- WARNING ---------------------
MSG: failed to parse feature table line for seq ROA1_HUMAN
FT                   /note="Phosphoserine; by MKNK2"

---------------------------------------------------

--------------------- WARNING ---------------------
MSG: No feature key in putative feature table line: FT                   /evidence="ECO:0000269|PubMed:16111636,

---------------------------------------------------

--------------------- WARNING ---------------------
MSG: failed to parse feature table line for seq ROA1_HUMAN
FT                   /evidence="ECO:0000269|PubMed:16111636,

---------------------------------------------------

--------------------- WARNING ---------------------
MSG: No feature key in putative feature table line: FT                   ECO:0007744|PubMed:23186163"

---------------------------------------------------

--------------------- WARNING ---------------------
MSG: failed to parse feature table line for seq ROA1_HUMAN
FT                   ECO:0007744|PubMed:23186163"

---------------------------------------------------

--------------------- WARNING ---------------------
MSG: No feature key in putative feature table line: FT   MOD_RES         365

---------------------------------------------------

--------------------- WARNING ---------------------
MSG: failed to parse feature table line for seq ROA1_HUMAN
FT   MOD_RES         365

---------------------------------------------------

--------------------- WARNING ---------------------
MSG: No feature key in putative feature table line: FT                   /note="Phosphoserine"

---------------------------------------------------

--------------------- WARNING ---------------------
MSG: failed to parse feature table line for seq ROA1_HUMAN
FT                   /note="Phosphoserine"

---------------------------------------------------

--------------------- WARNING ---------------------
MSG: No feature key in putative feature table line: FT                   /evidence="ECO:0007744|PubMed:21406692,

---------------------------------------------------

--------------------- WARNING ---------------------
MSG: failed to parse feature table line for seq ROA1_HUMAN
FT                   /evidence="ECO:0007744|PubMed:21406692,

---------------------------------------------------

--------------------- WARNING ---------------------
MSG: No feature key in putative feature table line: FT                   ECO:0007744|PubMed:23186163"

---------------------------------------------------

--------------------- WARNING ---------------------
MSG: failed to parse feature table line for seq ROA1_HUMAN
FT                   ECO:0007744|PubMed:23186163"

---------------------------------------------------

--------------------- WARNING ---------------------
MSG: No feature key in putative feature table line: FT   MOD_RES         368

---------------------------------------------------

--------------------- WARNING ---------------------
MSG: failed to parse feature table line for seq ROA1_HUMAN
FT   MOD_RES         368

---------------------------------------------------

--------------------- WARNING ---------------------
MSG: No feature key in putative feature table line: FT                   /note="Phosphoserine"

---------------------------------------------------

--------------------- WARNING ---------------------
MSG: failed to parse feature table line for seq ROA1_HUMAN
FT                   /note="Phosphoserine"

---------------------------------------------------

--------------------- WARNING ---------------------
MSG: No feature key in putative feature table line: FT                   /evidence="ECO:0007744|PubMed:18669648,

---------------------------------------------------

--------------------- WARNING ---------------------
MSG: failed to parse feature table line for seq ROA1_HUMAN
FT                   /evidence="ECO:0007744|PubMed:18669648,

---------------------------------------------------

--------------------- WARNING ---------------------
MSG: No feature key in putative feature table line: FT                   ECO:0007744|PubMed:21406692, ECO:0007744|PubMed:23186163"

---------------------------------------------------

--------------------- WARNING ---------------------
MSG: failed to parse feature table line for seq ROA1_HUMAN
FT                   ECO:0007744|PubMed:21406692, ECO:0007744|PubMed:23186163"

---------------------------------------------------

--------------------- WARNING ---------------------
MSG: No feature key in putative feature table line: FT   MOD_RES         370

---------------------------------------------------

--------------------- WARNING ---------------------
MSG: failed to parse feature table line for seq ROA1_HUMAN
FT   MOD_RES         370

---------------------------------------------------

--------------------- WARNING ---------------------
MSG: No feature key in putative feature table line: FT                   /note="Omega-N-methylarginine"

---------------------------------------------------

--------------------- WARNING ---------------------
MSG: failed to parse feature table line for seq ROA1_HUMAN
FT                   /note="Omega-N-methylarginine"

---------------------------------------------------

--------------------- WARNING ---------------------
MSG: No feature key in putative feature table line: FT                   /evidence="ECO:0007744|PubMed:24129315"

---------------------------------------------------

--------------------- WARNING ---------------------
MSG: failed to parse feature table line for seq ROA1_HUMAN
FT                   /evidence="ECO:0007744|PubMed:24129315"

---------------------------------------------------

--------------------- WARNING ---------------------
MSG: No feature key in putative feature table line: FT   CROSSLNK        3

---------------------------------------------------

--------------------- WARNING ---------------------
MSG: failed to parse feature table line for seq ROA1_HUMAN
FT   CROSSLNK        3

---------------------------------------------------

--------------------- WARNING ---------------------
MSG: No feature key in putative feature table line: FT                   /note="Glycyl lysine isopeptide (Lys-Gly) (interchain with

---------------------------------------------------

--------------------- WARNING ---------------------
MSG: failed to parse feature table line for seq ROA1_HUMAN
FT                   /note="Glycyl lysine isopeptide (Lys-Gly) (interchain with

---------------------------------------------------

--------------------- WARNING ---------------------
MSG: No feature key in putative feature table line: FT                   G-Cter in SUMO2); alternate"

---------------------------------------------------

--------------------- WARNING ---------------------
MSG: failed to parse feature table line for seq ROA1_HUMAN
FT                   G-Cter in SUMO2); alternate"

---------------------------------------------------

--------------------- WARNING ---------------------
MSG: No feature key in putative feature table line: FT                   /evidence="ECO:0007744|PubMed:28112733"

---------------------------------------------------

--------------------- WARNING ---------------------
MSG: failed to parse feature table line for seq ROA1_HUMAN
FT                   /evidence="ECO:0007744|PubMed:28112733"

---------------------------------------------------

--------------------- WARNING ---------------------
MSG: No feature key in putative feature table line: FT   CROSSLNK        8

---------------------------------------------------

--------------------- WARNING ---------------------
MSG: failed to parse feature table line for seq ROA1_HUMAN
FT   CROSSLNK        8

---------------------------------------------------

--------------------- WARNING ---------------------
MSG: No feature key in putative feature table line: FT                   /note="Glycyl lysine isopeptide (Lys-Gly) (interchain with

---------------------------------------------------

--------------------- WARNING ---------------------
MSG: failed to parse feature table line for seq ROA1_HUMAN
FT                   /note="Glycyl lysine isopeptide (Lys-Gly) (interchain with

---------------------------------------------------

--------------------- WARNING ---------------------
MSG: No feature key in putative feature table line: FT                   G-Cter in SUMO2)"

---------------------------------------------------

--------------------- WARNING ---------------------
MSG: failed to parse feature table line for seq ROA1_HUMAN
FT                   G-Cter in SUMO2)"

---------------------------------------------------

--------------------- WARNING ---------------------
MSG: No feature key in putative feature table line: FT                   /evidence="ECO:0007744|PubMed:25755297,

---------------------------------------------------

--------------------- WARNING ---------------------
MSG: failed to parse feature table line for seq ROA1_HUMAN
FT                   /evidence="ECO:0007744|PubMed:25755297,

---------------------------------------------------

--------------------- WARNING ---------------------
MSG: No feature key in putative feature table line: FT                   ECO:0007744|PubMed:28112733"

---------------------------------------------------

--------------------- WARNING ---------------------
MSG: failed to parse feature table line for seq ROA1_HUMAN
FT                   ECO:0007744|PubMed:28112733"

---------------------------------------------------

--------------------- WARNING ---------------------
MSG: No feature key in putative feature table line: FT   CROSSLNK        78

---------------------------------------------------

--------------------- WARNING ---------------------
MSG: failed to parse feature table line for seq ROA1_HUMAN
FT   CROSSLNK        78

---------------------------------------------------

--------------------- WARNING ---------------------
MSG: No feature key in putative feature table line: FT                   /note="Glycyl lysine isopeptide (Lys-Gly) (interchain with

---------------------------------------------------

--------------------- WARNING ---------------------
MSG: failed to parse feature table line for seq ROA1_HUMAN
FT                   /note="Glycyl lysine isopeptide (Lys-Gly) (interchain with

---------------------------------------------------

--------------------- WARNING ---------------------
MSG: No feature key in putative feature table line: FT                   G-Cter in SUMO2)"

---------------------------------------------------

--------------------- WARNING ---------------------
MSG: failed to parse feature table line for seq ROA1_HUMAN
FT                   G-Cter in SUMO2)"

---------------------------------------------------

--------------------- WARNING ---------------------
MSG: No feature key in putative feature table line: FT                   /evidence="ECO:0007744|PubMed:28112733"

---------------------------------------------------

--------------------- WARNING ---------------------
MSG: failed to parse feature table line for seq ROA1_HUMAN
FT                   /evidence="ECO:0007744|PubMed:28112733"

---------------------------------------------------

--------------------- WARNING ---------------------
MSG: No feature key in putative feature table line: FT   CROSSLNK        113

---------------------------------------------------

--------------------- WARNING ---------------------
MSG: failed to parse feature table line for seq ROA1_HUMAN
FT   CROSSLNK        113

---------------------------------------------------

--------------------- WARNING ---------------------
MSG: No feature key in putative feature table line: FT                   /note="Glycyl lysine isopeptide (Lys-Gly) (interchain with

---------------------------------------------------

--------------------- WARNING ---------------------
MSG: failed to parse feature table line for seq ROA1_HUMAN
FT                   /note="Glycyl lysine isopeptide (Lys-Gly) (interchain with

---------------------------------------------------

--------------------- WARNING ---------------------
MSG: No feature key in putative feature table line: FT                   G-Cter in SUMO)"

---------------------------------------------------

--------------------- WARNING ---------------------
MSG: failed to parse feature table line for seq ROA1_HUMAN
FT                   G-Cter in SUMO)"

---------------------------------------------------

--------------------- WARNING ---------------------
MSG: No feature key in putative feature table line: FT                   /evidence="ECO:0000269|PubMed:15161980"

---------------------------------------------------

--------------------- WARNING ---------------------
MSG: failed to parse feature table line for seq ROA1_HUMAN
FT                   /evidence="ECO:0000269|PubMed:15161980"

---------------------------------------------------

--------------------- WARNING ---------------------
MSG: No feature key in putative feature table line: FT   CROSSLNK        179

---------------------------------------------------

--------------------- WARNING ---------------------
MSG: failed to parse feature table line for seq ROA1_HUMAN
FT   CROSSLNK        179

---------------------------------------------------

--------------------- WARNING ---------------------
MSG: No feature key in putative feature table line: FT                   /note="Glycyl lysine isopeptide (Lys-Gly) (interchain with

---------------------------------------------------

--------------------- WARNING ---------------------
MSG: failed to parse feature table line for seq ROA1_HUMAN
FT                   /note="Glycyl lysine isopeptide (Lys-Gly) (interchain with

---------------------------------------------------

--------------------- WARNING ---------------------
MSG: No feature key in putative feature table line: FT                   G-Cter in SUMO2)"

---------------------------------------------------

--------------------- WARNING ---------------------
MSG: failed to parse feature table line for seq ROA1_HUMAN
FT                   G-Cter in SUMO2)"

---------------------------------------------------

--------------------- WARNING ---------------------
MSG: No feature key in putative feature table line: FT                   /evidence="ECO:0007744|PubMed:28112733"

---------------------------------------------------

--------------------- WARNING ---------------------
MSG: failed to parse feature table line for seq ROA1_HUMAN
FT                   /evidence="ECO:0007744|PubMed:28112733"

---------------------------------------------------

--------------------- WARNING ---------------------
MSG: No feature key in putative feature table line: FT   CROSSLNK        183

---------------------------------------------------

--------------------- WARNING ---------------------
MSG: failed to parse feature table line for seq ROA1_HUMAN
FT   CROSSLNK        183

---------------------------------------------------

--------------------- WARNING ---------------------
MSG: No feature key in putative feature table line: FT                   /note="Glycyl lysine isopeptide (Lys-Gly) (interchain with

---------------------------------------------------

--------------------- WARNING ---------------------
MSG: failed to parse feature table line for seq ROA1_HUMAN
FT                   /note="Glycyl lysine isopeptide (Lys-Gly) (interchain with

---------------------------------------------------

--------------------- WARNING ---------------------
MSG: No feature key in putative feature table line: FT                   G-Cter in SUMO2)"

---------------------------------------------------

--------------------- WARNING ---------------------
MSG: failed to parse feature table line for seq ROA1_HUMAN
FT                   G-Cter in SUMO2)"

---------------------------------------------------

--------------------- WARNING ---------------------
MSG: No feature key in putative feature table line: FT                   /evidence="ECO:0007744|PubMed:28112733"

---------------------------------------------------

--------------------- WARNING ---------------------
MSG: failed to parse feature table line for seq ROA1_HUMAN
FT                   /evidence="ECO:0007744|PubMed:28112733"

---------------------------------------------------

--------------------- WARNING ---------------------
MSG: No feature key in putative feature table line: FT   CROSSLNK        350

---------------------------------------------------

--------------------- WARNING ---------------------
MSG: failed to parse feature table line for seq ROA1_HUMAN
FT   CROSSLNK        350

---------------------------------------------------

--------------------- WARNING ---------------------
MSG: No feature key in putative feature table line: FT                   /note="Glycyl lysine isopeptide (Lys-Gly) (interchain with

---------------------------------------------------

--------------------- WARNING ---------------------
MSG: failed to parse feature table line for seq ROA1_HUMAN
FT                   /note="Glycyl lysine isopeptide (Lys-Gly) (interchain with

---------------------------------------------------

--------------------- WARNING ---------------------
MSG: No feature key in putative feature table line: FT                   G-Cter in SUMO2); alternate"

---------------------------------------------------

--------------------- WARNING ---------------------
MSG: failed to parse feature table line for seq ROA1_HUMAN
FT                   G-Cter in SUMO2); alternate"

---------------------------------------------------

--------------------- WARNING ---------------------
MSG: No feature key in putative feature table line: FT                   /evidence="ECO:0007744|PubMed:28112733"

---------------------------------------------------

--------------------- WARNING ---------------------
MSG: failed to parse feature table line for seq ROA1_HUMAN
FT                   /evidence="ECO:0007744|PubMed:28112733"

---------------------------------------------------

--------------------- WARNING ---------------------
MSG: No feature key in putative feature table line: FT   VAR_SEQ         203..307

---------------------------------------------------

--------------------- WARNING ---------------------
MSG: failed to parse feature table line for seq ROA1_HUMAN
FT   VAR_SEQ         203..307

---------------------------------------------------

--------------------- WARNING ---------------------
MSG: No feature key in putative feature table line: FT                   /note="Missing (in isoform 2)"

---------------------------------------------------

--------------------- WARNING ---------------------
MSG: failed to parse feature table line for seq ROA1_HUMAN
FT                   /note="Missing (in isoform 2)"

---------------------------------------------------

--------------------- WARNING ---------------------
MSG: No feature key in putative feature table line: FT                   /evidence="ECO:0000303|PubMed:15489334"

---------------------------------------------------

--------------------- WARNING ---------------------
MSG: failed to parse feature table line for seq ROA1_HUMAN
FT                   /evidence="ECO:0000303|PubMed:15489334"

---------------------------------------------------

--------------------- WARNING ---------------------
MSG: No feature key in putative feature table line: FT                   /id="VSP_034076"

---------------------------------------------------

--------------------- WARNING ---------------------
MSG: failed to parse feature table line for seq ROA1_HUMAN
FT                   /id="VSP_034076"

---------------------------------------------------

--------------------- WARNING ---------------------
MSG: No feature key in putative feature table line: FT   VAR_SEQ         252..303

---------------------------------------------------

--------------------- WARNING ---------------------
MSG: failed to parse feature table line for seq ROA1_HUMAN
FT   VAR_SEQ         252..303

---------------------------------------------------

--------------------- WARNING ---------------------
MSG: No feature key in putative feature table line: FT                   /note="Missing (in isoform A1-A)"

---------------------------------------------------

--------------------- WARNING ---------------------
MSG: failed to parse feature table line for seq ROA1_HUMAN
FT                   /note="Missing (in isoform A1-A)"

---------------------------------------------------

--------------------- WARNING ---------------------
MSG: No feature key in putative feature table line: FT                   /evidence="ECO:0000303|PubMed:14702039,

---------------------------------------------------

--------------------- WARNING ---------------------
MSG: failed to parse feature table line for seq ROA1_HUMAN
FT                   /evidence="ECO:0000303|PubMed:14702039,

---------------------------------------------------

--------------------- WARNING ---------------------
MSG: No feature key in putative feature table line: FT                   ECO:0000303|PubMed:15489334, ECO:0000303|PubMed:2836799,

---------------------------------------------------

--------------------- WARNING ---------------------
MSG: failed to parse feature table line for seq ROA1_HUMAN
FT                   ECO:0000303|PubMed:15489334, ECO:0000303|PubMed:2836799,

---------------------------------------------------

--------------------- WARNING ---------------------
MSG: No feature key in putative feature table line: FT                   ECO:0000303|Ref.3"

---------------------------------------------------

--------------------- WARNING ---------------------
MSG: failed to parse feature table line for seq ROA1_HUMAN
FT                   ECO:0000303|Ref.3"

---------------------------------------------------

--------------------- WARNING ---------------------
MSG: No feature key in putative feature table line: FT                   /id="VSP_005824"

---------------------------------------------------

--------------------- WARNING ---------------------
MSG: failed to parse feature table line for seq ROA1_HUMAN
FT                   /id="VSP_005824"

---------------------------------------------------

--------------------- WARNING ---------------------
MSG: No feature key in putative feature table line: FT   VARIANT         277

---------------------------------------------------

--------------------- WARNING ---------------------
MSG: failed to parse feature table line for seq ROA1_HUMAN
FT   VARIANT         277

---------------------------------------------------

--------------------- WARNING ---------------------
MSG: No feature key in putative feature table line: FT                   /note="Q -> K (in ALS20; unknown pathological

---------------------------------------------------

--------------------- WARNING ---------------------
MSG: failed to parse feature table line for seq ROA1_HUMAN
FT                   /note="Q -> K (in ALS20; unknown pathological

---------------------------------------------------

--------------------- WARNING ---------------------
MSG: No feature key in putative feature table line: FT                   significance)"

---------------------------------------------------

--------------------- WARNING ---------------------
MSG: failed to parse feature table line for seq ROA1_HUMAN
FT                   significance)"

---------------------------------------------------

--------------------- WARNING ---------------------
MSG: No feature key in putative feature table line: FT                   /evidence="ECO:0000269|PubMed:27694260"

---------------------------------------------------

--------------------- WARNING ---------------------
MSG: failed to parse feature table line for seq ROA1_HUMAN
FT                   /evidence="ECO:0000269|PubMed:27694260"

---------------------------------------------------

--------------------- WARNING ---------------------
MSG: No feature key in putative feature table line: FT                   /id="VAR_077531"

---------------------------------------------------

--------------------- WARNING ---------------------
MSG: failed to parse feature table line for seq ROA1_HUMAN
FT                   /id="VAR_077531"

---------------------------------------------------

--------------------- WARNING ---------------------
MSG: No feature key in putative feature table line: FT   VARIANT         283

---------------------------------------------------

--------------------- WARNING ---------------------
MSG: failed to parse feature table line for seq ROA1_HUMAN
FT   VARIANT         283

---------------------------------------------------

--------------------- WARNING ---------------------
MSG: No feature key in putative feature table line: FT                   /note="G -> R (in dbSNP:rs375259222)"

---------------------------------------------------

--------------------- WARNING ---------------------
MSG: failed to parse feature table line for seq ROA1_HUMAN
FT                   /note="G -> R (in dbSNP:rs375259222)"

---------------------------------------------------

--------------------- WARNING ---------------------
MSG: No feature key in putative feature table line: FT                   /evidence="ECO:0000269|PubMed:27694260"

---------------------------------------------------

--------------------- WARNING ---------------------
MSG: failed to parse feature table line for seq ROA1_HUMAN
FT                   /evidence="ECO:0000269|PubMed:27694260"

---------------------------------------------------

--------------------- WARNING ---------------------
MSG: No feature key in putative feature table line: FT                   /id="VAR_077532"

---------------------------------------------------

--------------------- WARNING ---------------------
MSG: failed to parse feature table line for seq ROA1_HUMAN
FT                   /id="VAR_077532"

---------------------------------------------------

--------------------- WARNING ---------------------
MSG: No feature key in putative feature table line: FT   VARIANT         314

---------------------------------------------------

--------------------- WARNING ---------------------
MSG: failed to parse feature table line for seq ROA1_HUMAN
FT   VARIANT         314

---------------------------------------------------

--------------------- WARNING ---------------------
MSG: No feature key in putative feature table line: FT                   /note="D -> N (in ALS20; dbSNP:rs397518453)"

---------------------------------------------------

--------------------- WARNING ---------------------
MSG: failed to parse feature table line for seq ROA1_HUMAN
FT                   /note="D -> N (in ALS20; dbSNP:rs397518453)"

---------------------------------------------------

--------------------- WARNING ---------------------
MSG: No feature key in putative feature table line: FT                   /evidence="ECO:0000269|PubMed:23455423"

---------------------------------------------------

--------------------- WARNING ---------------------
MSG: failed to parse feature table line for seq ROA1_HUMAN
FT                   /evidence="ECO:0000269|PubMed:23455423"

---------------------------------------------------

--------------------- WARNING ---------------------
MSG: No feature key in putative feature table line: FT                   /id="VAR_070588"

---------------------------------------------------

--------------------- WARNING ---------------------
MSG: failed to parse feature table line for seq ROA1_HUMAN
FT                   /id="VAR_070588"

---------------------------------------------------

--------------------- WARNING ---------------------
MSG: No feature key in putative feature table line: FT   VARIANT         314

---------------------------------------------------

--------------------- WARNING ---------------------
MSG: failed to parse feature table line for seq ROA1_HUMAN
FT   VARIANT         314

---------------------------------------------------

--------------------- WARNING ---------------------
MSG: No feature key in putative feature table line: FT                   /note="D -> V (in IBMPFD3; reduces binding to UBQLN2;

---------------------------------------------------

--------------------- WARNING ---------------------
MSG: failed to parse feature table line for seq ROA1_HUMAN
FT                   /note="D -> V (in IBMPFD3; reduces binding to UBQLN2;

---------------------------------------------------

--------------------- WARNING ---------------------
MSG: No feature key in putative feature table line: FT                   dbSNP:rs397518452)"

---------------------------------------------------

--------------------- WARNING ---------------------
MSG: failed to parse feature table line for seq ROA1_HUMAN
FT                   dbSNP:rs397518452)"

---------------------------------------------------

--------------------- WARNING ---------------------
MSG: No feature key in putative feature table line: FT                   /evidence="ECO:0000269|PubMed:23455423,

---------------------------------------------------

--------------------- WARNING ---------------------
MSG: failed to parse feature table line for seq ROA1_HUMAN
FT                   /evidence="ECO:0000269|PubMed:23455423,

---------------------------------------------------

--------------------- WARNING ---------------------
MSG: No feature key in putative feature table line: FT                   ECO:0000269|PubMed:25616961"

---------------------------------------------------

--------------------- WARNING ---------------------
MSG: failed to parse feature table line for seq ROA1_HUMAN
FT                   ECO:0000269|PubMed:25616961"

---------------------------------------------------

--------------------- WARNING ---------------------
MSG: No feature key in putative feature table line: FT                   /id="VAR_070589"

---------------------------------------------------

--------------------- WARNING ---------------------
MSG: failed to parse feature table line for seq ROA1_HUMAN
FT                   /id="VAR_070589"

---------------------------------------------------

--------------------- WARNING ---------------------
MSG: No feature key in putative feature table line: FT   VARIANT         319

---------------------------------------------------

--------------------- WARNING ---------------------
MSG: failed to parse feature table line for seq ROA1_HUMAN
FT   VARIANT         319

---------------------------------------------------

--------------------- WARNING ---------------------
MSG: No feature key in putative feature table line: FT                   /note="N -> S (in ALS20; dbSNP:rs397518454)"

---------------------------------------------------

--------------------- WARNING ---------------------
MSG: failed to parse feature table line for seq ROA1_HUMAN
FT                   /note="N -> S (in ALS20; dbSNP:rs397518454)"

---------------------------------------------------

--------------------- WARNING ---------------------
MSG: No feature key in putative feature table line: FT                   /evidence="ECO:0000269|PubMed:23455423"

---------------------------------------------------

--------------------- WARNING ---------------------
MSG: failed to parse feature table line for seq ROA1_HUMAN
FT                   /evidence="ECO:0000269|PubMed:23455423"

---------------------------------------------------

--------------------- WARNING ---------------------
MSG: No feature key in putative feature table line: FT                   /id="VAR_070590"

---------------------------------------------------

--------------------- WARNING ---------------------
MSG: failed to parse feature table line for seq ROA1_HUMAN
FT                   /id="VAR_070590"

---------------------------------------------------

--------------------- WARNING ---------------------
MSG: No feature key in putative feature table line: FT   VARIANT         340

---------------------------------------------------

--------------------- WARNING ---------------------
MSG: failed to parse feature table line for seq ROA1_HUMAN
FT   VARIANT         340

---------------------------------------------------

--------------------- WARNING ---------------------
MSG: No feature key in putative feature table line: FT                   /note="P -> S (in ALS20; increases subcellular localization

---------------------------------------------------

--------------------- WARNING ---------------------
MSG: failed to parse feature table line for seq ROA1_HUMAN
FT                   /note="P -> S (in ALS20; increases subcellular localization

---------------------------------------------------

--------------------- WARNING ---------------------
MSG: No feature key in putative feature table line: FT                   of HNRNPA1 in cytoplasmic inclusions with stress granules)"

---------------------------------------------------

--------------------- WARNING ---------------------
MSG: failed to parse feature table line for seq ROA1_HUMAN
FT                   of HNRNPA1 in cytoplasmic inclusions with stress granules)"

---------------------------------------------------

--------------------- WARNING ---------------------
MSG: No feature key in putative feature table line: FT                   /evidence="ECO:0000269|PubMed:27694260"

---------------------------------------------------

--------------------- WARNING ---------------------
MSG: failed to parse feature table line for seq ROA1_HUMAN
FT                   /evidence="ECO:0000269|PubMed:27694260"

---------------------------------------------------

--------------------- WARNING ---------------------
MSG: No feature key in putative feature table line: FT                   /id="VAR_077533"

---------------------------------------------------

--------------------- WARNING ---------------------
MSG: failed to parse feature table line for seq ROA1_HUMAN
FT                   /id="VAR_077533"

---------------------------------------------------

--------------------- WARNING ---------------------
MSG: No feature key in putative feature table line: FT   MUTAGEN         218

---------------------------------------------------

--------------------- WARNING ---------------------
MSG: failed to parse feature table line for seq ROA1_HUMAN
FT   MUTAGEN         218

---------------------------------------------------

--------------------- WARNING ---------------------
MSG: No feature key in putative feature table line: FT                   /note="R->A: Abolishes interaction with HOXB-AS3 peptide;

---------------------------------------------------

--------------------- WARNING ---------------------
MSG: failed to parse feature table line for seq ROA1_HUMAN
FT                   /note="R->A: Abolishes interaction with HOXB-AS3 peptide;

---------------------------------------------------

--------------------- WARNING ---------------------
MSG: No feature key in putative feature table line: FT                   when associated with A-225 and A-232."

---------------------------------------------------

--------------------- WARNING ---------------------
MSG: failed to parse feature table line for seq ROA1_HUMAN
FT                   when associated with A-225 and A-232."

---------------------------------------------------

--------------------- WARNING ---------------------
MSG: No feature key in putative feature table line: FT                   /evidence="ECO:0000269|PubMed:28985503"

---------------------------------------------------

--------------------- WARNING ---------------------
MSG: failed to parse feature table line for seq ROA1_HUMAN
FT                   /evidence="ECO:0000269|PubMed:28985503"

---------------------------------------------------

--------------------- WARNING ---------------------
MSG: No feature key in putative feature table line: FT   MUTAGEN         225

---------------------------------------------------

--------------------- WARNING ---------------------
MSG: failed to parse feature table line for seq ROA1_HUMAN
FT   MUTAGEN         225

---------------------------------------------------

--------------------- WARNING ---------------------
MSG: No feature key in putative feature table line: FT                   /note="R->A: Abolishes interaction with HOXB-AS3 peptide;

---------------------------------------------------

--------------------- WARNING ---------------------
MSG: failed to parse feature table line for seq ROA1_HUMAN
FT                   /note="R->A: Abolishes interaction with HOXB-AS3 peptide;

---------------------------------------------------

--------------------- WARNING ---------------------
MSG: No feature key in putative feature table line: FT                   when associated with A-218 and A-232."

---------------------------------------------------

--------------------- WARNING ---------------------
MSG: failed to parse feature table line for seq ROA1_HUMAN
FT                   when associated with A-218 and A-232."

---------------------------------------------------

--------------------- WARNING ---------------------
MSG: No feature key in putative feature table line: FT                   /evidence="ECO:0000269|PubMed:28985503"

---------------------------------------------------

--------------------- WARNING ---------------------
MSG: failed to parse feature table line for seq ROA1_HUMAN
FT                   /evidence="ECO:0000269|PubMed:28985503"

---------------------------------------------------

--------------------- WARNING ---------------------
MSG: No feature key in putative feature table line: FT   MUTAGEN         232

---------------------------------------------------

--------------------- WARNING ---------------------
MSG: failed to parse feature table line for seq ROA1_HUMAN
FT   MUTAGEN         232

---------------------------------------------------

--------------------- WARNING ---------------------
MSG: No feature key in putative feature table line: FT                   /note="R->A: Abolishes interaction with HOXB-AS3 peptide;

---------------------------------------------------

--------------------- WARNING ---------------------
MSG: failed to parse feature table line for seq ROA1_HUMAN
FT                   /note="R->A: Abolishes interaction with HOXB-AS3 peptide;

---------------------------------------------------

--------------------- WARNING ---------------------
MSG: No feature key in putative feature table line: FT                   when associated with A-218 and A-225."

---------------------------------------------------

--------------------- WARNING ---------------------
MSG: failed to parse feature table line for seq ROA1_HUMAN
FT                   when associated with A-218 and A-225."

---------------------------------------------------

--------------------- WARNING ---------------------
MSG: No feature key in putative feature table line: FT                   /evidence="ECO:0000269|PubMed:28985503"

---------------------------------------------------

--------------------- WARNING ---------------------
MSG: failed to parse feature table line for seq ROA1_HUMAN
FT                   /evidence="ECO:0000269|PubMed:28985503"

---------------------------------------------------

--------------------- WARNING ---------------------
MSG: No feature key in putative feature table line: FT   MUTAGEN         326

---------------------------------------------------

--------------------- WARNING ---------------------
MSG: failed to parse feature table line for seq ROA1_HUMAN
FT   MUTAGEN         326

---------------------------------------------------

--------------------- WARNING ---------------------
MSG: No feature key in putative feature table line: FT                   /note="G->A: No nuclear import nor export."

---------------------------------------------------

--------------------- WARNING ---------------------
MSG: failed to parse feature table line for seq ROA1_HUMAN
FT                   /note="G->A: No nuclear import nor export."

---------------------------------------------------

--------------------- WARNING ---------------------
MSG: No feature key in putative feature table line: FT                   /evidence="ECO:0000269|PubMed:7730395"

---------------------------------------------------

--------------------- WARNING ---------------------
MSG: failed to parse feature table line for seq ROA1_HUMAN
FT                   /evidence="ECO:0000269|PubMed:7730395"

---------------------------------------------------

--------------------- WARNING ---------------------
MSG: No feature key in putative feature table line: FT   MUTAGEN         327

---------------------------------------------------

--------------------- WARNING ---------------------
MSG: failed to parse feature table line for seq ROA1_HUMAN
FT   MUTAGEN         327

---------------------------------------------------

--------------------- WARNING ---------------------
MSG: No feature key in putative feature table line: FT                   /note="P->A: No nuclear import nor export."

---------------------------------------------------

--------------------- WARNING ---------------------
MSG: failed to parse feature table line for seq ROA1_HUMAN
FT                   /note="P->A: No nuclear import nor export."

---------------------------------------------------

--------------------- WARNING ---------------------
MSG: No feature key in putative feature table line: FT                   /evidence="ECO:0000269|PubMed:7730395"

---------------------------------------------------

--------------------- WARNING ---------------------
MSG: failed to parse feature table line for seq ROA1_HUMAN
FT                   /evidence="ECO:0000269|PubMed:7730395"

---------------------------------------------------

--------------------- WARNING ---------------------
MSG: No feature key in putative feature table line: FT   MUTAGEN         334..335

---------------------------------------------------

--------------------- WARNING ---------------------
MSG: failed to parse feature table line for seq ROA1_HUMAN
FT   MUTAGEN         334..335

---------------------------------------------------

--------------------- WARNING ---------------------
MSG: No feature key in putative feature table line: FT                   /note="GG->LL: Normal nuclear import and export."

---------------------------------------------------

--------------------- WARNING ---------------------
MSG: failed to parse feature table line for seq ROA1_HUMAN
FT                   /note="GG->LL: Normal nuclear import and export."

---------------------------------------------------

--------------------- WARNING ---------------------
MSG: No feature key in putative feature table line: FT                   /evidence="ECO:0000269|PubMed:7730395"

---------------------------------------------------

--------------------- WARNING ---------------------
MSG: failed to parse feature table line for seq ROA1_HUMAN
FT                   /evidence="ECO:0000269|PubMed:7730395"

---------------------------------------------------

--------------------- WARNING ---------------------
MSG: No feature key in putative feature table line: FT   CONFLICT        128

---------------------------------------------------

--------------------- WARNING ---------------------
MSG: failed to parse feature table line for seq ROA1_HUMAN
FT   CONFLICT        128

---------------------------------------------------

--------------------- WARNING ---------------------
MSG: No feature key in putative feature table line: FT                   /note="Y -> F (in Ref. 2; CAA29922)"

---------------------------------------------------

--------------------- WARNING ---------------------
MSG: failed to parse feature table line for seq ROA1_HUMAN
FT                   /note="Y -> F (in Ref. 2; CAA29922)"

---------------------------------------------------

--------------------- WARNING ---------------------
MSG: No feature key in putative feature table line: FT                   /evidence="ECO:0000305"

---------------------------------------------------

--------------------- WARNING ---------------------
MSG: failed to parse feature table line for seq ROA1_HUMAN
FT                   /evidence="ECO:0000305"

---------------------------------------------------

--------------------- WARNING ---------------------
MSG: No feature key in putative feature table line: FT   CONFLICT        140

---------------------------------------------------

--------------------- WARNING ---------------------
MSG: failed to parse feature table line for seq ROA1_HUMAN
FT   CONFLICT        140

---------------------------------------------------

--------------------- WARNING ---------------------
MSG: No feature key in putative feature table line: FT                   /note="R -> P (in Ref. 8; CAA27874)"

---------------------------------------------------

--------------------- WARNING ---------------------
MSG: failed to parse feature table line for seq ROA1_HUMAN
FT                   /note="R -> P (in Ref. 8; CAA27874)"

---------------------------------------------------

--------------------- WARNING ---------------------
MSG: No feature key in putative feature table line: FT                   /evidence="ECO:0000305"

---------------------------------------------------

--------------------- WARNING ---------------------
MSG: failed to parse feature table line for seq ROA1_HUMAN
FT                   /evidence="ECO:0000305"

---------------------------------------------------

--------------------- WARNING ---------------------
MSG: No feature key in putative feature table line: FT   CONFLICT        146

---------------------------------------------------

--------------------- WARNING ---------------------
MSG: failed to parse feature table line for seq ROA1_HUMAN
FT   CONFLICT        146

---------------------------------------------------

--------------------- WARNING ---------------------
MSG: No feature key in putative feature table line: FT                   /note="R -> K (in Ref. 2; CAA29922)"

---------------------------------------------------

--------------------- WARNING ---------------------
MSG: failed to parse feature table line for seq ROA1_HUMAN
FT                   /note="R -> K (in Ref. 2; CAA29922)"

---------------------------------------------------

--------------------- WARNING ---------------------
MSG: No feature key in putative feature table line: FT                   /evidence="ECO:0000305"

---------------------------------------------------

--------------------- WARNING ---------------------
MSG: failed to parse feature table line for seq ROA1_HUMAN
FT                   /evidence="ECO:0000305"

---------------------------------------------------

--------------------- WARNING ---------------------
MSG: No feature key in putative feature table line: FT   HELIX           11..14

---------------------------------------------------

--------------------- WARNING ---------------------
MSG: failed to parse feature table line for seq ROA1_HUMAN
FT   HELIX           11..14

---------------------------------------------------

--------------------- WARNING ---------------------
MSG: No feature key in putative feature table line: FT                   /evidence="ECO:0007829|PDB:1L3K"

---------------------------------------------------

--------------------- WARNING ---------------------
MSG: failed to parse feature table line for seq ROA1_HUMAN
FT                   /evidence="ECO:0007829|PDB:1L3K"

---------------------------------------------------

--------------------- WARNING ---------------------
MSG: No feature key in putative feature table line: FT   STRAND          15..20

---------------------------------------------------

--------------------- WARNING ---------------------
MSG: failed to parse feature table line for seq ROA1_HUMAN
FT   STRAND          15..20

---------------------------------------------------

--------------------- WARNING ---------------------
MSG: No feature key in putative feature table line: FT                   /evidence="ECO:0007829|PDB:1L3K"

---------------------------------------------------

--------------------- WARNING ---------------------
MSG: failed to parse feature table line for seq ROA1_HUMAN
FT                   /evidence="ECO:0007829|PDB:1L3K"

---------------------------------------------------

--------------------- WARNING ---------------------
MSG: No feature key in putative feature table line: FT   HELIX           27..34

---------------------------------------------------

--------------------- WARNING ---------------------
MSG: failed to parse feature table line for seq ROA1_HUMAN
FT   HELIX           27..34

---------------------------------------------------

--------------------- WARNING ---------------------
MSG: No feature key in putative feature table line: FT                   /evidence="ECO:0007829|PDB:1L3K"

---------------------------------------------------

--------------------- WARNING ---------------------
MSG: failed to parse feature table line for seq ROA1_HUMAN
FT                   /evidence="ECO:0007829|PDB:1L3K"

---------------------------------------------------

--------------------- WARNING ---------------------
MSG: No feature key in putative feature table line: FT   HELIX           35..37

---------------------------------------------------

--------------------- WARNING ---------------------
MSG: failed to parse feature table line for seq ROA1_HUMAN
FT   HELIX           35..37

---------------------------------------------------

--------------------- WARNING ---------------------
MSG: No feature key in putative feature table line: FT                   /evidence="ECO:0007829|PDB:1L3K"

---------------------------------------------------

--------------------- WARNING ---------------------
MSG: failed to parse feature table line for seq ROA1_HUMAN
FT                   /evidence="ECO:0007829|PDB:1L3K"

---------------------------------------------------

--------------------- WARNING ---------------------
MSG: No feature key in putative feature table line: FT   STRAND          40..47

---------------------------------------------------

--------------------- WARNING ---------------------
MSG: failed to parse feature table line for seq ROA1_HUMAN
FT   STRAND          40..47

---------------------------------------------------

--------------------- WARNING ---------------------
MSG: No feature key in putative feature table line: FT                   /evidence="ECO:0007829|PDB:1L3K"

---------------------------------------------------

--------------------- WARNING ---------------------
MSG: failed to parse feature table line for seq ROA1_HUMAN
FT                   /evidence="ECO:0007829|PDB:1L3K"

---------------------------------------------------

--------------------- WARNING ---------------------
MSG: No feature key in putative feature table line: FT   TURN            49..51

---------------------------------------------------

--------------------- WARNING ---------------------
MSG: failed to parse feature table line for seq ROA1_HUMAN
FT   TURN            49..51

---------------------------------------------------

--------------------- WARNING ---------------------
MSG: No feature key in putative feature table line: FT                   /evidence="ECO:0007829|PDB:1L3K"

---------------------------------------------------

--------------------- WARNING ---------------------
MSG: failed to parse feature table line for seq ROA1_HUMAN
FT                   /evidence="ECO:0007829|PDB:1L3K"

---------------------------------------------------

--------------------- WARNING ---------------------
MSG: No feature key in putative feature table line: FT   STRAND          54..64

---------------------------------------------------

--------------------- WARNING ---------------------
MSG: failed to parse feature table line for seq ROA1_HUMAN
FT   STRAND          54..64

---------------------------------------------------

--------------------- WARNING ---------------------
MSG: No feature key in putative feature table line: FT                   /evidence="ECO:0007829|PDB:1L3K"

---------------------------------------------------

--------------------- WARNING ---------------------
MSG: failed to parse feature table line for seq ROA1_HUMAN
FT                   /evidence="ECO:0007829|PDB:1L3K"

---------------------------------------------------

--------------------- WARNING ---------------------
MSG: No feature key in putative feature table line: FT   HELIX           65..73

---------------------------------------------------

--------------------- WARNING ---------------------
MSG: failed to parse feature table line for seq ROA1_HUMAN
FT   HELIX           65..73

---------------------------------------------------

--------------------- WARNING ---------------------
MSG: No feature key in putative feature table line: FT                   /evidence="ECO:0007829|PDB:1L3K"

---------------------------------------------------

--------------------- WARNING ---------------------
MSG: failed to parse feature table line for seq ROA1_HUMAN
FT                   /evidence="ECO:0007829|PDB:1L3K"

---------------------------------------------------

--------------------- WARNING ---------------------
MSG: No feature key in putative feature table line: FT   STRAND          76..79

---------------------------------------------------

--------------------- WARNING ---------------------
MSG: failed to parse feature table line for seq ROA1_HUMAN
FT   STRAND          76..79

---------------------------------------------------

--------------------- WARNING ---------------------
MSG: No feature key in putative feature table line: FT                   /evidence="ECO:0007829|PDB:1U1R"

---------------------------------------------------

--------------------- WARNING ---------------------
MSG: failed to parse feature table line for seq ROA1_HUMAN
FT                   /evidence="ECO:0007829|PDB:1U1R"

---------------------------------------------------

--------------------- WARNING ---------------------
MSG: No feature key in putative feature table line: FT   STRAND          85..88

---------------------------------------------------

--------------------- WARNING ---------------------
MSG: failed to parse feature table line for seq ROA1_HUMAN
FT   STRAND          85..88

---------------------------------------------------

--------------------- WARNING ---------------------
MSG: No feature key in putative feature table line: FT                   /evidence="ECO:0007829|PDB:1L3K"

---------------------------------------------------

--------------------- WARNING ---------------------
MSG: failed to parse feature table line for seq ROA1_HUMAN
FT                   /evidence="ECO:0007829|PDB:1L3K"

---------------------------------------------------

--------------------- WARNING ---------------------
MSG: No feature key in putative feature table line: FT   HELIX           94..96

---------------------------------------------------

--------------------- WARNING ---------------------
MSG: failed to parse feature table line for seq ROA1_HUMAN
FT   HELIX           94..96

---------------------------------------------------

--------------------- WARNING ---------------------
MSG: No feature key in putative feature table line: FT                   /evidence="ECO:0007829|PDB:1U1Q"

---------------------------------------------------

--------------------- WARNING ---------------------
MSG: failed to parse feature table line for seq ROA1_HUMAN
FT                   /evidence="ECO:0007829|PDB:1U1Q"

---------------------------------------------------

--------------------- WARNING ---------------------
MSG: No feature key in putative feature table line: FT   TURN            98..101

---------------------------------------------------

--------------------- WARNING ---------------------
MSG: failed to parse feature table line for seq ROA1_HUMAN
FT   TURN            98..101

---------------------------------------------------

--------------------- WARNING ---------------------
MSG: No feature key in putative feature table line: FT                   /evidence="ECO:0007829|PDB:1U1Q"

---------------------------------------------------

--------------------- WARNING ---------------------
MSG: failed to parse feature table line for seq ROA1_HUMAN
FT                   /evidence="ECO:0007829|PDB:1U1Q"

---------------------------------------------------

--------------------- WARNING ---------------------
MSG: No feature key in putative feature table line: FT   STRAND          105..110

---------------------------------------------------

--------------------- WARNING ---------------------
MSG: failed to parse feature table line for seq ROA1_HUMAN
FT   STRAND          105..110

---------------------------------------------------

--------------------- WARNING ---------------------
MSG: No feature key in putative feature table line: FT                   /evidence="ECO:0007829|PDB:1L3K"

---------------------------------------------------

--------------------- WARNING ---------------------
MSG: failed to parse feature table line for seq ROA1_HUMAN
FT                   /evidence="ECO:0007829|PDB:1L3K"

---------------------------------------------------

--------------------- WARNING ---------------------
MSG: No feature key in putative feature table line: FT   TURN            113..115

---------------------------------------------------

--------------------- WARNING ---------------------
MSG: failed to parse feature table line for seq ROA1_HUMAN
FT   TURN            113..115

---------------------------------------------------

--------------------- WARNING ---------------------
MSG: No feature key in putative feature table line: FT                   /evidence="ECO:0007829|PDB:1L3K"

---------------------------------------------------

--------------------- WARNING ---------------------
MSG: failed to parse feature table line for seq ROA1_HUMAN
FT                   /evidence="ECO:0007829|PDB:1L3K"

---------------------------------------------------

--------------------- WARNING ---------------------
MSG: No feature key in putative feature table line: FT   HELIX           118..125

---------------------------------------------------

--------------------- WARNING ---------------------
MSG: failed to parse feature table line for seq ROA1_HUMAN
FT   HELIX           118..125

---------------------------------------------------

--------------------- WARNING ---------------------
MSG: No feature key in putative feature table line: FT                   /evidence="ECO:0007829|PDB:1L3K"

---------------------------------------------------

--------------------- WARNING ---------------------
MSG: failed to parse feature table line for seq ROA1_HUMAN
FT                   /evidence="ECO:0007829|PDB:1L3K"

---------------------------------------------------

--------------------- WARNING ---------------------
MSG: No feature key in putative feature table line: FT   TURN            126..128

---------------------------------------------------

--------------------- WARNING ---------------------
MSG: failed to parse feature table line for seq ROA1_HUMAN
FT   TURN            126..128

---------------------------------------------------

--------------------- WARNING ---------------------
MSG: No feature key in putative feature table line: FT                   /evidence="ECO:0007829|PDB:1L3K"

---------------------------------------------------

--------------------- WARNING ---------------------
MSG: failed to parse feature table line for seq ROA1_HUMAN
FT                   /evidence="ECO:0007829|PDB:1L3K"

---------------------------------------------------

--------------------- WARNING ---------------------
MSG: No feature key in putative feature table line: FT   STRAND          131..138

---------------------------------------------------

--------------------- WARNING ---------------------
MSG: failed to parse feature table line for seq ROA1_HUMAN
FT   STRAND          131..138

---------------------------------------------------

--------------------- WARNING ---------------------
MSG: No feature key in putative feature table line: FT                   /evidence="ECO:0007829|PDB:1L3K"

---------------------------------------------------

--------------------- WARNING ---------------------
MSG: failed to parse feature table line for seq ROA1_HUMAN
FT                   /evidence="ECO:0007829|PDB:1L3K"

---------------------------------------------------

--------------------- WARNING ---------------------
MSG: No feature key in putative feature table line: FT   TURN            140..142

---------------------------------------------------

--------------------- WARNING ---------------------
MSG: failed to parse feature table line for seq ROA1_HUMAN
FT   TURN            140..142

---------------------------------------------------

--------------------- WARNING ---------------------
MSG: No feature key in putative feature table line: FT                   /evidence="ECO:0007829|PDB:1L3K"

---------------------------------------------------

--------------------- WARNING ---------------------
MSG: failed to parse feature table line for seq ROA1_HUMAN
FT                   /evidence="ECO:0007829|PDB:1L3K"

---------------------------------------------------

--------------------- WARNING ---------------------
MSG: No feature key in putative feature table line: FT   STRAND          145..155

---------------------------------------------------

--------------------- WARNING ---------------------
MSG: failed to parse feature table line for seq ROA1_HUMAN
FT   STRAND          145..155

---------------------------------------------------

--------------------- WARNING ---------------------
MSG: No feature key in putative feature table line: FT                   /evidence="ECO:0007829|PDB:1L3K"

---------------------------------------------------

--------------------- WARNING ---------------------
MSG: failed to parse feature table line for seq ROA1_HUMAN
FT                   /evidence="ECO:0007829|PDB:1L3K"

---------------------------------------------------

--------------------- WARNING ---------------------
MSG: No feature key in putative feature table line: FT   HELIX           156..164

---------------------------------------------------

--------------------- WARNING ---------------------
MSG: failed to parse feature table line for seq ROA1_HUMAN
FT   HELIX           156..164

---------------------------------------------------

--------------------- WARNING ---------------------
MSG: No feature key in putative feature table line: FT                   /evidence="ECO:0007829|PDB:1L3K"

---------------------------------------------------

--------------------- WARNING ---------------------
MSG: failed to parse feature table line for seq ROA1_HUMAN
FT                   /evidence="ECO:0007829|PDB:1L3K"

---------------------------------------------------

--------------------- WARNING ---------------------
MSG: No feature key in putative feature table line: FT   STRAND          168..170

---------------------------------------------------

--------------------- WARNING ---------------------
MSG: failed to parse feature table line for seq ROA1_HUMAN
FT   STRAND          168..170

---------------------------------------------------

--------------------- WARNING ---------------------
MSG: No feature key in putative feature table line: FT                   /evidence="ECO:0007829|PDB:1U1Q"

---------------------------------------------------

--------------------- WARNING ---------------------
MSG: failed to parse feature table line for seq ROA1_HUMAN
FT                   /evidence="ECO:0007829|PDB:1U1Q"

---------------------------------------------------

--------------------- WARNING ---------------------
MSG: No feature key in putative feature table line: FT   STRAND          176..179

---------------------------------------------------

--------------------- WARNING ---------------------
MSG: failed to parse feature table line for seq ROA1_HUMAN
FT   STRAND          176..179

---------------------------------------------------

--------------------- WARNING ---------------------
MSG: No feature key in putative feature table line: FT                   /evidence="ECO:0007829|PDB:1L3K"

---------------------------------------------------

--------------------- WARNING ---------------------
MSG: failed to parse feature table line for seq ROA1_HUMAN
FT                   /evidence="ECO:0007829|PDB:1L3K"

---------------------------------------------------

--------------------- WARNING ---------------------
MSG: No feature key in putative feature table line: FT   HELIX           183..188

---------------------------------------------------

--------------------- WARNING ---------------------
MSG: failed to parse feature table line for seq ROA1_HUMAN
FT   HELIX           183..188

---------------------------------------------------

--------------------- WARNING ---------------------
MSG: No feature key in putative feature table line: FT                   /evidence="ECO:0007829|PDB:1U1Q"

---------------------------------------------------

--------------------- WARNING ---------------------
MSG: failed to parse feature table line for seq ROA1_HUMAN
FT                   /evidence="ECO:0007829|PDB:1U1Q"

---------------------------------------------------

--------------------- WARNING ---------------------
MSG: No feature key in putative feature table line: FT   STRAND          305..307

---------------------------------------------------

--------------------- WARNING ---------------------
MSG: failed to parse feature table line for seq ROA1_HUMAN
FT   STRAND          305..307

---------------------------------------------------

--------------------- WARNING ---------------------
MSG: No feature key in putative feature table line: FT                   /evidence="ECO:0007829|PDB:7BX7"

---------------------------------------------------

--------------------- WARNING ---------------------
MSG: failed to parse feature table line for seq ROA1_HUMAN
FT                   /evidence="ECO:0007829|PDB:7BX7"

---------------------------------------------------

--------------------- WARNING ---------------------
MSG: No feature key in putative feature table line: FT   STRAND          312..314

---------------------------------------------------

--------------------- WARNING ---------------------
MSG: failed to parse feature table line for seq ROA1_HUMAN
FT   STRAND          312..314

---------------------------------------------------

--------------------- WARNING ---------------------
MSG: No feature key in putative feature table line: FT                   /evidence="ECO:0007829|PDB:7BX7"

---------------------------------------------------

--------------------- WARNING ---------------------
MSG: failed to parse feature table line for seq ROA1_HUMAN
FT                   /evidence="ECO:0007829|PDB:7BX7"

---------------------------------------------------

--------------------- WARNING ---------------------
MSG: No feature key in putative feature table line: FT   STRAND          317..326

---------------------------------------------------

--------------------- WARNING ---------------------
MSG: failed to parse feature table line for seq ROA1_HUMAN
FT   STRAND          317..326

---------------------------------------------------

--------------------- WARNING ---------------------
MSG: No feature key in putative feature table line: FT                   /evidence="ECO:0007829|PDB:7BX7"

---------------------------------------------------

--------------------- WARNING ---------------------
MSG: failed to parse feature table line for seq ROA1_HUMAN
FT                   /evidence="ECO:0007829|PDB:7BX7"

---------------------------------------------------

--------------------- WARNING ---------------------
MSG: No feature key in putative feature table line: FT   STRAND          330..333

---------------------------------------------------

--------------------- WARNING ---------------------
MSG: failed to parse feature table line for seq ROA1_HUMAN
FT   STRAND          330..333

---------------------------------------------------

--------------------- WARNING ---------------------
MSG: No feature key in putative feature table line: FT                   /evidence="ECO:0007829|PDB:7BX7"

---------------------------------------------------

--------------------- WARNING ---------------------
MSG: failed to parse feature table line for seq ROA1_HUMAN
FT                   /evidence="ECO:0007829|PDB:7BX7"

---------------------------------------------------
t/Perl.t ................. ok
All tests successful.
Files=7, Tests=33, 825 wallclock secs ( 0.02 usr  0.01 sys +  1.24 cusr  0.85 csys =  2.12 CPU)
Result: PASS

------------------------------
PREREQUISITES
------------------------------

Prerequisite modules loaded:

requires:

    Module                       Need  Have    
    ---------------------------- ----- --------
    base                         0     2.22    
    Bio::DB::EMBL                0     0       
    Bio::DB::GenBank             0     1.7.8   
    Bio::DB::GenPept             0     1.7.8   
    Bio::DB::RefSeq              0     1.7.4   
    Bio::DB::SwissProt           0     1.7.4   
    Bio::Root::Version           0     1.7.7   
    Bio::Seq                     0     1.7.7   
    Bio::SeqIO                   0     1.7.7   
    Bio::Tools::Run::RemoteBlast 0     1.7.7   
    Carp                         0     1.50    
    Exporter                     0     5.77    
    perl                         5.006 5.020002
    strict                       0     1.08    
    utf8                         0     1.13_01 
    vars                         0     1.03    
    warnings                     0     1.23    

build_requires:

    Module                       Need  Have    
    ---------------------------- ----- --------
    Bio::Root::Test              0     1.7.7   
    ExtUtils::MakeMaker          0     7.70    
    File::Spec                   0     3.75    
    IO::Handle                   0     1.55    
    IPC::Open3                   0     1.16    
    lib                          0     0.63    
    Test::More                   0     1.302198

configure_requires:

    Module                       Need  Have    
    ---------------------------- ----- --------
    ExtUtils::MakeMaker          0     7.70    


------------------------------
ENVIRONMENT AND OTHER CONTEXT
------------------------------

Environment variables:

    LC_ALL = de_DE.ISO8859-1
    PATH = /usr/local/bin:/usr/bin:/bin:/usr/local/sbin:/usr/sbin:/sbin:/home/cpansand/bin/freebsd10.3:/home/cpansand/bin/sh:/home/cpansand/bin:/usr/games:/home/cpansand/devel:/home/eserte/src/srezic-misc/scripts
    PERL5LIB = 
    PERL5OPT = 
    PERL5_CPANPLUS_IS_RUNNING = 80437
    PERL5_CPAN_IS_RUNNING = 80437
    PERL5_CPAN_IS_RUNNING_IN_RECURSION = 83003,80437
    PERLDOC = -MPod::Perldoc::ToTextOverstrike
    PERL_BATCH = yes
    PERL_CANARY_STABILITY_NOPROMPT = 1
    PERL_CPAN_REPORTER_CONFIG = /var/tmp/cpansmoker-1023/2024010805/cpanreporter_000_config.ini
    PERL_EXTUTILS_AUTOINSTALL = --defaultdeps
    PERL_USE_UNSAFE_INC = 1
    SHELL = /usr/local/bin/zsh
    TERM = screen
    TMPDIR = /var/tmp/cpansmoker-1023/2024010805

Perl special variables (and OS-specific diagnostics, for MSWin32):

    $^X = /usr/perl5.20.2p/bin/perl
    $UID/$EUID = 1023 / 1023
    $GID = 1023 1023
    $EGID = 1023 1023

Perl module toolchain versions installed:

    Module              Have    
    ------------------- --------
    CPAN                2.34    
    CPAN::Meta          2.150010
    Cwd                 3.75    
    ExtUtils::CBuilder  0.280236
    ExtUtils::Command   7.70    
    ExtUtils::Install   2.20    
    ExtUtils::MakeMaker 7.70    
    ExtUtils::Manifest  1.75    
    ExtUtils::ParseXS   3.51    
    File::Spec          3.75    
    JSON                4.10    
    JSON::PP            4.12    
    Module::Build       0.4234  
    Module::Signature   0.87    
    Parse::CPAN::Meta   2.150010
    Test2               1.302198
    Test::Harness       3.47    
    Test::More          1.302198
    YAML                1.30    
    YAML::Syck          1.34    
    version             0.9929  


--

Summary of my perl5 (revision 5 version 20 subversion 2) configuration:
   
  Platform:
    osname=freebsd, osvers=10.1-release, archname=amd64-freebsd
    uname='freebsd cvrsnica-freebsd-101.herceg.de 10.1-release freebsd 10.1-release #0 r274401: tue nov 11 21:02:49 utc 2014 root@releng1.nyi.freebsd.org:usrobjusrsrcsysgeneric amd64 '
    config_args='-ds -e -Dprefix=/usr/perl5.20.2p'
    hint=recommended, useposix=true, d_sigaction=define
    useithreads=undef, usemultiplicity=undef
    use64bitint=define, use64bitall=define, uselongdouble=undef
    usemymalloc=n, bincompat5005=undef
  Compiler:
    cc='cc', ccflags ='-DHAS_FPSETMASK -DHAS_FLOATINGPOINT_H -fno-strict-aliasing -pipe -fstack-protector -I/usr/local/include',
    optimize='-O',
    cppflags='-DHAS_FPSETMASK -DHAS_FLOATINGPOINT_H -fno-strict-aliasing -pipe -fstack-protector -I/usr/local/include'
    ccversion='', gccversion='4.2.1 Compatible FreeBSD Clang 3.4.1 (tags/RELEASE_34/dot1-final 208032)', gccosandvers=''
    intsize=4, longsize=8, ptrsize=8, doublesize=8, byteorder=12345678
    d_longlong=define, longlongsize=8, d_longdbl=define, longdblsize=16
    ivtype='long', ivsize=8, nvtype='double', nvsize=8, Off_t='off_t', lseeksize=8
    alignbytes=8, prototype=define
  Linker and Libraries:
    ld='cc', ldflags ='-pthread -Wl,-E  -fstack-protector -L/usr/local/lib'
    libpth=/usr/lib /usr/local/lib /usr/include/clang/3.4.1 /usr/lib
    libs=-lgdbm -lm -lcrypt -lutil -lc
    perllibs=-lm -lcrypt -lutil -lc
    libc=, so=so, useshrplib=false, libperl=libperl.a
    gnulibc_version=''
  Dynamic Linking:
    dlsrc=dl_dlopen.xs, dlext=so, d_dlsymun=undef, ccdlflags=' '
    cccdlflags='-DPIC -fPIC', lddlflags='-shared  -L/usr/local/lib -fstack-protector'


Characteristics of this binary (from libperl): 
  Compile-time options: HAS_TIMES PERLIO_LAYERS PERL_DONT_CREATE_GVSV
                        PERL_HASH_FUNC_ONE_AT_A_TIME_HARD PERL_MALLOC_WRAP
                        PERL_NEW_COPY_ON_WRITE PERL_PRESERVE_IVUV
                        USE_64_BIT_ALL USE_64_BIT_INT USE_LARGE_FILES
                        USE_LOCALE USE_LOCALE_COLLATE USE_LOCALE_CTYPE
                        USE_LOCALE_NUMERIC USE_PERLIO USE_PERL_ATOF
  Built under freebsd
  Compiled at Feb 14 2015 20:35:40
  %ENV:
    PERL5LIB=""
    PERL5OPT=""
    PERL5_CPANPLUS_IS_RUNNING="80437"
    PERL5_CPAN_IS_RUNNING="80437"
    PERL5_CPAN_IS_RUNNING_IN_RECURSION="83003,80437"
    PERLDOC="-MPod::Perldoc::ToTextOverstrike"
    PERL_BATCH="yes"
    PERL_CANARY_STABILITY_NOPROMPT="1"
    PERL_CPAN_REPORTER_CONFIG="/var/tmp/cpansmoker-1023/2024010805/cpanreporter_000_config.ini"
    PERL_EXTUTILS_AUTOINSTALL="--defaultdeps"
    PERL_USE_UNSAFE_INC="1"
  @INC:
    /usr/perl5.20.2p/lib/site_perl/5.20.2/amd64-freebsd
    /usr/perl5.20.2p/lib/site_perl/5.20.2
    /usr/perl5.20.2p/lib/5.20.2/amd64-freebsd
    /usr/perl5.20.2p/lib/5.20.2
    .