Report for HTML-Format-2.11

Back
From: metabase:user:0d96120c-29e2-11e5-b049-ede3035d37de
Subject: PASS HTML-Format-2.11 v5.20.1 Mac OS X
Date: 2015-07-20T00:32:34Z

This distribution has been tested as part of the CPAN Testers
project, supporting the Perl programming language.  See
http://wiki.cpantesters.org/ for more information or email
questions to cpan-testers-discuss@perl.org


--
Dear Nigel Metheringham,

This is a computer-generated report for HTML-Format-2.11
on perl 5.20.1, created by CPAN-Reporter-1.2014.

Thank you for uploading your work to CPAN.  Congratulations!
All tests were successful.

Sections of this report:

    * Tester comments
    * Program output
    * Prerequisites
    * Environment and other context

------------------------------
TESTER COMMENTS
------------------------------

Additional comments from tester:

none provided

------------------------------
PROGRAM OUTPUT
------------------------------

Output from './Build test':

t/00-compile.t ............... ok
# Testing with Perl 5.020001, /Users/jmaslak/perl5/perlbrew/perls/perl-5.20.1/bin/perl
#     Carp version is 1.3301
#     Data::Dumper version is 2.151
#     Encode version is 2.60
#     File::Slurp version is 9999.19
#     File::Spec version is 3.48
#     Font::Metrics::Courier version is undefined
#     Font::Metrics::CourierBold version is undefined
#     Font::Metrics::CourierBoldOblique version is undefined
#     Font::Metrics::CourierOblique version is undefined
#     Font::Metrics::Helvetica version is undefined
#     Font::Metrics::HelveticaBold version is undefined
#     Font::Metrics::HelveticaBoldOblique version is undefined
#     Font::Metrics::HelveticaOblique version is undefined
#     Font::Metrics::TimesBold version is undefined
#     Font::Metrics::TimesBoldItalic version is undefined
#     Font::Metrics::TimesItalic version is undefined
#     Font::Metrics::TimesRoman version is undefined
#     HTML::Element version is 5.03
#     HTML::TreeBuilder version is 5.03
#     IO::File version is 1.16
#     IO::Handle version is 1.35
#     IPC::Open3 version is 1.16
#     Module::Build version is 0.4211
#     Scalar::Util version is 1.38
#     Test::More version is 1.001014
#     base version is 2.22
#     bytes version is 1.04
#     integer version is 1.01
#     parent version is 0.228
#     strict version is 1.08
#     utf8 version is 1.13_01
#     warnings version is 1.23
t/000-report-versions.t ...... ok
t/01_ps.t .................... ok
t/02_rtf.t ................... ok
t/03_text.t .................. ok
t/04_md.t .................... ok
t/author-critic.t ............ skipped: these tests are for testing by the author
t/author-pod-spell.t ......... skipped: these tests are for testing by the author
t/release-dist-manifest.t .... skipped: these tests are for release candidate testing
t/release-distmeta.t ......... skipped: these tests are for release candidate testing
t/release-eol.t .............. skipped: these tests are for release candidate testing
t/release-has-version.t ...... skipped: these tests are for release candidate testing
t/release-minimum-version.t .. skipped: these tests are for release candidate testing
t/release-no-tabs.t .......... skipped: these tests are for release candidate testing
t/release-pod-syntax.t ....... skipped: these tests are for release candidate testing
t/release-portability.t ...... skipped: these tests are for release candidate testing
t/release-synopsis.t ......... skipped: these tests are for release candidate testing
t/release-unused-vars.t ...... skipped: these tests are for release candidate testing
t/rt69426.t .................. ok
All tests successful.
Files=19, Tests=103,  1 wallclock secs ( 0.04 usr  0.03 sys +  0.53 cusr  0.09 csys =  0.69 CPU)
Result: PASS

------------------------------
PREREQUISITES
------------------------------

Prerequisite modules loaded:

requires:

    Module                              Need   Have    
    ----------------------------------- ------ --------
    base                                0      2.22    
    Carp                                0      1.3301  
    Data::Dumper                        0      2.151   
    Encode                              0      2.60    
    Font::Metrics::Courier              0      0       
    Font::Metrics::CourierBold          0      0       
    Font::Metrics::CourierBoldOblique   0      0       
    Font::Metrics::CourierOblique       0      0       
    Font::Metrics::Helvetica            0      0       
    Font::Metrics::HelveticaBold        0      0       
    Font::Metrics::HelveticaBoldOblique 0      0       
    Font::Metrics::HelveticaOblique     0      0       
    Font::Metrics::TimesBold            0      0       
    Font::Metrics::TimesBoldItalic      0      0       
    Font::Metrics::TimesItalic          0      0       
    Font::Metrics::TimesRoman           0      0       
    HTML::Element                       3.15   5.03    
    HTML::TreeBuilder                   0      5.03    
    integer                             0      1.01    
    IO::File                            0      1.16    
    parent                              0      0.228   
    perl                                5.008  5.020001
    strict                              0      1.08    
    utf8                                0      1.13_01 
    warnings                            0      1.23    

build_requires:

    Module                              Need   Have    
    ----------------------------------- ------ --------
    bytes                               0      1.04    
    File::Slurp                         0      9999.19 
    File::Spec                          0      3.48    
    IO::Handle                          0      1.35    
    IPC::Open3                          0      1.16    
    Module::Build                       0.3601 0.4211  
    Scalar::Util                        0      1.38    
    Test::More                          0.96   1.001014

configure_requires:

    Module                              Need   Have    
    ----------------------------------- ------ --------
    Module::Build                       0.3601 0.4211  


------------------------------
ENVIRONMENT AND OTHER CONTEXT
------------------------------

Environment variables:

    LANG = en_US.UTF-8
    PATH = /Users/jmaslak/perl5/perlbrew/bin:/Users/jmaslak/perl5/perlbrew/perls/perl-5.20.1/bin:/Users/jmaslak/perl5/perlbrew/bin:/Users/jmaslak/perl5/perlbrew/perls/perl-5.22.0/bin:/Users/jmaslak/.rakudobrew/bin:/usr/local/bin:/usr/bin:/bin:/usr/sbin:/sbin:/opt/X11/bin
    PERL5LIB = 
    PERL5OPT = 
    PERL5_CPANPLUS_IS_RUNNING = 87002
    PERL5_CPAN_IS_RUNNING = 87002
    PERLBREW_BASHRC_VERSION = 0.73
    PERLBREW_HOME = /Users/jmaslak/.perlbrew
    PERLBREW_LIB = 
    PERLBREW_MANPATH = /Users/jmaslak/perl5/perlbrew/perls/perl-5.20.1/man
    PERLBREW_PATH = /Users/jmaslak/perl5/perlbrew/bin:/Users/jmaslak/perl5/perlbrew/perls/perl-5.20.1/bin
    PERLBREW_PERL = perl-5.20.1
    PERLBREW_ROOT = /Users/jmaslak/perl5/perlbrew
    PERLBREW_VERSION = 0.73
    PERL_LOCAL_LIB_ROOT = 
    SHELL = /bin/bash
    TERM = xterm-256color
    TMPDIR = /var/folders/4y/bn5_gsxn4496c8_l179hk9fc0000gn/T/
    VERSIONER_PERL_PREFER_32_BIT = no
    VERSIONER_PERL_VERSION = 5.18

Perl special variables (and OS-specific diagnostics, for MSWin32):

    $^X = /Users/jmaslak/perl5/perlbrew/perls/perl-5.20.1/bin/perl
    $UID/$EUID = 501 / 501
    $GID = 20 20 502 401 12 61 79 80 81 98 33 100 204 398 399 701
    $EGID = 20 20 502 401 12 61 79 80 81 98 33 100 204 398 399 701

Perl module toolchain versions installed:

    Module              Have    
    ------------------- --------
    CPAN                2.05    
    CPAN::Meta          2.150001
    Cwd                 3.48    
    ExtUtils::CBuilder  0.280217
    ExtUtils::Command   1.18    
    ExtUtils::Install   1.67    
    ExtUtils::MakeMaker 7.04    
    ExtUtils::Manifest  1.70    
    ExtUtils::ParseXS   3.24    
    File::Spec          3.48    
    JSON                2.90    
    JSON::PP            2.27203 
    Module::Build       0.4211  
    Module::Signature   n/a     
    Parse::CPAN::Meta   1.4414  
    Test::Harness       3.30    
    Test::More          1.001014
    YAML                1.15    
    YAML::Syck          n/a     
    version             0.9909  


--

Summary of my perl5 (revision 5 version 20 subversion 1) configuration:
   
  Platform:
    osname=darwin, osvers=14.0.0, archname=darwin-2level
    uname='darwin jmaslakpro.local 14.0.0 darwin kernel version 14.0.0: fri sep 19 00:26:44 pdt 2014; root:xnu-2782.1.97~2release_x86_64 x86_64 '
    config_args='-de -Dprefix=/Users/jmaslak/perl5/perlbrew/perls/perl-5.20.1 -Aeval:scriptdir=/Users/jmaslak/perl5/perlbrew/perls/perl-5.20.1/bin'
    hint=recommended, useposix=true, d_sigaction=define
    useithreads=undef, usemultiplicity=undef
    use64bitint=define, use64bitall=define, uselongdouble=undef
    usemymalloc=n, bincompat5005=undef
  Compiler:
    cc='cc', ccflags ='-fno-common -DPERL_DARWIN -fno-strict-aliasing -pipe -fstack-protector -I/opt/local/include',
    optimize='-O3',
    cppflags='-fno-common -DPERL_DARWIN -fno-strict-aliasing -pipe -fstack-protector -I/opt/local/include'
    ccversion='', gccversion='4.2.1 Compatible Apple LLVM 6.0 (clang-600.0.56)', gccosandvers=''
    intsize=4, longsize=8, ptrsize=8, doublesize=8, byteorder=12345678
    d_longlong=define, longlongsize=8, d_longdbl=define, longdblsize=16
    ivtype='long', ivsize=8, nvtype='double', nvsize=8, Off_t='off_t', lseeksize=8
    alignbytes=8, prototype=define
  Linker and Libraries:
    ld='env MACOSX_DEPLOYMENT_TARGET=10.3 cc', ldflags =' -fstack-protector -L/opt/local/lib'
    libpth=/Applications/Xcode.app/Contents/Developer/Toolchains/XcodeDefault.xctoolchain/usr/bin/../lib/clang/6.0/lib /Applications/Xcode.app/Contents/Developer/Toolchains/XcodeDefault.xctoolchain/usr/lib /usr/lib /opt/local/lib
    libs=-lgdbm -ldbm -ldl -lm -lutil -lc
    perllibs=-ldl -lm -lutil -lc
    libc=, so=dylib, useshrplib=false, libperl=libperl.a
    gnulibc_version=''
  Dynamic Linking:
    dlsrc=dl_dlopen.xs, dlext=bundle, d_dlsymun=undef, ccdlflags=' '
    cccdlflags=' ', lddlflags=' -bundle -undefined dynamic_lookup -L/opt/local/lib -fstack-protector'


Characteristics of this binary (from libperl): 
  Compile-time options: HAS_TIMES PERLIO_LAYERS PERL_DONT_CREATE_GVSV
                        PERL_HASH_FUNC_ONE_AT_A_TIME_HARD PERL_MALLOC_WRAP
                        PERL_NEW_COPY_ON_WRITE PERL_PRESERVE_IVUV
                        USE_64_BIT_ALL USE_64_BIT_INT USE_LARGE_FILES
                        USE_LOCALE USE_LOCALE_COLLATE USE_LOCALE_CTYPE
                        USE_LOCALE_NUMERIC USE_PERLIO USE_PERL_ATOF
  Built under darwin
  Compiled at Dec 21 2014 19:55:52
  %ENV:
    PERL5LIB=""
    PERL5OPT=""
    PERL5_CPANPLUS_IS_RUNNING="87002"
    PERL5_CPAN_IS_RUNNING="87002"
    PERLBREW_BASHRC_VERSION="0.73"
    PERLBREW_HOME="/Users/jmaslak/.perlbrew"
    PERLBREW_LIB=""
    PERLBREW_MANPATH="/Users/jmaslak/perl5/perlbrew/perls/perl-5.20.1/man"
    PERLBREW_PATH="/Users/jmaslak/perl5/perlbrew/bin:/Users/jmaslak/perl5/perlbrew/perls/perl-5.20.1/bin"
    PERLBREW_PERL="perl-5.20.1"
    PERLBREW_ROOT="/Users/jmaslak/perl5/perlbrew"
    PERLBREW_VERSION="0.73"
    PERL_LOCAL_LIB_ROOT=""
  @INC:
    /Users/jmaslak/perl5/perlbrew/perls/perl-5.20.1/lib/site_perl/5.20.1/darwin-2level
    /Users/jmaslak/perl5/perlbrew/perls/perl-5.20.1/lib/site_perl/5.20.1
    /Users/jmaslak/perl5/perlbrew/perls/perl-5.20.1/lib/5.20.1/darwin-2level
    /Users/jmaslak/perl5/perlbrew/perls/perl-5.20.1/lib/5.20.1
    .