Git-Version-Compare v1.005 Perl 5 v5.38.0 darwin-thread-multi-2level

Status
Pass
From
Abe Timmerman
Dist
Git-Version-Compare v1.005
Platform
Perl 5 v5.38.0 darwin-thread-multi-2level
Date
2023-11-16 14:31:22
ID
d0d19b34-848c-11ee-a3df-c6b53fe3cd06
This distribution has been tested as part of the CPAN Testers
project, supporting the Perl programming language.  See
http://wiki.cpantesters.org/ for more information or email
questions to cpan-testers-discuss@perl.org


--
Dear Philippe Bruhat (BooK),

This is a computer-generated report for Git-Version-Compare-1.005
on perl 5.38.0, created by CPAN-Reporter-1.2019.

Thank you for uploading your work to CPAN.  Congratulations!
All tests were successful.

Sections of this report:

    * Tester comments
    * Program output
    * Prerequisites
    * Environment and other context

------------------------------
TESTER COMMENTS
------------------------------

Additional comments from tester:

this report is from an automated smoke testing program
and was not reviewed by a human for accuracy

------------------------------
PROGRAM OUTPUT
------------------------------

Output from '/usr/bin/make test':

PERL_DL_NONLAZY=1 "/opt/perl/perl5.38.0/bin/perl" "-MExtUtils::Command::MM" "-MTest::Harness" "-e" "undef *Test::Harness::Switches; test_harness(0, 'blib/lib', 'blib/arch')" t/*.t
# 
# Versions for all modules listed in MYMETA.json (including optional ones):
# 
# === Configure Requires ===
# 
#     Module              Want Have
#     ------------------- ---- ----
#     ExtUtils::MakeMaker  any 7.70
# 
# === Build Requires ===
# 
#     Module              Want Have
#     ------------------- ---- ----
#     ExtUtils::MakeMaker  any 7.70
# 
# === Test Requires ===
# 
#     Module              Want     Have
#     ------------------- ---- --------
#     ExtUtils::MakeMaker  any     7.70
#     File::Spec           any     3.88
#     List::Util           any     1.63
#     Test::More           any 1.302195
#     Test::NoWarnings     any     1.06
# 
# === Test Recommends ===
# 
#     Module         Want     Have
#     ---------- -------- --------
#     CPAN::Meta 2.120900 2.150010
# 
# === Runtime Requires ===
# 
#     Module   Want Have
#     -------- ---- ----
#     Carp      any 1.54
#     Exporter  any 5.77
#     strict    any 1.12
#     warnings  any 1.65
# 
t/00-report-prereqs.t .... ok
t/author-distmeta.t ...... skipped: these tests are for testing by the author
t/author-pod-coverage.t .. skipped: these tests are for testing by the author
t/author-pod-syntax.t .... skipped: these tests are for testing by the author
t/cmp_git.t .............. ok
t/looks_like_git.t ....... ok
t/normalize.t ............ ok
# fake git version 3.9.2.0
t/ops.t .................. ok
All tests successful.
Files=8, Tests=13515,  0 wallclock secs ( 0.20 usr  0.02 sys +  0.39 cusr  0.04 csys =  0.65 CPU)
Result: PASS

------------------------------
PREREQUISITES
------------------------------

Prerequisite modules loaded:

requires:

    Module              Need     Have    
    ------------------- -------- --------
    Carp                0        1.54    
    Exporter            0        5.77    
    perl                5.006    5.038000
    strict              0        1.12    
    warnings            0        1.65    

build_requires:

    Module              Need     Have    
    ------------------- -------- --------
    ExtUtils::MakeMaker 0        7.70    
    File::Spec          0        3.88    
    List::Util          0        1.63    
    Test::More          0        1.302195
    Test::NoWarnings    0        1.06    

configure_requires:

    Module              Need     Have    
    ------------------- -------- --------
    ExtUtils::MakeMaker 0        7.70    

opt_build_requires:

    Module              Need     Have    
    ------------------- -------- --------
    CPAN::Meta          2.120900 2.150010


------------------------------
ENVIRONMENT AND OTHER CONTEXT
------------------------------

Environment variables:

    AUTOMATED_TESTING = 1
    NONINTERACTIVE_TESTING = 1
    PATH = /opt/homebrew/opt/perl/bin:/opt/homebrew/bin:/opt/homebrew/sbin:/Users/abeltje/bin:/Users/abeltje/xsbin:/usr/local/bin:/usr/bin:/bin:/usr/local/sbin/:/usr/sbin:/sbin
    PERL5LIB = /Users/abeltje/.cpan/build/Email-Sender-2.600-0/blib/arch:/Users/abeltje/.cpan/build/Email-Sender-2.600-0/blib/lib:/Users/abeltje/.cpan/build/MooX-Types-MooseLike-0.29-0/blib/arch:/Users/abeltje/.cpan/build/MooX-Types-MooseLike-0.29-0/blib/lib:/Users/abeltje/.cpan/build/Email-Address-XS-1.05-0/blib/arch:/Users/abeltje/.cpan/build/Email-Address-XS-1.05-0/blib/lib:/Users/abeltje/.cpan/build/Email-Abstract-3.010-0/blib/arch:/Users/abeltje/.cpan/build/Email-Abstract-3.010-0/blib/lib:/Users/abeltje/.cpan/build/Email-Simple-2.218-0/blib/arch:/Users/abeltje/.cpan/build/Email-Simple-2.218-0/blib/lib:/Users/abeltje/.cpan/build/Email-Date-Format-1.008-0/blib/arch:/Users/abeltje/.cpan/build/Email-Date-Format-1.008-0/blib/lib:./lib
    PERL5OPT = 
    PERL5_CPANPLUS_IS_RUNNING = 20661
    PERL5_CPAN_IS_RUNNING = 20661
    PERL5_CPAN_IS_RUNNING_IN_RECURSION = 49493,20661
    PERL_LOCAL_LIB_ROOT = /Users/abeltje/mac-smoker/perl5lib
    PERL_MB_OPT = --install_base /Users/abeltje/mac-smoker/perl5lib
    PERL_MM_OPT = INSTALL_BASE=/Users/abeltje/mac-smoker/perl5lib
    PERL_MM_USE_DEFAULT = 1
    PERL_USE_UNSAFE_INC = 1
    SHELL = /bin/bash
    TERM = xterm-256color
    TMPDIR = /var/folders/mk/6yqfnld12zbgp3gq6j52f3z40000gn/T/
    VERSIONER_PERL_VERSION = 5.30

Perl special variables (and OS-specific diagnostics, for MSWin32):

    $^X = /opt/perl/perl5.38.0/bin/perl
    $UID/$EUID = 501 / 501
    $GID = 20 20 12 61 79 80 81 98 702 33 100 204 250 395 398 399 400
    $EGID = 20 20 12 61 79 80 81 98 702 33 100 204 250 395 398 399 400

Perl module toolchain versions installed:

    Module              Have    
    ------------------- --------
    CPAN                2.36    
    CPAN::Meta          2.150010
    Cwd                 3.89    
    ExtUtils::CBuilder  0.280238
    ExtUtils::Command   7.70    
    ExtUtils::Install   2.22    
    ExtUtils::MakeMaker 7.70    
    ExtUtils::Manifest  1.73    
    ExtUtils::ParseXS   3.51    
    File::Spec          3.88    
    JSON                4.10    
    JSON::PP            4.16    
    Module::Build       0.4234  
    Module::Signature   0.88    
    Parse::CPAN::Meta   2.150010
    Test2               1.302195
    Test::Harness       3.44    
    Test::More          1.302195
    YAML                1.30    
    YAML::Syck          n/a     
    version             0.9929  


--

Summary of my perl5 (revision 5 version 38 subversion 0) configuration:
  Commit id: 76298ae68aa7796f0ffc05095b127d23f4b2de8f
  Platform:
    osname=darwin
    osvers=22.5.0
    archname=darwin-thread-multi-2level
    uname='darwin idefix.local 22.5.0 darwin kernel version 22.5.0: thu jun 8 22:22:20 pdt 2023; root:xnu-8796.121.3~7release_arm64_t6000 arm64 '
    config_args='-des -Dprefix=/opt/perl/perl5.38.0 -Duseithreads'
    hint=recommended
    useposix=true
    d_sigaction=define
    useithreads=define
    usemultiplicity=define
    use64bitint=define
    use64bitall=define
    uselongdouble=undef
    usemymalloc=n
    default_inc_excludes_dot=define
  Compiler:
    cc='cc'
    ccflags ='-fno-common -DPERL_DARWIN -mmacosx-version-min=13.4 -DNO_POSIX_2008_LOCALE -fno-strict-aliasing -pipe -fstack-protector-strong -I/usr/local/include'
    optimize='-O3'
    cppflags='-fno-common -DPERL_DARWIN -mmacosx-version-min=13.4 -DNO_POSIX_2008_LOCALE -fno-strict-aliasing -pipe -fstack-protector-strong -I/usr/local/include'
    ccversion=''
    gccversion='Apple LLVM 14.0.3 (clang-1403.0.22.14.1)'
    gccosandvers=''
    intsize=4
    longsize=8
    ptrsize=8
    doublesize=8
    byteorder=12345678
    doublekind=3
    d_longlong=define
    longlongsize=8
    d_longdbl=define
    longdblsize=8
    longdblkind=0
    ivtype='long'
    ivsize=8
    nvtype='double'
    nvsize=8
    Off_t='off_t'
    lseeksize=8
    alignbytes=8
    prototype=define
  Linker and Libraries:
    ld='cc'
    ldflags =' -mmacosx-version-min=13.4 -fstack-protector-strong -L/usr/local/lib'
    libpth=/usr/local/lib /Library/Developer/CommandLineTools/usr/lib/clang/14.0.3/lib /Library/Developer/CommandLineTools/SDKs/MacOSX13.3.sdk/usr/lib /Library/Developer/CommandLineTools/usr/lib /usr/lib
    libs= 
    perllibs=
    libc=
    so=dylib
    useshrplib=false
    libperl=libperl.a
    gnulibc_version=''
  Dynamic Linking:
    dlsrc=dl_dlopen.xs
    dlext=bundle
    d_dlsymun=undef
    ccdlflags=' '
    cccdlflags=' '
    lddlflags=' -mmacosx-version-min=13.4 -bundle -undefined dynamic_lookup -L/usr/local/lib -fstack-protector-strong'


Characteristics of this binary (from libperl): 
  Compile-time options:
    HAS_LONG_DOUBLE
    HAS_STRTOLD
    HAS_TIMES
    MULTIPLICITY
    PERLIO_LAYERS
    PERL_COPY_ON_WRITE
    PERL_DONT_CREATE_GVSV
    PERL_HASH_FUNC_SIPHASH13
    PERL_HASH_USE_SBOX32
    PERL_MALLOC_WRAP
    PERL_OP_PARENT
    PERL_PRESERVE_IVUV
    PERL_USE_SAFE_PUTENV
    USE_64_BIT_ALL
    USE_64_BIT_INT
    USE_ITHREADS
    USE_LARGE_FILES
    USE_LOCALE
    USE_LOCALE_COLLATE
    USE_LOCALE_CTYPE
    USE_LOCALE_NUMERIC
    USE_LOCALE_TIME
    USE_PERLIO
    USE_PERL_ATOF
    USE_REENTRANT_API
  Built under darwin
  Compiled at Jul  3 2023 13:30:41
  %ENV:
    PERL5LIB="/Users/abeltje/.cpan/build/Email-Sender-2.600-0/blib/arch:/Users/abeltje/.cpan/build/Email-Sender-2.600-0/blib/lib:/Users/abeltje/.cpan/build/MooX-Types-MooseLike-0.29-0/blib/arch:/Users/abeltje/.cpan/build/MooX-Types-MooseLike-0.29-0/blib/lib:/Users/abeltje/.cpan/build/Email-Address-XS-1.05-0/blib/arch:/Users/abeltje/.cpan/build/Email-Address-XS-1.05-0/blib/lib:/Users/abeltje/.cpan/build/Email-Abstract-3.010-0/blib/arch:/Users/abeltje/.cpan/build/Email-Abstract-3.010-0/blib/lib:/Users/abeltje/.cpan/build/Email-Simple-2.218-0/blib/arch:/Users/abeltje/.cpan/build/Email-Simple-2.218-0/blib/lib:/Users/abeltje/.cpan/build/Email-Date-Format-1.008-0/blib/arch:/Users/abeltje/.cpan/build/Email-Date-Format-1.008-0/blib/lib:./lib"
    PERL5OPT=""
    PERL5_CPANPLUS_IS_RUNNING="20661"
    PERL5_CPAN_IS_RUNNING="20661"
    PERL5_CPAN_IS_RUNNING_IN_RECURSION="49493,20661"
    PERL_LOCAL_LIB_ROOT="/Users/abeltje/mac-smoker/perl5lib"
    PERL_MB_OPT="--install_base /Users/abeltje/mac-smoker/perl5lib"
    PERL_MM_OPT="INSTALL_BASE=/Users/abeltje/mac-smoker/perl5lib"
    PERL_MM_USE_DEFAULT="1"
    PERL_USE_UNSAFE_INC="1"
  @INC:
    /Users/abeltje/.cpan/build/Email-Sender-2.600-0/blib/arch
    /Users/abeltje/.cpan/build/Email-Sender-2.600-0/blib/lib
    /Users/abeltje/.cpan/build/MooX-Types-MooseLike-0.29-0/blib/arch
    /Users/abeltje/.cpan/build/MooX-Types-MooseLike-0.29-0/blib/lib
    /Users/abeltje/.cpan/build/Email-Address-XS-1.05-0/blib/arch
    /Users/abeltje/.cpan/build/Email-Address-XS-1.05-0/blib/lib
    /Users/abeltje/.cpan/build/Email-Abstract-3.010-0/blib/arch
    /Users/abeltje/.cpan/build/Email-Abstract-3.010-0/blib/lib
    /Users/abeltje/.cpan/build/Email-Simple-2.218-0/blib/arch
    /Users/abeltje/.cpan/build/Email-Simple-2.218-0/blib/lib
    /Users/abeltje/.cpan/build/Email-Date-Format-1.008-0/blib/arch
    /Users/abeltje/.cpan/build/Email-Date-Format-1.008-0/blib/lib
    ./lib
    /opt/perl/perl5.38.0/lib/site_perl/5.38.0/darwin-thread-multi-2level
    /opt/perl/perl5.38.0/lib/site_perl/5.38.0
    /opt/perl/perl5.38.0/lib/5.38.0/darwin-thread-multi-2level
    /opt/perl/perl5.38.0/lib/5.38.0
    .