SemanticWeb-Schema vv12.0.0 Perl 5 v5.30.3 amd64-freebsd
        
            - Status
- Pass
- From
- Slaven Rezić
- Dist
- 
                SemanticWeb-Schema vv12.0.0
            
- Platform
- Perl 5 v5.30.3 amd64-freebsd
- Date
- 2021-06-24 00:33:37
- ID
- d0e0a63a-d483-11eb-bc7f-137e1f24ea8f
This distribution has been tested as part of the CPAN Testers
project, supporting the Perl programming language.  See
http://wiki.cpantesters.org/ for more information or email
questions to cpan-testers-discuss@perl.org
--
Dear Robert Rothenberg,
This is a computer-generated report for SemanticWeb-Schema-v12.0.0
on perl 5.30.3, created by CPAN-Reporter-1.2018.
Thank you for uploading your work to CPAN.  Congratulations!
All tests were successful.
Sections of this report:
    * Tester comments
    * Program output
    * Prerequisites
    * Environment and other context
------------------------------
TESTER COMMENTS
------------------------------
Additional comments from tester:
none provided
------------------------------
PROGRAM OUTPUT
------------------------------
Output from '/usr/bin/make test':
PERL_DL_NONLAZY=1 "/usr/perl5.30.3p/bin/perl" "-MExtUtils::Command::MM" "-MTest::Harness" "-e" "undef *Test::Harness::Switches; test_harness(0, 'blib/lib', 'blib/arch')" t/*.t
# 
# Versions for all modules listed in MYMETA.json (including optional ones):
# 
# === Configure Requires ===
# 
#     Module              Want Have
#     ------------------- ---- ----
#     ExtUtils::MakeMaker  any 7.62
# 
# === Build Requires ===
# 
#     Module              Want Have
#     ------------------- ---- ----
#     ExtUtils::MakeMaker  any 7.62
# 
# === Test Requires ===
# 
#     Module           Want     Have
#     ---------------- ---- --------
#     File::Spec        any     3.78
#     Module::Metadata  any 1.000037
#     Test::JSON::More  any     0.02
#     Test::More        any 1.302183
#     Test::Most        any     0.37
#     aliased           any     0.34
#     strict            any     1.11
#     warnings          any     1.44
# 
# === Test Recommends ===
# 
#     Module         Want     Have
#     ---------- -------- --------
#     CPAN::Meta 2.120900 2.150010
# 
# === Runtime Requires ===
# 
#     Module                  Want     Have
#     -------------------- ------- --------
#     List::Util              1.33     1.56
#     Moo                      any 2.005004
#     MooX::JSON_LD            any    1.0.1
#     MooX::Role::JSON_LD  v0.0.16    1.0.1
#     Ref::Util                any    0.204
#     Types::Standard          any 1.012003
#     namespace::autoclean     any     0.29
#     utf8                     any     1.22
# 
# === Runtime Recommends ===
# 
#     Module            Want    Have
#     ----------------- ---- -------
#     Class::XSAccessor 1.18    1.19
#     Ref::Util::XS      any   0.117
#     Type::Tiny::XS     any missing
#     aliased            any    0.34
# 
t/00-report-prereqs.t ......... ok
t/01-simple.t ................. ok
t/02-conflicting-attriubte.t .. ok
t/03-c3-merge.t ............... ok
t/author-clean-namespaces.t ... skipped: these tests are for testing by the author
t/author-compile.t ............ skipped: these tests are for testing by the author
t/author-eof.t ................ skipped: these tests are for testing by the author
t/author-minimum-version.t .... skipped: these tests are for testing by the author
t/author-pod-syntax.t ......... skipped: these tests are for testing by the author
t/author-portability.t ........ skipped: these tests are for testing by the author
t/release-check-manifest.t .... skipped: these tests are for release candidate testing
t/release-fixme.t ............. skipped: these tests are for release candidate testing
All tests successful.
Files=12, Tests=10,  1 wallclock secs ( 0.03 usr  0.04 sys +  0.80 cusr  0.15 csys =  1.02 CPU)
Result: PASS
------------------------------
PREREQUISITES
------------------------------
Prerequisite modules loaded:
requires:
    Module               Need     Have    
    -------------------- -------- --------
    List::Util           1.33     1.56    
    Moo                  0        2.005004
    MooX::JSON_LD        0        1.0.1   
    MooX::Role::JSON_LD  v0.0.16  1.0.1   
    namespace::autoclean 0        0.29    
    perl                 5.010001 5.030003
    Ref::Util            0        0.204   
    Types::Standard      0        1.012003
    utf8                 0        1.22    
build_requires:
    Module               Need     Have    
    -------------------- -------- --------
    aliased              0        0.34    
    ExtUtils::MakeMaker  0        7.62    
    File::Spec           0        3.78    
    Module::Metadata     0        1.000037
    strict               0        1.11    
    Test::JSON::More     0        0.02    
    Test::More           0        1.302183
    Test::Most           0        0.37    
    warnings             0        1.44    
configure_requires:
    Module               Need     Have    
    -------------------- -------- --------
    ExtUtils::MakeMaker  0        7.62    
------------------------------
ENVIRONMENT AND OTHER CONTEXT
------------------------------
Environment variables:
    PATH = /usr/local/bin:/usr/bin:/bin:/usr/local/sbin:/usr/sbin:/sbin:/home/cpansand/bin/sh:/home/cpansand/bin:/usr/games:/home/cpansand/devel:/usr/home/eserte/src/srezic-misc/scripts
    PERL5LIB = /home/cpansand/.cpan/build/2021062400/Test-JSON-More-0.02-0/blib/arch:/home/cpansand/.cpan/build/2021062400/Test-JSON-More-0.02-0/blib/lib:/home/cpansand/.cpan/build/2021062400/JSV-0.08-0/blib/arch:/home/cpansand/.cpan/build/2021062400/JSV-0.08-0/blib/lib:/home/cpansand/.cpan/build/2021062400/JSON-Pointer-0.07-0/blib/arch:/home/cpansand/.cpan/build/2021062400/JSON-Pointer-0.07-0/blib/lib:/home/cpansand/.cpan/build/2021062400/Email-Valid-Loose-0.05-0/blib/arch:/home/cpansand/.cpan/build/2021062400/Email-Valid-Loose-0.05-0/blib/lib:/home/cpansand/.cpan/build/2021062400/Data-Walk-2.01-0/blib/arch:/home/cpansand/.cpan/build/2021062400/Data-Walk-2.01-0/blib/lib:/home/cpansand/.cpan/build/2021062400/Data-Validate-URI-0.07-0/blib/arch:/home/cpansand/.cpan/build/2021062400/Data-Validate-URI-0.07-0/blib/lib:/home/cpansand/.cpan/build/2021062400/Data-Validate-Domain-0.14-0/blib/arch:/home/cpansand/.cpan/build/2021062400/Data-Validate-Domain-0.14-0/blib/lib:/home/cpansand/.cpan/build/2021062400/Net-Domain-TLD-1.75-0/blib/arch:/home/cpansand/.cpan/build/2021062400/Net-Domain-TLD-1.75-0/blib/lib:/home/cpansand/.cpan/build/2021062400/HTML-ExtractContent-0.12-0/blib/arch:/home/cpansand/.cpan/build/2021062400/HTML-ExtractContent-0.12-0/blib/lib
    PERL5OPT = 
    PERL5_CPANPLUS_IS_RUNNING = 96364
    PERL5_CPAN_IS_RUNNING = 96364
    PERL5_CPAN_IS_RUNNING_IN_RECURSION = 96339,96364
    PERL_BATCH = yes
    PERL_CANARY_STABILITY_NOPROMPT = 1
    PERL_CPAN_REPORTER_CONFIG = /var/tmp/cpansmoker-1023/2021062400/cpanreporter_000_config.ini
    PERL_EXTUTILS_AUTOINSTALL = --defaultdeps
    PERL_USE_UNSAFE_INC = 1
    SHELL = /bin/sh
    TMPDIR = /var/tmp/cpansmoker-1023/2021062400
Perl special variables (and OS-specific diagnostics, for MSWin32):
    $^X = /usr/perl5.30.3p/bin/perl
    $UID/$EUID = 1023 / 1023
    $GID = 1023 1023
    $EGID = 1023 1023
Perl module toolchain versions installed:
    Module              Have    
    ------------------- --------
    CPAN                2.22    
    CPAN::Meta          2.150010
    Cwd                 3.78    
    ExtUtils::CBuilder  0.280231
    ExtUtils::Command   7.62    
    ExtUtils::Install   2.14    
    ExtUtils::MakeMaker 7.62    
    ExtUtils::Manifest  1.72    
    ExtUtils::ParseXS   3.40    
    File::Spec          3.78    
    JSON                4.03    
    JSON::PP            4.06    
    Module::Build       0.4231  
    Module::Signature   0.87    
    Parse::CPAN::Meta   2.150010
    Test::Harness       3.42    
    Test::More          1.302183
    YAML                1.30    
    YAML::Syck          1.34    
    version             0.9924  
--
Summary of my perl5 (revision 5 version 30 subversion 3) configuration:
   
  Platform:
    osname=freebsd
    osvers=13.0-stable
    archname=amd64-freebsd
    uname='freebsd cloud10.bbbike.org 13.0-stable freebsd 13.0-stable #0 stable13-n245623-e2872019983d: thu may 13 16:04:27 utc 2021 root@cloud10.bbbike.org:usrobjusrhomeprojectsfreebsdamd64.amd64sysgeneric amd64 '
    config_args='-ds -e -Dprefix=/usr/perl5.30.3p -Dcf_email=srezic@cpan.org -Doptimize=-O2 -pipe'
    hint=recommended
    useposix=true
    d_sigaction=define
    useithreads=undef
    usemultiplicity=undef
    use64bitint=define
    use64bitall=define
    uselongdouble=undef
    usemymalloc=n
    default_inc_excludes_dot=define
    bincompat5005=undef
  Compiler:
    cc='cc'
    ccflags ='-DHAS_FPSETMASK -DHAS_FLOATINGPOINT_H -fno-strict-aliasing -pipe -fstack-protector-strong -I/usr/local/include'
    optimize='-O2 -pipe'
    cppflags='-DHAS_FPSETMASK -DHAS_FLOATINGPOINT_H -fno-strict-aliasing -pipe -fstack-protector-strong -I/usr/local/include'
    ccversion=''
    gccversion='FreeBSD Clang 11.0.1 (git@github.com:llvm/llvm-project.git llvmorg-11.0.1-0-g43ff75f2c3fe)'
    gccosandvers=''
    intsize=4
    longsize=8
    ptrsize=8
    doublesize=8
    byteorder=12345678
    doublekind=3
    d_longlong=define
    longlongsize=8
    d_longdbl=define
    longdblsize=16
    longdblkind=3
    ivtype='long'
    ivsize=8
    nvtype='double'
    nvsize=8
    Off_t='off_t'
    lseeksize=8
    alignbytes=8
    prototype=define
  Linker and Libraries:
    ld='cc'
    ldflags ='-pthread -Wl,-E  -fstack-protector-strong -L/usr/local/lib'
    libpth=/usr/lib /usr/local/lib /usr/lib/clang/11.0.1/lib /usr/lib
    libs=-lpthread -lgdbm -ldl -lm -lcrypt -lutil -lc
    perllibs=-lpthread -ldl -lm -lcrypt -lutil -lc
    libc=
    so=so
    useshrplib=false
    libperl=libperl.a
    gnulibc_version=''
  Dynamic Linking:
    dlsrc=dl_dlopen.xs
    dlext=so
    d_dlsymun=undef
    ccdlflags=' '
    cccdlflags='-DPIC -fPIC'
    lddlflags='-shared  -L/usr/local/lib -fstack-protector-strong'
Characteristics of this binary (from libperl): 
  Compile-time options:
    HAS_TIMES
    PERLIO_LAYERS
    PERL_COPY_ON_WRITE
    PERL_DONT_CREATE_GVSV
    PERL_MALLOC_WRAP
    PERL_OP_PARENT
    PERL_PRESERVE_IVUV
    USE_64_BIT_ALL
    USE_64_BIT_INT
    USE_LARGE_FILES
    USE_LOCALE
    USE_LOCALE_COLLATE
    USE_LOCALE_CTYPE
    USE_LOCALE_NUMERIC
    USE_LOCALE_TIME
    USE_PERLIO
    USE_PERL_ATOF
  Built under freebsd
  Compiled at May 14 2021 19:47:18
  %ENV:
    PERL5LIB="/home/cpansand/.cpan/build/2021062400/Test-JSON-More-0.02-0/blib/arch:/home/cpansand/.cpan/build/2021062400/Test-JSON-More-0.02-0/blib/lib:/home/cpansand/.cpan/build/2021062400/JSV-0.08-0/blib/arch:/home/cpansand/.cpan/build/2021062400/JSV-0.08-0/blib/lib:/home/cpansand/.cpan/build/2021062400/JSON-Pointer-0.07-0/blib/arch:/home/cpansand/.cpan/build/2021062400/JSON-Pointer-0.07-0/blib/lib:/home/cpansand/.cpan/build/2021062400/Email-Valid-Loose-0.05-0/blib/arch:/home/cpansand/.cpan/build/2021062400/Email-Valid-Loose-0.05-0/blib/lib:/home/cpansand/.cpan/build/2021062400/Data-Walk-2.01-0/blib/arch:/home/cpansand/.cpan/build/2021062400/Data-Walk-2.01-0/blib/lib:/home/cpansand/.cpan/build/2021062400/Data-Validate-URI-0.07-0/blib/arch:/home/cpansand/.cpan/build/2021062400/Data-Validate-URI-0.07-0/blib/lib:/home/cpansand/.cpan/build/2021062400/Data-Validate-Domain-0.14-0/blib/arch:/home/cpansand/.cpan/build/2021062400/Data-Validate-Domain-0.14-0/blib/lib:/home/cpansand/.cpan/build/2021062400/Net-Domain-TLD-1.75-0/blib/arch:/home/cpansand/.cpan/build/2021062400/Net-Domain-TLD-1.75-0/blib/lib:/home/cpansand/.cpan/build/2021062400/HTML-ExtractContent-0.12-0/blib/arch:/home/cpansand/.cpan/build/2021062400/HTML-ExtractContent-0.12-0/blib/lib"
    PERL5OPT=""
    PERL5_CPANPLUS_IS_RUNNING="96364"
    PERL5_CPAN_IS_RUNNING="96364"
    PERL5_CPAN_IS_RUNNING_IN_RECURSION="96339,96364"
    PERL_BATCH="yes"
    PERL_CANARY_STABILITY_NOPROMPT="1"
    PERL_CPAN_REPORTER_CONFIG="/var/tmp/cpansmoker-1023/2021062400/cpanreporter_000_config.ini"
    PERL_EXTUTILS_AUTOINSTALL="--defaultdeps"
    PERL_USE_UNSAFE_INC="1"
  @INC:
    /home/cpansand/.cpan/build/2021062400/Test-JSON-More-0.02-0/blib/arch
    /home/cpansand/.cpan/build/2021062400/Test-JSON-More-0.02-0/blib/lib
    /home/cpansand/.cpan/build/2021062400/JSV-0.08-0/blib/arch
    /home/cpansand/.cpan/build/2021062400/JSV-0.08-0/blib/lib
    /home/cpansand/.cpan/build/2021062400/JSON-Pointer-0.07-0/blib/arch
    /home/cpansand/.cpan/build/2021062400/JSON-Pointer-0.07-0/blib/lib
    /home/cpansand/.cpan/build/2021062400/Email-Valid-Loose-0.05-0/blib/arch
    /home/cpansand/.cpan/build/2021062400/Email-Valid-Loose-0.05-0/blib/lib
    /home/cpansand/.cpan/build/2021062400/Data-Walk-2.01-0/blib/arch
    /home/cpansand/.cpan/build/2021062400/Data-Walk-2.01-0/blib/lib
    /home/cpansand/.cpan/build/2021062400/Data-Validate-URI-0.07-0/blib/arch
    /home/cpansand/.cpan/build/2021062400/Data-Validate-URI-0.07-0/blib/lib
    /home/cpansand/.cpan/build/2021062400/Data-Validate-Domain-0.14-0/blib/arch
    /home/cpansand/.cpan/build/2021062400/Data-Validate-Domain-0.14-0/blib/lib
    /home/cpansand/.cpan/build/2021062400/Net-Domain-TLD-1.75-0/blib/arch
    /home/cpansand/.cpan/build/2021062400/Net-Domain-TLD-1.75-0/blib/lib
    /home/cpansand/.cpan/build/2021062400/HTML-ExtractContent-0.12-0/blib/arch
    /home/cpansand/.cpan/build/2021062400/HTML-ExtractContent-0.12-0/blib/lib
    /usr/perl5.30.3p/lib/site_perl/5.30.3/amd64-freebsd
    /usr/perl5.30.3p/lib/site_perl/5.30.3
    /usr/perl5.30.3p/lib/5.30.3/amd64-freebsd
    /usr/perl5.30.3p/lib/5.30.3
    .