Report for Salvation-MacroProcessor-0.93

Back
From: metabase:user:0d96120c-29e2-11e5-b049-ede3035d37de
Subject: PASS Salvation-MacroProcessor-0.93 v5.23.1 GNU/Linux
Date: 2015-08-02T11:58:40Z

This distribution has been tested as part of the CPAN Testers
project, supporting the Perl programming language.  See
http://wiki.cpantesters.org/ for more information or email
questions to cpan-testers-discuss@perl.org


--
Dear Gennadiy Filatov,

This is a computer-generated report for Salvation-MacroProcessor-0.93
on perl 5.23.1, created by CPAN-Reporter-1.2014.

Thank you for uploading your work to CPAN.  Congratulations!
All tests were successful.

Sections of this report:

    * Tester comments
    * Program output
    * Prerequisites
    * Environment and other context

------------------------------
TESTER COMMENTS
------------------------------

Additional comments from tester:

this report is from an automated smoke testing program
and was not reviewed by a human for accuracy

------------------------------
PROGRAM OUTPUT
------------------------------

Output from './Build test':

t/00-description_adding/00-bare/00-method.t ............................................................. ok
t/00-description_adding/00-bare/01-attribute.t .......................................................... ok
t/00-description_adding/00-bare/02-stub_subroutine.t .................................................... ok
t/00-description_adding/01-with_query_parts/00-method/00-static.t ....................................... ok
t/00-description_adding/01-with_query_parts/00-method/01-dynamic/00-no_args.t ........................... ok
t/00-description_adding/01-with_query_parts/00-method/01-dynamic/01-with_args.t ......................... ok
t/00-description_adding/01-with_query_parts/01-attribute/00-static.t .................................... ok
t/00-description_adding/01-with_query_parts/01-attribute/01-dynamic/00-no_args.t ........................ ok
t/00-description_adding/01-with_query_parts/01-attribute/01-dynamic/01-with_args.t ...................... ok
t/00-description_adding/01-with_query_parts/01-attribute/01-dynamic/02-default_query_part_generation.t .. ok
t/00-description_adding/02-with_postfilter/00-method.t .................................................. ok
t/00-description_adding/02-with_postfilter/01-attribute.t ............................................... ok
t/01-simple_select.t .................................................................................... ok
t/02-share_adding.t ..................................................................................... ok
t/03-select_with_shares.t ............................................................................... ok
t/04-connector_adding.t ................................................................................. ok
t/05-complex_composition/00-roles.t ..................................................................... ok
t/05-complex_composition/01-inheritance.t ............................................................... ok
t/05-complex_composition/02-import.t .................................................................... ok
t/05-complex_composition/03-mixed.t ..................................................................... ok
t/05-complex_composition/04-chained_import.t ............................................................ ok
t/06-complex_select.t ................................................................................... ok
t/07-aliasing.t ......................................................................................... ok
All tests successful.
Files=23, Tests=118,  9 wallclock secs ( 0.08 usr  0.15 sys +  7.22 cusr  0.94 csys =  8.39 CPU)
Result: PASS

------------------------------
PREREQUISITES
------------------------------

Prerequisite modules loaded:

requires:

    Module                      Need    Have    
    --------------------------- ------- --------
    B::Hooks::EndOfScope        0.11    0.15    
    Carp::Assert                0.20    0.21    
    Class::Load                 0.13    0.23    
    Class::Load::XS             0.03    0.09    
    Data::OptList               0.107   0.109   
    Devel::GlobalDestruction    0.04    0.13    
    Eval::Closure               0.08    0.13    
    List::MoreUtils             0.33    0.413   
    Module::Runtime             0.013   0.014   
    Moose                       2.0402  2.1405  
    MooseX::StrictConstructor   0.19    0.19    
    MRO::Compat                 0.11    0.12    
    namespace::autoclean        0.13    0.26    
    namespace::clean            0.23    0.25    
    Package::DeprecationManager 0.11    0.14    
    Package::Stash              0.33    0.37    
    Package::Stash::XS          0.25    0.28    
    Params::Util                1.04    1.07    
    perl                        v5.10.1 5.023001
    Sub::Exporter               0.982   0.987   
    Sub::Install                0.925   0.928   
    Sub::Name                   0.05    0.14    
    Try::Tiny                   0.11    0.22    
    Variable::Magic             0.48    0.58    
    version                     0.88    0.9909  

configure_requires:

    Module                      Need    Have    
    --------------------------- ------- --------
    Module::Build               0.36    0.4214  


------------------------------
ENVIRONMENT AND OTHER CONTEXT
------------------------------

Environment variables:

    AUTOMATED_TESTING = 1
    LANG = en_US.UTF-8
    NONINTERACTIVE_TESTING = 1
    PATH = /home/jmaslak/perl5/perlbrew/bin:/home/jmaslak/perl5/perlbrew/perls/perl-5.23.1-ld/bin:/home/jmaslak/perltest/bin:/home/jmaslak/perltest/bin:/home/jmaslak/perltest/bin:/home/jmaslak/perl5/perlbrew/bin:/home/jmaslak/perl5/perlbrew/perls/perl-5.23.1/bin:/usr/local/bin:/usr/bin:/usr/local/sbin:/usr/sbin:/usr/sbin:~/perltest/bin
    PERL5LIB = 
    PERL5OPT = 
    PERL5_CPANPLUS_IS_RUNNING = 2058
    PERL5_CPAN_IS_RUNNING = 2058
    PERL5_CPAN_IS_RUNNING_IN_RECURSION = 23911,2058
    PERLBREW_BASHRC_VERSION = 0.73
    PERLBREW_HOME = /home/jmaslak/.perlbrew
    PERLBREW_LIB = 
    PERLBREW_MANPATH = /home/jmaslak/perl5/perlbrew/perls/perl-5.23.1-ld/man
    PERLBREW_PATH = /home/jmaslak/perl5/perlbrew/bin:/home/jmaslak/perl5/perlbrew/perls/perl-5.23.1-ld/bin
    PERLBREW_PERL = perl-5.23.1-ld
    PERLBREW_ROOT = /home/jmaslak/perl5/perlbrew
    PERLBREW_VERSION = 0.73
    PERL_CR_SMOKER_CURRENT = Salvation-MacroProcessor-0.93
    PERL_EXTUTILS_AUTOINSTALL = --defaultdeps
    PERL_LOCAL_LIB_ROOT = 
    PERL_MM_USE_DEFAULT = 1
    SHELL = /bin/bash
    TERM = screen

Perl special variables (and OS-specific diagnostics, for MSWin32):

    $^X = /home/jmaslak/perl5/perlbrew/perls/perl-5.23.1-ld/bin/perl5.23.1
    $UID/$EUID = 1000 / 1000
    $GID = 1000 10 1000
    $EGID = 1000 10 1000

Perl module toolchain versions installed:

    Module              Have    
    ------------------- --------
    CPAN                2.11    
    CPAN::Meta          2.150005
    Cwd                 3.56    
    ExtUtils::CBuilder  0.280223
    ExtUtils::Command   1.20    
    ExtUtils::Install   2.04    
    ExtUtils::MakeMaker 7.04_01 
    ExtUtils::Manifest  1.70    
    ExtUtils::ParseXS   3.28    
    File::Spec          3.56    
    JSON                2.90    
    JSON::PP            2.27300 
    Module::Build       0.4214  
    Module::Signature   n/a     
    Parse::CPAN::Meta   1.4417  
    Test::Harness       3.35    
    Test::More          1.001014
    YAML                1.15    
    YAML::Syck          n/a     
    version             0.9909  


--

Summary of my perl5 (revision 5 version 23 subversion 1) configuration:
   
  Platform:
    osname=linux, osvers=4.1.0-x86_64-linode59, archname=x86_64-linux-ld
    uname='linux cpantest.antelope.net 4.1.0-x86_64-linode59 #1 smp mon jun 22 10:39:23 edt 2015 x86_64 x86_64 x86_64 gnulinux '
    config_args='-de -Dprefix=/home/jmaslak/perl5/perlbrew/perls/perl-5.23.1-ld -Duselongdouble -Dusedevel -Aeval:scriptdir=/home/jmaslak/perl5/perlbrew/perls/perl-5.23.1-ld/bin'
    hint=recommended, useposix=true, d_sigaction=define
    useithreads=undef, usemultiplicity=undef
    use64bitint=define, use64bitall=define, uselongdouble=define
    usemymalloc=n, bincompat5005=undef
  Compiler:
    cc='cc', ccflags ='-fwrapv -fno-strict-aliasing -pipe -fstack-protector-strong -I/usr/local/include -D_LARGEFILE_SOURCE -D_FILE_OFFSET_BITS=64 -D_FORTIFY_SOURCE=2',
    optimize='-O2',
    cppflags='-fwrapv -fno-strict-aliasing -pipe -fstack-protector-strong -I/usr/local/include'
    ccversion='', gccversion='4.8.3 20140911 (Red Hat 4.8.3-9)', gccosandvers=''
    intsize=4, longsize=8, ptrsize=8, doublesize=8, byteorder=12345678, doublekind=3
    d_longlong=define, longlongsize=8, d_longdbl=define, longdblsize=16, longdblkind=3
    ivtype='long', ivsize=8, nvtype='long double', nvsize=16, Off_t='off_t', lseeksize=8
    alignbytes=16, prototype=define
  Linker and Libraries:
    ld='cc', ldflags =' -fstack-protector-strong -L/usr/local/lib'
    libpth=/usr/local/lib /usr/lib /lib/../lib64 /usr/lib/../lib64 /lib /lib64 /usr/lib64 /usr/local/lib64
    libs=-lpthread -lnsl -ldl -lm -lcrypt -lutil -lc
    perllibs=-lpthread -lnsl -ldl -lm -lcrypt -lutil -lc
    libc=libc-2.17.so, so=so, useshrplib=false, libperl=libperl.a
    gnulibc_version='2.17'
  Dynamic Linking:
    dlsrc=dl_dlopen.xs, dlext=so, d_dlsymun=undef, ccdlflags='-Wl,-E'
    cccdlflags='-fPIC', lddlflags='-shared -O2 -L/usr/local/lib -fstack-protector-strong'


Characteristics of this binary (from libperl): 
  Compile-time options: HAS_TIMES PERLIO_LAYERS PERL_COPY_ON_WRITE
                        PERL_DONT_CREATE_GVSV
                        PERL_HASH_FUNC_ONE_AT_A_TIME_HARD PERL_MALLOC_WRAP
                        PERL_PRESERVE_IVUV PERL_USE_DEVEL USE_64_BIT_ALL
                        USE_64_BIT_INT USE_LARGE_FILES USE_LOCALE
                        USE_LOCALE_COLLATE USE_LOCALE_CTYPE
                        USE_LOCALE_NUMERIC USE_LOCALE_TIME USE_LONG_DOUBLE
                        USE_PERLIO USE_PERL_ATOF
  Locally applied patches:
	Devel::PatchPerl 1.38
  Built under linux
  Compiled at Jul 26 2015 04:54:15
  %ENV:
    PERL5LIB=""
    PERL5OPT=""
    PERL5_CPANPLUS_IS_RUNNING="2058"
    PERL5_CPAN_IS_RUNNING="2058"
    PERL5_CPAN_IS_RUNNING_IN_RECURSION="23911,2058"
    PERLBREW_BASHRC_VERSION="0.73"
    PERLBREW_HOME="/home/jmaslak/.perlbrew"
    PERLBREW_LIB=""
    PERLBREW_MANPATH="/home/jmaslak/perl5/perlbrew/perls/perl-5.23.1-ld/man"
    PERLBREW_PATH="/home/jmaslak/perl5/perlbrew/bin:/home/jmaslak/perl5/perlbrew/perls/perl-5.23.1-ld/bin"
    PERLBREW_PERL="perl-5.23.1-ld"
    PERLBREW_ROOT="/home/jmaslak/perl5/perlbrew"
    PERLBREW_VERSION="0.73"
    PERL_CR_SMOKER_CURRENT="Salvation-MacroProcessor-0.93"
    PERL_EXTUTILS_AUTOINSTALL="--defaultdeps"
    PERL_LOCAL_LIB_ROOT=""
    PERL_MM_USE_DEFAULT="1"
  @INC:
    /home/jmaslak/perl5/perlbrew/perls/perl-5.23.1-ld/lib/site_perl/5.23.1/x86_64-linux-ld
    /home/jmaslak/perl5/perlbrew/perls/perl-5.23.1-ld/lib/site_perl/5.23.1
    /home/jmaslak/perl5/perlbrew/perls/perl-5.23.1-ld/lib/5.23.1/x86_64-linux-ld
    /home/jmaslak/perl5/perlbrew/perls/perl-5.23.1-ld/lib/5.23.1
    .