Back
From: metabase:user:320bfe00-2aae-11df-837a-5e0a49663a4f
Subject: PASS MAD-Loader-3.001001 v5.21.3 GNU/Linux
Date: 2014-10-01T23:43:59Z
This distribution has been tested as part of the CPAN Testers
project, supporting the Perl programming language. See
http://wiki.cpantesters.org/ for more information or email
questions to cpan-testers-discuss@perl.org
--
Dear Blabos de Blebe,
This is a computer-generated report for MAD-Loader-3.001001
on perl 5.21.3, created by CPAN-Reporter-1.2011.
Thank you for uploading your work to CPAN. Congratulations!
All tests were successful.
Sections of this report:
* Tester comments
* Program output
* Prerequisites
* Environment and other context
------------------------------
TESTER COMMENTS
------------------------------
Additional comments from tester:
this report is from an automated smoke testing program
and was not reviewed by a human for accuracy
------------------------------
PROGRAM OUTPUT
------------------------------
Output from '/usr/bin/make test':
PERL_DL_NONLAZY=1 "/home/sand/src/perl/repoperls/installed-perls/perl/v5.21.3/165a/bin/perl" "-MExtUtils::Command::MM" "-MTest::Harness" "-e" "undef *Test::Harness::Switches; test_harness(0, 'blib/lib', 'blib/arch')" t/*.t t/01-functions/*.t t/01-functions/01-fqn/*.t t/01-functions/02-load-module/01-core-modules/*.t t/01-functions/02-load-module/02-non-core-modules/*.t t/01-functions/03-build-object/*.t t/02-methods/01-new/*.t t/02-methods/02-load/*.t t/02-methods/03-build/*.t t/02-methods/04-load-and-build/*.t
t/01-functions/01-fqn/01-fqn.t ......................................... ok
t/01-functions/02-load-module/01-core-modules/01-without-prefix.t ...... ok
t/01-functions/02-load-module/01-core-modules/02-with-prefix.t ......... ok
t/01-functions/02-load-module/02-non-core-modules/01-without-prefix.t .. ok
t/01-functions/02-load-module/02-non-core-modules/02-with-prefix.t ..... ok
t/01-functions/03-build-object/01-build.t .............................. ok
t/01-functions/03-build-object/02-fail.t ............................... ok
t/01-functions/04-load-and-new.t ....................................... ok
t/02-methods/01-new/01-new.t ........................................... ok
t/02-methods/02-load/01-add-inc.t ...................................... ok
t/02-methods/02-load/02-set-inc.t ...................................... ok
t/02-methods/03-build/01-without-args.t ................................ ok
t/02-methods/03-build/02-with-args.t ................................... ok
t/02-methods/04-load-and-build/01-load-and-build.t ..................... ok
t/author-critic.t ...................................................... skipped: these tests are for testing by the author
t/release-pod-coverage.t ............................................... skipped: these tests are for release candidate testing
t/release-pod-syntax.t ................................................. skipped: these tests are for release candidate testing
All tests successful.
Files=17, Tests=57, 2 wallclock secs ( 0.06 usr 0.02 sys + 1.58 cusr 0.17 csys = 1.83 CPU)
Result: PASS
------------------------------
PREREQUISITES
------------------------------
Prerequisite modules loaded:
requires:
Module Need Have
------------------- -------- --------
Carp 1.12 1.34
Const::Fast 0.014 0.014
Moo 1.004006 1.006000
build_requires:
Module Need Have
------------------- -------- --------
ExtUtils::MakeMaker 0 6.99_15
File::Spec 3.47 3.49
Scalar::Util 1.38 1.41
Test::Most 0.34 0.34
Test::Perl::Critic 1.02 1.02
configure_requires:
Module Need Have
------------------- -------- --------
ExtUtils::MakeMaker 6.30 6.99_15
------------------------------
ENVIRONMENT AND OTHER CONTEXT
------------------------------
Environment variables:
AUTOMATED_TESTING = 1
LANG = en_US.UTF-8
LANGUAGE = en_US:en
PATH = /home/sand/bin:/usr/local/bin:/usr/lib/ccache:/usr/bin:/bin:/usr/games:/usr/local/perl/bin:/usr/X11/bin:/sbin:/usr/sbin
PERL5LIB =
PERL5OPT =
PERL5_CPANPLUS_IS_RUNNING = 20095
PERL5_CPAN_IS_RUNNING = 20095
PERL_MM_USE_DEFAULT = 1
SHELL = /usr/bin/zsh
TERM = screen
Perl special variables (and OS-specific diagnostics, for MSWin32):
$^X = /home/sand/src/perl/repoperls/installed-perls/perl/v5.21.3/165a/bin/perl
$UID/$EUID = 1005 / 1005
$GID = 1005 1005
$EGID = 1005 1005
Perl module toolchain versions installed:
Module Have
------------------- ------------
CPAN 2.05
CPAN::Meta 2.142690
Cwd 3.49
ExtUtils::CBuilder 0.280220
ExtUtils::Command 1.18
ExtUtils::Install 2.04
ExtUtils::MakeMaker 6.99_15
ExtUtils::Manifest 1.68
ExtUtils::ParseXS 3.25
File::Spec 3.49
JSON 2.90
JSON::PP 2.27203
Module::Build 0.4210
Module::Signature 0.73
Parse::CPAN::Meta 1.4414
Test::Harness 3.33
Test::More 1.301001_052
YAML 1.11
YAML::Syck 1.27
version 0.9909
--
Summary of my perl5 (revision 5 version 21 subversion 3) configuration:
Commit id: 29a15389521f38a960299048333ebb1c0d68ad7f
Platform:
osname=linux, osvers=3.16-1-amd64, archname=x86_64-linux
uname='linux k83 3.16-1-amd64 #1 smp debian 3.16.2-2 (2014-09-08) x86_64 gnulinux '
config_args='-Dprefix=/home/sand/src/perl/repoperls/installed-perls/perl/v5.21.3/165a -Dmyhostname=k83 -Dinstallusrbinperl=n -Uversiononly -Dusedevel -des -Ui_db -Uuseithreads -Uuselongdouble -DDEBUGGING=-g'
hint=recommended, useposix=true, d_sigaction=define
useithreads=undef, usemultiplicity=undef
use64bitint=define, use64bitall=define, uselongdouble=undef
usemymalloc=n, bincompat5005=undef
Compiler:
cc='cc', ccflags ='-fwrapv -fno-strict-aliasing -pipe -fstack-protector -I/usr/local/include -D_LARGEFILE_SOURCE -D_FILE_OFFSET_BITS=64 -D_FORTIFY_SOURCE=2',
optimize='-O2 -g',
cppflags='-fwrapv -fno-strict-aliasing -pipe -fstack-protector -I/usr/local/include'
ccversion='', gccversion='4.9.1', gccosandvers=''
intsize=4, longsize=8, ptrsize=8, doublesize=8, byteorder=12345678
d_longlong=define, longlongsize=8, d_longdbl=define, longdblsize=16, longdblkind=3
ivtype='long', ivsize=8, nvtype='double', nvsize=8, Off_t='off_t', lseeksize=8
alignbytes=8, prototype=define
Linker and Libraries:
ld='cc', ldflags =' -fstack-protector -L/usr/local/lib'
libpth=/usr/local/lib /usr/lib/gcc/x86_64-linux-gnu/4.9/include-fixed /usr/include/x86_64-linux-gnu /usr/lib /lib/x86_64-linux-gnu /lib/../lib /usr/lib/x86_64-linux-gnu /usr/lib/../lib /lib
libs=-lnsl -lgdbm -ldb -ldl -lm -lcrypt -lutil -lc -lgdbm_compat
perllibs=-lnsl -ldl -lm -lcrypt -lutil -lc
libc=libc-2.19.so, so=so, useshrplib=false, libperl=libperl.a
gnulibc_version='2.19'
Dynamic Linking:
dlsrc=dl_dlopen.xs, dlext=so, d_dlsymun=undef, ccdlflags='-Wl,-E'
cccdlflags='-fPIC', lddlflags='-shared -O2 -g -L/usr/local/lib -fstack-protector'
Characteristics of this binary (from libperl):
Compile-time options: HAS_TIMES PERLIO_LAYERS PERL_DONT_CREATE_GVSV
PERL_HASH_FUNC_ONE_AT_A_TIME_HARD PERL_MALLOC_WRAP
PERL_NEW_COPY_ON_WRITE PERL_PRESERVE_IVUV
PERL_USE_DEVEL USE_64_BIT_ALL USE_64_BIT_INT
USE_LARGE_FILES USE_LOCALE USE_LOCALE_COLLATE
USE_LOCALE_CTYPE USE_LOCALE_NUMERIC USE_LOCALE_TIME
USE_PERLIO USE_PERL_ATOF
Built under linux
Compiled at Sep 13 2014 10:30:15
%ENV:
PERL5LIB=""
PERL5OPT=""
PERL5_CPANPLUS_IS_RUNNING="20095"
PERL5_CPAN_IS_RUNNING="20095"
PERL_MM_USE_DEFAULT="1"
@INC:
/home/sand/src/perl/repoperls/installed-perls/perl/v5.21.3/165a/lib/site_perl/5.21.3/x86_64-linux
/home/sand/src/perl/repoperls/installed-perls/perl/v5.21.3/165a/lib/site_perl/5.21.3
/home/sand/src/perl/repoperls/installed-perls/perl/v5.21.3/165a/lib/5.21.3/x86_64-linux
/home/sand/src/perl/repoperls/installed-perls/perl/v5.21.3/165a/lib/5.21.3
.