WebNano-Controller-CRUD v0.007 Perl 5 v5.26.0 MSWin32-x86-multi-thread-64int

Status
Pass
From
Alexandr Ciornii (CHORNY)
Dist
WebNano-Controller-CRUD v0.007
Platform
Perl 5 v5.26.0 MSWin32-x86-multi-thread-64int
Date
2018-01-31 00:55:42
ID
d107a1f3-6c18-1014-b40c-4e8edb0b0d9a
This distribution has been tested as part of the CPAN Testers
project, supporting the Perl programming language.  See
http://wiki.cpantesters.org/ for more information or email
questions to cpan-testers-discuss@perl.org


--
Dear Zbigniew Lukasiak,

This is a computer-generated report for WebNano-Controller-CRUD-0.007
on perl 5.26.0, created by CPAN-Reporter-1.2018.

Thank you for uploading your work to CPAN.  Congratulations!
All tests were successful.

Sections of this report:

    * Tester comments
    * Program output
    * Prerequisites
    * Environment and other context

------------------------------
TESTER COMMENTS
------------------------------

Additional comments from tester:

this report is from an automated smoke testing program
and was not reviewed by a human for accuracy

------------------------------
PROGRAM OUTPUT
------------------------------

Output from 'C:\STRAWB~1\c\bin\gmake.exe test':

"C:\Strawberry260\perl\bin\perl.exe" "-MExtUtils::Command::MM" "-MTest::Harness" "-e" "undef *Test::Harness::Switches; test_harness(0, 'blib\lib', 'blib\arch')" t/*.t
Class::MOP::load_class is deprecated at C:/Strawberry260/perl/site/lib/Class/MOP.pm line 69.
	Class::MOP::load_class("MyApp::Controller::Form") called at C:\STRAWB~1\cpan\build\WebNano-Controller-CRUD-0.007-0\blib\lib/WebNano/Controller/CRUD.pm line 154
	WebNano::Controller::CRUD::edit(MyApp::Controller::DvdWithBaseCRUD=HASH(0x3644f64), MyApp::DBSchema::Result::Dvd=HASH(0x36643c4), undef, "edit") called at C:\STRAWB~1\cpan\build\WebNano-Controller-CRUD-0.007-0\blib\lib/WebNano/Controller/CRUD.pm line 89
	Class::MOP::Class:::around(CODE(0x23fbde4), MyApp::Controller::DvdWithBaseCRUD=HASH(0x3644f64)) called at C:/Strawberry260/perl/site/lib/Class/MOP/Method/Wrapped.pm line 164
	WebNano::Controller::CRUD::_wrapped_local_dispatch(MyApp::Controller::DvdWithBaseCRUD=HASH(0x3644f64)) called at C:/Strawberry260/perl/site/lib/Class/MOP/Method/Wrapped.pm line 95
	WebNano::Controller::CRUD::local_dispatch(MyApp::Controller::DvdWithBaseCRUD=HASH(0x3644f64)) called at C:\STRAWB~1\cpan\build\WebNano-0.007-0/blib/lib/WebNano/Controller.pm line 90
	WebNano::Controller::handle("MyApp::Controller::DvdWithBaseCRUD", "path", ARRAY(0x374476c), "app", MyApp=HASH(0x3fd464), "self_url", "/DvdWithBaseCRUD/", "env", ...) called at C:\STRAWB~1\cpan\build\WebNano-0.007-0/blib/lib/WebNano/Controller.pm line 82
	WebNano::Controller::dispatch_to_class(MyApp::Controller=HASH(0x3698d94), "DvdWithBaseCRUD") called at C:\STRAWB~1\cpan\build\WebNano-0.007-0/blib/lib/WebNano/Controller.pm line 93
	WebNano::Controller::handle("MyApp::Controller", "path", ARRAY(0x374476c), "app", MyApp=HASH(0x3fd464), "env", HASH(0x366a6ac), "self_url", ...) called at C:\STRAWB~1\cpan\build\WebNano-0.007-0/blib/lib/WebNano.pm line 44
	WebNano::handle(MyApp=HASH(0x3fd464), HASH(0x366a6ac)) called at C:\STRAWB~1\cpan\build\WebNano-0.007-0/blib/lib/WebNano.pm line 31
	WebNano::__ANON__(HASH(0x366a6ac)) called at C:/Strawberry260/perl/site/lib/Plack/Test/MockHTTP.pm line 24
	Plack::Test::MockHTTP::try {...} () called at C:/Strawberry260/perl/vendor/lib/Try/Tiny.pm line 100
	eval {...} called at C:/Strawberry260/perl/vendor/lib/Try/Tiny.pm line 93
	Try::Tiny::try(CODE(0x2bbae4c), Try::Tiny::Catch=REF(0x2c3117c)) called at C:/Strawberry260/perl/site/lib/Plack/Test/MockHTTP.pm line 27
	Plack::Test::MockHTTP::request(Plack::Test::MockHTTP=HASH(0x9a601c), HTTP::Request=HASH(0x22093fc)) called at C:/Strawberry260/perl/site/lib/Plack/Test.pm line 38
	Plack::Test::__ANON__(HTTP::Request=HASH(0x22093fc)) called at t/crud_base_controller.t line 23
	main::__ANON__(CODE(0x9a6004)) called at C:/Strawberry260/perl/site/lib/Plack/Test.pm line 38
	Plack::Test::test_psgi("app", CODE(0xadeb2c), "client", CODE(0x9a52b4)) called at t/crud_base_controller.t line 42
t/crud_base_controller.t .. ok
t/release-kwalitee.t ...... skipped: these tests are for release candidate testing
t/release-pod-coverage.t .. skipped: these tests are for release candidate testing
t/release-pod-syntax.t .... skipped: these tests are for release candidate testing
All tests successful.
Files=4, Tests=20, 11 wallclock secs ( 0.07 usr +  0.04 sys =  0.11 CPU)
Result: PASS

------------------------------
PREREQUISITES
------------------------------

Prerequisite modules loaded:

requires:

    Module                            Need  Have    
    --------------------------------- ----- --------
    Class::MOP                        0     2.2009  
    Config::General                   0     2.63    
    Cwd                               0     3.67    
    DateTime::Format::SQLite          0     0.11    
    DBIx::Class                       0     0.082840
    File::Spec::Functions             0     3.67    
    HTML::FormHandler::Model::DBIC    0     0.29    
    HTML::FormHandler::Moose          0     0.40068 
    Moose                             0     2.2009  
    MooseX::NonMoose                  0     0.26    
    WebNano                           0.007 0.007   
    WebNano::Controller               0     0.007   
    WebNano::Renderer::TT             0     0.002   

build_requires:

    Module                            Need  Have    
    --------------------------------- ----- --------
    base                              0     2.25    
    Config::Any                       0     0.32    
    DateTime                          0     1.45    
    DBIx::Class                       0     0.082840
    DBIx::Class::Schema               0     0       
    File::Copy                        0     2.32    
    HTML::FormHandler::Model::DBIC    0     0.29    
    HTML::FormHandler::Moose          0     0.40068 
    HTML::FormHandler::Render::Simple 0     0.40068 
    HTTP::Request::Common             0     6.14    
    overload                          0     1.28    
    Plack::Test                       0     0       
    strict                            0     1.11    
    Test::More                        0     1.302120
    warnings                          0     1.37    
    WebNano                           0     0.007   
    WebNano::Renderer::TT             0     0.002   

configure_requires:

    Module                            Need  Have    
    --------------------------------- ----- --------
    ExtUtils::MakeMaker               6.30  7.30    


------------------------------
ENVIRONMENT AND OTHER CONTEXT
------------------------------

Environment variables:

    AUTOMATED_TESTING = 1
    COMSPEC = C:\WINDOWS\system32\cmd.exe
    NUMBER_OF_PROCESSORS = 1
    PATH = C:\WINDOWS\system32;C:\WINDOWS;C:\WINDOWS\System32\Wbem;C:\Git\cmd;C:\Strawberry260\c\bin;C:\Strawberry260\perl\site\bin;C:\Strawberry260\perl\bin
    PERL5LIB = C:\STRAWB~1\cpan\build\WebNano-Renderer-TT-0.002-0/blib/arch;C:\STRAWB~1\cpan\build\WebNano-Renderer-TT-0.002-0/blib/lib;C:\STRAWB~1\cpan\build\WebNano-0.007-0/blib/arch;C:\STRAWB~1\cpan\build\WebNano-0.007-0/blib/lib
    PERL5OPT = 
    PERL5_CPANPLUS_IS_RUNNING = 672
    PERL5_CPAN_IS_RUNNING = 672
    PERL5_CPAN_IS_RUNNING_IN_RECURSION = 1224,672
    PERL_CR_SMOKER_CURRENT = WebNano-Controller-CRUD-0.007
    PERL_CR_SMOKER_RUNONCE = 1
    PERL_EXTUTILS_AUTOINSTALL = --defaultdeps
    PERL_MM_USE_DEFAULT = 1
    PERL_USE_UNSAFE_INC = 1
    PROCESSOR_IDENTIFIER = x86 Family 16 Model 5 Stepping 3, AuthenticAMD
    TEMP = C:\DOCUME~1\a\LOCALS~1\Temp

Perl special variables (and OS-specific diagnostics, for MSWin32):

    $^X = C:\Strawberry260\perl\bin\perl.exe
    $UID/$EUID = 0 / 0
    $GID = 0
    $EGID = 0
    Win32::GetOSName = WinXP/.Net
    Win32::GetOSVersion = Service Pack 3, 5, 1, 2600, 2, 3, 0, 256, 1
    Win32::FsType = NTFS
    Win32::IsAdminUser = 1

Perl module toolchain versions installed:

    Module              Have    
    ------------------- --------
    CPAN                2.18    
    CPAN::Meta          2.150010
    Cwd                 3.67    
    ExtUtils::CBuilder  0.280230
    ExtUtils::Command   7.30    
    ExtUtils::Install   2.14    
    ExtUtils::MakeMaker 7.30    
    ExtUtils::Manifest  1.70    
    ExtUtils::ParseXS   3.35    
    File::Spec          3.67    
    JSON                2.97001 
    JSON::PP            2.97001 
    Module::Build       0.4224  
    Module::Signature   0.81    
    Parse::CPAN::Meta   2.150010
    Test::Harness       3.39    
    Test::More          1.302120
    YAML                1.24    
    YAML::Syck          1.30    
    version             0.9918  


--

Summary of my perl5 (revision 5 version 26 subversion 0) configuration:
   
  Platform:
    osname=MSWin32
    osvers=4.0
    archname=MSWin32-x86-multi-thread-64int
    uname='Win32 strawberry-perl 5.26.0.1 #1 Sat Dec 30 15:55:34 2017 i386'
    config_args='undef'
    hint=recommended
    useposix=true
    d_sigaction=undef
    useithreads=define
    usemultiplicity=define
    use64bitint=define
    use64bitall=undef
    uselongdouble=undef
    usemymalloc=n
    default_inc_excludes_dot=define
    bincompat5005=undef
  Compiler:
    cc='gcc'
    ccflags =' -s -O2 -DWIN32 -D__USE_MINGW_ANSI_STDIO -DPERL_TEXTMODE_SCRIPTS -DPERL_IMPLICIT_CONTEXT -DPERL_IMPLICIT_SYS -DUSE_PERLIO -fwrapv -fno-strict-aliasing -mms-bitfields'
    optimize='-s -O2'
    cppflags='-DWIN32'
    ccversion=''
    gccversion='7.1.0'
    gccosandvers=''
    intsize=4
    longsize=4
    ptrsize=4
    doublesize=8
    byteorder=12345678
    doublekind=3
    d_longlong=define
    longlongsize=8
    d_longdbl=define
    longdblsize=12
    longdblkind=3
    ivtype='long long'
    ivsize=8
    nvtype='double'
    nvsize=8
    Off_t='long long'
    lseeksize=8
    alignbytes=8
    prototype=define
  Linker and Libraries:
    ld='g++'
    ldflags ='-s -L"C:\STRAWB~1\perl\lib\CORE" -L"C:\STRAWB~1\c\lib"'
    libpth=C:\STRAWB~1\c\lib C:\STRAWB~1\c\i686-w64-mingw32\lib C:\STRAWB~1\c\lib\gcc\i686-w64-mingw32\7.1.0
    libs= -lmoldname -lkernel32 -luser32 -lgdi32 -lwinspool -lcomdlg32 -ladvapi32 -lshell32 -lole32 -loleaut32 -lnetapi32 -luuid -lws2_32 -lmpr -lwinmm -lversion -lodbc32 -lodbccp32 -lcomctl32
    perllibs= -lmoldname -lkernel32 -luser32 -lgdi32 -lwinspool -lcomdlg32 -ladvapi32 -lshell32 -lole32 -loleaut32 -lnetapi32 -luuid -lws2_32 -lmpr -lwinmm -lversion -lodbc32 -lodbccp32 -lcomctl32
    libc=
    so=dll
    useshrplib=true
    libperl=libperl526.a
    gnulibc_version=''
  Dynamic Linking:
    dlsrc=dl_win32.xs
    dlext=xs.dll
    d_dlsymun=undef
    ccdlflags=' '
    cccdlflags=' '
    lddlflags='-mdll -s -L"C:\STRAWB~1\perl\lib\CORE" -L"C:\STRAWB~1\c\lib"'


Characteristics of this binary (from libperl): 
  Compile-time options:
    HAS_TIMES
    HAVE_INTERP_INTERN
    MULTIPLICITY
    PERLIO_LAYERS
    PERL_COPY_ON_WRITE
    PERL_DONT_CREATE_GVSV
    PERL_IMPLICIT_CONTEXT
    PERL_IMPLICIT_SYS
    PERL_MALLOC_WRAP
    PERL_OP_PARENT
    PERL_PRESERVE_IVUV
    USE_64_BIT_INT
    USE_ITHREADS
    USE_LARGE_FILES
    USE_LOCALE
    USE_LOCALE_COLLATE
    USE_LOCALE_CTYPE
    USE_LOCALE_NUMERIC
    USE_LOCALE_TIME
    USE_PERLIO
    USE_PERL_ATOF
  Built under MSWin32
  Compiled at Dec 30 2017 16:05:39
  %ENV:
    PERL5LIB="C:\STRAWB~1\cpan\build\WebNano-Renderer-TT-0.002-0/blib/arch;C:\STRAWB~1\cpan\build\WebNano-Renderer-TT-0.002-0/blib/lib;C:\STRAWB~1\cpan\build\WebNano-0.007-0/blib/arch;C:\STRAWB~1\cpan\build\WebNano-0.007-0/blib/lib"
    PERL5_CPANPLUS_IS_RUNNING="672"
    PERL5_CPAN_IS_RUNNING="672"
    PERL5_CPAN_IS_RUNNING_IN_RECURSION="1224,672"
    PERL_CR_SMOKER_CURRENT="WebNano-Controller-CRUD-0.007"
    PERL_CR_SMOKER_RUNONCE="1"
    PERL_EXTUTILS_AUTOINSTALL="--defaultdeps"
    PERL_MM_USE_DEFAULT="1"
    PERL_USE_UNSAFE_INC="1"
  @INC:
    C:\STRAWB~1\cpan\build\WebNano-Renderer-TT-0.002-0/blib/arch
    C:\STRAWB~1\cpan\build\WebNano-Renderer-TT-0.002-0/blib/lib
    C:\STRAWB~1\cpan\build\WebNano-0.007-0/blib/arch
    C:\STRAWB~1\cpan\build\WebNano-0.007-0/blib/lib
    C:/Strawberry260/perl/site/lib
    C:/Strawberry260/perl/vendor/lib
    C:/Strawberry260/perl/lib
    .