Report for B-Utils-0.26

Back
From: metabase:user:c4ddbcd2-e93f-11e4-bbbd-89d1445f0064
Subject: PASS B-Utils-0.26 v5.20.2 GNU/Linux
Date: 2015-05-05T15:24:26Z

This distribution has been tested as part of the CPAN Testers
project, supporting the Perl programming language.  See
http://wiki.cpantesters.org/ for more information or email
questions to cpan-testers-discuss@perl.org


--
Dear ETHER,

This is a computer-generated report for B-Utils-0.26
on perl 5.20.2, created by App::cpanminus::reporter 0.13 (1.7030).

Thank you for uploading your work to CPAN.  Congratulations!
All tests were successful.

Sections of this report:

    * Tester comments
    * Program output
    * Prerequisites
    * Environment and other context

------------------------------
TESTER COMMENTS
------------------------------

Additional comments from tester:

none provided

------------------------------
PROGRAM OUTPUT
------------------------------

Output from '':

Building and testing B-Utils-0.26
cp build/IFiles.pm blib/arch/B/Utils/Install/Files.pm
cp typemap blib/arch/B/Utils/Install/typemap
cp lib/B/Utils/OP.pm blib/lib/B/Utils/OP.pm
cp BUtils.h blib/arch/B/Utils/Install/BUtils.h
cp lib/B/Utils.pm blib/lib/B/Utils.pm
Running Mkbootstrap for B::Utils ()
chmod 644 "Utils.bs"
"/opt/perl-5.20.2/bin/perl" "/opt/perl-5.20.2/lib/5.20.2/ExtUtils/xsubpp"  -typemap "/opt/perl-5.20.2/lib/5.20.2/ExtUtils/typemap" -typemap "typemap" -typemap "typemap"  Utils.xs > Utils.xsc && mv Utils.xsc Utils.c
cc -c   -fwrapv -fno-strict-aliasing -pipe -fstack-protector -I/usr/local/include -D_LARGEFILE_SOURCE -D_FILE_OFFSET_BITS=64 -O2   -DVERSION=\"0.26\" -DXS_VERSION=\"0.26\" -fPIC "-I/opt/perl-5.20.2/lib/5.20.2/x86_64-linux/CORE"   Utils.c
"/opt/perl-5.20.2/bin/perl" "/opt/perl-5.20.2/lib/5.20.2/ExtUtils/xsubpp"  -typemap "/opt/perl-5.20.2/lib/5.20.2/ExtUtils/typemap" -typemap "typemap" -typemap "typemap"  OP.xs > OP.xsc && mv OP.xsc OP.c
cc -c   -fwrapv -fno-strict-aliasing -pipe -fstack-protector -I/usr/local/include -D_LARGEFILE_SOURCE -D_FILE_OFFSET_BITS=64 -O2   -DVERSION=\"0.26\" -DXS_VERSION=\"0.26\" -fPIC "-I/opt/perl-5.20.2/lib/5.20.2/x86_64-linux/CORE"   OP.c
rm -f blib/arch/auto/B/Utils/Utils.so
cc  -shared -O2 -L/usr/local/lib -fstack-protector Utils.o OP.o  -o blib/arch/auto/B/Utils/Utils.so 	\
	     	\
	  
chmod 755 blib/arch/auto/B/Utils/Utils.so
"/opt/perl-5.20.2/bin/perl" -MExtUtils::Command::MM -e 'cp_nonempty' -- Utils.bs blib/arch/auto/B/Utils/Utils.bs 644
Manifying 2 pod documents
Running Mkbootstrap for B::Utils ()
chmod 644 "Utils.bs"
PERL_DL_NONLAZY=1 "/opt/perl-5.20.2/bin/perl" "-MExtUtils::Command::MM" "-MTest::Harness" "-e" "undef *Test::Harness::Switches; test_harness(0, 'blib/lib', 'blib/arch')" t/*.t t/*/*.t
t/10use.t ........................... ok
t/11export.t ........................ ok
t/regression_walkallops_filtered.t .. ok
t/release-pod-syntax.t .............. skipped: these tests are for release candidate testing
t/utils/20all_starts.t .............. ok
t/utils/21all_roots.t ............... ok
t/utils/22anon_subs.t ............... ok
t/utils/30parent.t .................. ok
t/utils/31oldname.t ................. skipped: No tests written yet.
t/utils/32kids.t .................... skipped: No tests written yet.
t/utils/33ancestors.t ............... skipped: No tests written yet.
t/utils/34descendants.t ............. skipped: No tests written yet.
t/utils/35siblings.t ................ skipped: No tests written yet.
t/utils/36previous.t ................ skipped: No tests written yet.
t/utils/37stringify.t ............... skipped: No tests written yet.
t/utils/40walk.t .................... ok
t/utils/41walkfilt.t ................ skipped: No tests written yet.
t/utils/42all.t ..................... skipped: No tests written yet.
t/utils/43allfilt.t ................. skipped: No tests written yet.
t/utils/44optrep.t .................. skipped: No tests written yet.
t/utils/50carp.t .................... skipped: No tests written yet.
t/utils/51croak.t ................... skipped: No tests written yet.
All tests successful.
Files=22, Tests=210,  1 wallclock secs ( 0.06 usr  0.03 sys +  0.73 cusr  0.03 csys =  0.85 CPU)
Result: PASS

------------------------------
PREREQUISITES
------------------------------

Prerequisite modules loaded:

    No requirements found

------------------------------
ENVIRONMENT AND OTHER CONTEXT
------------------------------

Environment variables:

    LANG = en_US.UTF-8
    PATH = /opt/perl/current/bin:/usr/local/sbin:/usr/local/bin:/usr/sbin:/usr/bin:/sbin:/bin
    SHELL = /bin/bash
    TERM = xterm

Perl special variables (and OS-specific diagnostics, for MSWin32):

    EGID = 0 0
    EUID = 0
    EXECUTABLE_NAME = /opt/perl-5.20.2/bin/perl
    GID = 0 0
    UID = 0

Perl module toolchain versions installed:

    Module              Have    
    ------------------- --------
    CPAN                2.05    
    CPAN::Meta          2.150001
    Cwd                 3.48_01 
    ExtUtils::CBuilder  0.280217
    ExtUtils::Command   1.18    
    ExtUtils::Install   1.67    
    ExtUtils::MakeMaker 7.04    
    ExtUtils::Manifest  1.65    
    ExtUtils::ParseXS   3.24    
    File::Spec          3.48_01 
    JSON                2.90    
    JSON::PP            2.27203 
    Module::Build       0.4211  
    Module::Signature   n/a     
    Parse::CPAN::Meta   1.4414  
    Test::Harness       3.30    
    Test::More          1.001014
    YAML                n/a     
    YAML::Syck          n/a     
    version             0.9909  


--

Summary of my perl5 (revision 5 version 20 subversion 2) configuration:
   
  Platform:
    osname=linux, osvers=3.16.0-0.bpo.4-amd64, archname=x86_64-linux
    uname='linux samthinkpad 3.16.0-0.bpo.4-amd64 #1 smp debian 3.16.7-ckt4-3~bpo70+1 (2015-02-12) x86_64 gnulinux '
    config_args='-Dprefix=/opt/perl-5.20.2 -de -A'eval:scriptdir=/opt/perl-5.20.2/bin''
    hint=recommended, useposix=true, d_sigaction=define
    useithreads=undef, usemultiplicity=undef
    use64bitint=define, use64bitall=define, uselongdouble=undef
    usemymalloc=n, bincompat5005=undef
  Compiler:
    cc='cc', ccflags ='-fwrapv -fno-strict-aliasing -pipe -fstack-protector -I/usr/local/include -D_LARGEFILE_SOURCE -D_FILE_OFFSET_BITS=64',
    optimize='-O2',
    cppflags='-fwrapv -fno-strict-aliasing -pipe -fstack-protector -I/usr/local/include'
    ccversion='', gccversion='4.7.2', gccosandvers=''
    intsize=4, longsize=8, ptrsize=8, doublesize=8, byteorder=12345678
    d_longlong=define, longlongsize=8, d_longdbl=define, longdblsize=16
    ivtype='long', ivsize=8, nvtype='double', nvsize=8, Off_t='off_t', lseeksize=8
    alignbytes=8, prototype=define
  Linker and Libraries:
    ld='cc', ldflags =' -fstack-protector -L/usr/local/lib'
    libpth=/usr/local/lib /usr/lib/gcc/x86_64-linux-gnu/4.7/include-fixed /usr/include/x86_64-linux-gnu /usr/lib /lib/x86_64-linux-gnu /lib/../lib /usr/lib/x86_64-linux-gnu /usr/lib/../lib /lib
    libs=-lnsl -ldl -lm -lcrypt -lutil -lc
    perllibs=-lnsl -ldl -lm -lcrypt -lutil -lc
    libc=libc-2.13.so, so=so, useshrplib=false, libperl=libperl.a
    gnulibc_version='2.13'
  Dynamic Linking:
    dlsrc=dl_dlopen.xs, dlext=so, d_dlsymun=undef, ccdlflags='-Wl,-E'
    cccdlflags='-fPIC', lddlflags='-shared -O2 -L/usr/local/lib -fstack-protector'


Characteristics of this binary (from libperl): 
  Compile-time options: HAS_TIMES PERLIO_LAYERS PERL_DONT_CREATE_GVSV
                        PERL_HASH_FUNC_ONE_AT_A_TIME_HARD PERL_MALLOC_WRAP
                        PERL_NEW_COPY_ON_WRITE PERL_PRESERVE_IVUV
                        USE_64_BIT_ALL USE_64_BIT_INT USE_LARGE_FILES
                        USE_LOCALE USE_LOCALE_COLLATE USE_LOCALE_CTYPE
                        USE_LOCALE_NUMERIC USE_PERLIO USE_PERL_ATOF
  Locally applied patches:
	Devel::PatchPerl 1.30
  Built under linux
  Compiled at Apr 22 2015 11:27:59
  @INC:
    /opt/perl-5.20.2/lib/site_perl/5.20.2/x86_64-linux
    /opt/perl-5.20.2/lib/site_perl/5.20.2
    /opt/perl-5.20.2/lib/5.20.2/x86_64-linux
    /opt/perl-5.20.2/lib/5.20.2
    .