Report for Tree-1.09

Back
From: metabase:user:314402c4-2aae-11df-837a-5e0a49663a4f
Subject: PASS Tree-1.09 v5.16.3 GNU/Linux
Date: 2016-09-14T08:32:48Z

This distribution has been tested as part of the CPAN Testers
project, supporting the Perl programming language.  See
http://wiki.cpantesters.org/ for more information or email
questions to cpan-testers-discuss@perl.org


--
Dear Ron Savage,

This is a computer-generated report for Tree-1.09
on perl 5.16.3, created by CPAN-Reporter-1.2018.

Thank you for uploading your work to CPAN.  Congratulations!
All tests were successful.

Sections of this report:

    * Tester comments
    * Program output
    * Prerequisites
    * Environment and other context

------------------------------
TESTER COMMENTS
------------------------------

Additional comments from tester:

none provided

------------------------------
PROGRAM OUTPUT
------------------------------

Output from '/usr/bin/make test':

PERL_DL_NONLAZY=1 "/bbbike/perl-5.16.3/bin/perl5.16.3" "-MExtUtils::Command::MM" "-MTest::Harness" "-e" "undef *Test::Harness::Switches; test_harness(0, 'blib/lib', 'blib/arch')" t/*.t t/Tree_Binary/*.t t/Tree/*.t t/Tree_Fast/*.t
t/Tree/000_interface.t ............ ok
t/Tree/001_root_node.t ............ ok
t/Tree/002_null_object.t .......... ok
t/Tree/003_child_node.t ........... ok
t/Tree/004_multiple_children.t .... ok
t/Tree/005_multilevel_tree.t ...... ok
t/Tree/007_add_child.t ............ ok
t/Tree/008_weak_refs.t ............ ok
t/Tree/009_error_handling.t ....... ok
t/Tree/010_errors_addchild.t ...... ok
t/Tree/011_errors_removechild.t ... ok
t/Tree/012_height.t ............... ok
t/Tree/013_width.t ................ ok
t/Tree/014_clone.t ................ ok
t/Tree/015_traverse.t ............. ok
t/Tree/016_events.t ............... ok
t/Tree/017_traverse_scalar.t ...... ok
t/Tree_Binary/000_binary_trees.t .. ok
t/Tree_Binary/001_mirror.t ........ ok
t/Tree_Binary/002_clone.t ......... ok
t/Tree_Fast/001_clone.t ........... ok
All tests successful.
Files=21, Tests=874,  1 wallclock secs ( 0.06 usr  0.08 sys +  0.56 cusr  0.14 csys =  0.84 CPU)
Result: PASS

------------------------------
PREREQUISITES
------------------------------

Prerequisite modules loaded:

requires:

    Module              Need     Have    
    ------------------- -------- --------
    constant            0        1.33    
    Data::Dumper        2.161    2.161   
    Exporter            5.71     5.72    
    lib                 0        0.63    
    overload            0        1.18    
    parent              0.234    0.234   
    perl                5.006    5.016003
    Scalar::Util        1.45     1.45    
    strict              0        1.07    
    warnings            0        1.13    

build_requires:

    Module              Need     Have    
    ------------------- -------- --------
    ExtUtils::MakeMaker 0        7.24    
    Test::Deep          1.123    1.123   
    Test::Exception     0.43     0.43    
    Test::More          1.302056 1.302056
    Test::Pod           1.51     1.51    
    Test::Pod::Coverage 1.1      1.10    
    Test::Warn          0.3      0.30    

configure_requires:

    Module              Need     Have    
    ------------------- -------- --------
    ExtUtils::MakeMaker 0        7.24    


------------------------------
ENVIRONMENT AND OTHER CONTEXT
------------------------------

Environment variables:

    LANG = C
    LC_ALL = de_DE.UTF-8
    PATH = /usr/local/bin:/usr/bin:/bin:/usr/local/sbin:/usr/sbin:/sbin:/home/cpansand/bin/linux-gnu:/home/cpansand/bin/sh:/home/cpansand/bin:/usr/games:/home/cpansand/devel:/home/eserte/src/srezic-misc/scripts
    PERL5LIB = /home/cpansand/.cpan/build/2016091406/Test-Simple-1.302056-8/blib/arch:/home/cpansand/.cpan/build/2016091406/Test-Simple-1.302056-8/blib/lib
    PERL5OPT = 
    PERL5_CPANPLUS_IS_RUNNING = 15715
    PERL5_CPAN_IS_RUNNING = 15715
    PERL5_CPAN_IS_RUNNING_IN_RECURSION = 15656,15715
    PERLDOC = -MPod::Perldoc::ToTextOverstrike
    PERL_BATCH = yes
    PERL_CANARY_STABILITY_NOPROMPT = 1
    PERL_CPAN_REPORTER_CONFIG = /run/user/1023/cpansmoker/2016091406/cpanreporter_000_config.ini
    PERL_EXTUTILS_AUTOINSTALL = --defaultdeps
    PERL_PARALLEL_SMOKER = yes
    PERL_USE_UNSAFE_INC = 1
    SHELL = /bin/zsh
    TERM = screen
    TMPDIR = /run/user/1023/cpansmoker/2016091406

Perl special variables (and OS-specific diagnostics, for MSWin32):

    $^X = /bbbike/perl-5.16.3/bin/perl5.16.3
    $UID/$EUID = 1023 / 1023
    $GID = 1023 1023
    $EGID = 1023 1023

Perl module toolchain versions installed:

    Module              Have    
    ------------------- --------
    CPAN                2.14    
    CPAN::Meta          2.150010
    Cwd                 3.62    
    ExtUtils::CBuilder  0.280206
    ExtUtils::Command   7.24    
    ExtUtils::Install   1.58    
    ExtUtils::MakeMaker 7.24    
    ExtUtils::Manifest  1.70    
    ExtUtils::ParseXS   3.30    
    File::Spec          3.62    
    JSON                2.90    
    JSON::PP            2.27400 
    Module::Build       0.4220  
    Module::Signature   0.80    
    Parse::CPAN::Meta   2.150010
    Test::Harness       3.36    
    Test::More          1.302056
    YAML                1.15    
    YAML::Syck          1.29    
    version             0.9916  


--

Summary of my perl5 (revision 5 version 16 subversion 3) configuration:
   
  Platform:
    osname=linux, osvers=3.16.0-4-amd64, archname=x86_64-linux
    uname='linux eserte 3.16.0-4-amd64 #1 smp debian 3.16.7-ckt25-2 (2016-04-08) x86_64 gnulinux '
    config_args='-ds -e -Dprefix=/opt/perl-5.16.3 -Dcf_email=srezic@cpan.org'
    hint=recommended, useposix=true, d_sigaction=define
    useithreads=undef, usemultiplicity=undef
    useperlio=define, d_sfio=undef, uselargefiles=define, usesocks=undef
    use64bitint=define, use64bitall=define, uselongdouble=undef
    usemymalloc=n, bincompat5005=undef
  Compiler:
    cc='cc', ccflags ='-fno-strict-aliasing -pipe -fstack-protector -I/usr/local/include -D_LARGEFILE_SOURCE -D_FILE_OFFSET_BITS=64',
    optimize='-O2',
    cppflags='-fno-strict-aliasing -pipe -fstack-protector -I/usr/local/include'
    ccversion='', gccversion='4.9.2', gccosandvers=''
    intsize=4, longsize=8, ptrsize=8, doublesize=8, byteorder=12345678
    d_longlong=define, longlongsize=8, d_longdbl=define, longdblsize=16
    ivtype='long', ivsize=8, nvtype='double', nvsize=8, Off_t='off_t', lseeksize=8
    alignbytes=8, prototype=define
  Linker and Libraries:
    ld='cc', ldflags =' -fstack-protector -L/usr/local/lib'
    libpth=/usr/local/lib /lib/x86_64-linux-gnu /lib/../lib /usr/lib/x86_64-linux-gnu /usr/lib/../lib /lib /usr/lib
    libs=-lnsl -lgdbm -ldb -ldl -lm -lcrypt -lutil -lc -lgdbm_compat
    perllibs=-lnsl -ldl -lm -lcrypt -lutil -lc
    libc=libc-2.19.so, so=so, useshrplib=false, libperl=libperl.a
    gnulibc_version='2.19'
  Dynamic Linking:
    dlsrc=dl_dlopen.xs, dlext=so, d_dlsymun=undef, ccdlflags='-Wl,-E'
    cccdlflags='-fPIC', lddlflags='-shared -O2 -L/usr/local/lib -fstack-protector'


Characteristics of this binary (from libperl): 
  Compile-time options: HAS_TIMES PERLIO_LAYERS PERL_DONT_CREATE_GVSV
                        PERL_MALLOC_WRAP PERL_PRESERVE_IVUV USE_64_BIT_ALL
                        USE_64_BIT_INT USE_LARGE_FILES USE_LOCALE
                        USE_LOCALE_COLLATE USE_LOCALE_CTYPE
                        USE_LOCALE_NUMERIC USE_PERLIO USE_PERL_ATOF
  Locally applied patches:
	Devel::PatchPerl 1.42
  Built under linux
  Compiled at May  7 2016 11:11:48
  %ENV:
    PERL5LIB="/home/cpansand/.cpan/build/2016091406/Test-Simple-1.302056-8/blib/arch:/home/cpansand/.cpan/build/2016091406/Test-Simple-1.302056-8/blib/lib"
    PERL5OPT=""
    PERL5_CPANPLUS_IS_RUNNING="15715"
    PERL5_CPAN_IS_RUNNING="15715"
    PERL5_CPAN_IS_RUNNING_IN_RECURSION="15656,15715"
    PERLDOC="-MPod::Perldoc::ToTextOverstrike"
    PERL_BATCH="yes"
    PERL_CANARY_STABILITY_NOPROMPT="1"
    PERL_CPAN_REPORTER_CONFIG="/run/user/1023/cpansmoker/2016091406/cpanreporter_000_config.ini"
    PERL_EXTUTILS_AUTOINSTALL="--defaultdeps"
    PERL_PARALLEL_SMOKER="yes"
    PERL_USE_UNSAFE_INC="1"
  @INC:
    /home/cpansand/.cpan/build/2016091406/Test-Simple-1.302056-8/blib/arch
    /home/cpansand/.cpan/build/2016091406/Test-Simple-1.302056-8/blib/lib
    /opt/perl-5.16.3/lib/site_perl/5.16.3/x86_64-linux
    /opt/perl-5.16.3/lib/site_perl/5.16.3
    /opt/perl-5.16.3/lib/5.16.3/x86_64-linux
    /opt/perl-5.16.3/lib/5.16.3
    .