Back
From: metabase:user:320bfe00-2aae-11df-837a-5e0a49663a4f
Subject: PASS Math-Complex_C-0.08 v5.14.3 GNU/Linux
Date: 2013-05-12T12:09:37Z
This distribution has been tested as part of the CPAN Testers
project, supporting the Perl programming language. See
http://wiki.cpantesters.org/ for more information or email
questions to cpan-testers-discuss@perl.org
--
Dear Sisyphus,
This is a computer-generated report for Math-Complex_C-0.08
on perl 5.14.3, created by CPAN-Reporter-1.2009.
Thank you for uploading your work to CPAN. Congratulations!
All tests were successful.
Sections of this report:
* Tester comments
* Program output
* Prerequisites
* Environment and other context
------------------------------
TESTER COMMENTS
------------------------------
Additional comments from tester:
this report is from an automated smoke testing program
and was not reviewed by a human for accuracy
------------------------------
PROGRAM OUTPUT
------------------------------
Output from '/usr/bin/make test':
make[1]: Entering directory `/tmp/loop_over_bdir-7093-NG0rdV/Math-Complex_C-0.08-YqGuZn/Long'
make[1]: Leaving directory `/tmp/loop_over_bdir-7093-NG0rdV/Math-Complex_C-0.08-YqGuZn/Long'
PERL_DL_NONLAZY=1 /home/sand/src/perl/repoperls/installed-perls/perl/v5.14.3/9980/bin/perl "-MExtUtils::Command::MM" "-e" "test_harness(0, 'blib/lib', 'blib/arch')" t/*.t
FYI:
DBL_DIG = 15
LDBL_DIG = 18
t/aab_basic.t ........ ok
Argument passed to is_neg_zero function is not an NV - therefore can't be '-0' at t/aab_neg_zero.t line 18.
Argument passed to is_neg_zero function is not an NV - therefore can't be '-0' at t/aab_neg_zero.t line 19.
t/aab_neg_zero.t ..... ok
t/abs_arg.t .......... ok
t/absl_argl.t ........ ok
t/arith.t ............ ok
t/arithl.t ........... ok
t/bool.t ............. ok
t/booll.t ............ ok
t/conj_proj.t ........ ok
t/conjl_projl.t ...... ok
t/exp.t .............. ok
t/expl.t ............. ok
t/long_double.t ...... ok
t/nan_inf.t .......... ok
t/nanl_infl.t ........ ok
t/new.t .............. ok
t/newl.t ............. ok
t/overload_string.t .. ok
Test::Pod version: 1.48
Pod::Simple version: 3.26
t/pod.t .............. ok
t/pow.t .............. ok
t/powl.t ............. ok
t/signed_zero.t ...... ok
t/signed_zerol.t ..... ok
t/to_string.t ........ ok
t/trig.t ............. ok
t/trigl.t ............ ok
Configuration details:
NV size is 8
IV size is 8
double size is 8
long double size is 16
double _Complex size is 16
long double _Complex size is 32
t/type.t ............. ok
All tests successful.
Files=27, Tests=337, 1 wallclock secs ( 0.08 usr 0.04 sys + 0.34 cusr 0.08 csys = 0.54 CPU)
Result: PASS
make[1]: Entering directory `/tmp/loop_over_bdir-7093-NG0rdV/Math-Complex_C-0.08-YqGuZn/Long'
No tests defined for Math::Complex_C::Long extension.
make[1]: Leaving directory `/tmp/loop_over_bdir-7093-NG0rdV/Math-Complex_C-0.08-YqGuZn/Long'
------------------------------
PREREQUISITES
------------------------------
Prerequisite modules loaded:
build_requires:
Module Need Have
------------------- ---- -------
ExtUtils::MakeMaker 0 6.67_01
------------------------------
ENVIRONMENT AND OTHER CONTEXT
------------------------------
Environment variables:
AUTOMATED_TESTING = 1
LANG = en_US.UTF-8
LANGUAGE = en_US:en
PATH = /usr/lib/ccache:/home/sand/bin:/usr/local/bin:/usr/bin:/bin:/usr/bin/X11:/usr/games:/usr/local/perl/bin:/usr/X11/bin:/sbin:/usr/sbin
PERL5LIB =
PERL5OPT =
PERL5_CPANPLUS_IS_RUNNING = 7094
PERL5_CPAN_IS_RUNNING = 7094
PERL_MM_USE_DEFAULT = 1
SHELL = /usr/bin/zsh
TERM = screen
Perl special variables (and OS-specific diagnostics, for MSWin32):
$^X = /home/sand/src/perl/repoperls/installed-perls/perl/v5.14.3/9980/bin/perl
$UID/$EUID = 1005 / 1005
$GID = 1005 1005
$EGID = 1005 1005
Perl module toolchain versions installed:
Module Have
------------------- --------
CPAN 2.00
CPAN::Meta 2.130880
Cwd 3.40
ExtUtils::CBuilder 0.280205
ExtUtils::Command 1.17
ExtUtils::Install 1.56
ExtUtils::MakeMaker 6.67_01
ExtUtils::Manifest 1.60
ExtUtils::ParseXS 3.18_03
File::Spec 3.40
JSON 2.57
JSON::PP 2.27202
Module::Build 0.4005
Module::Signature 0.70
Parse::CPAN::Meta 1.4404
Test::Harness 3.28
Test::More 0.98_05
YAML 0.84
YAML::Syck 1.25
version 0.9902
--
Summary of my perl5 (revision 5 version 14 subversion 3) configuration:
Commit id: 3e467ae0bf0a6262b07746bbeba550202da6acf8
Platform:
osname=linux, osvers=3.2.0-4-amd64, archname=x86_64-linux-thread-multi
uname='linux k83 3.2.0-4-amd64 #1 smp debian 3.2.35-2 x86_64 gnulinux '
config_args='-Dprefix=/home/src/perl/repoperls/installed-perls/perl/v5.14.3/9980 -Dmyhostname=k83 -Dinstallusrbinperl=n -Uversiononly -Dusedevel -des -Ui_db -Duseithreads -Uuselongdouble -DDEBUGGING=-g'
hint=recommended, useposix=true, d_sigaction=define
useithreads=define, usemultiplicity=define
useperlio=define, d_sfio=undef, uselargefiles=define, usesocks=undef
use64bitint=define, use64bitall=define, uselongdouble=undef
usemymalloc=n, bincompat5005=undef
Compiler:
cc='cc', ccflags ='-D_REENTRANT -D_GNU_SOURCE -fno-strict-aliasing -pipe -fstack-protector -I/usr/local/include -D_LARGEFILE_SOURCE -D_FILE_OFFSET_BITS=64',
optimize='-O2 -g',
cppflags='-D_REENTRANT -D_GNU_SOURCE -fno-strict-aliasing -pipe -fstack-protector -I/usr/local/include'
ccversion='', gccversion='4.7.2', gccosandvers=''
intsize=4, longsize=8, ptrsize=8, doublesize=8, byteorder=12345678
d_longlong=define, longlongsize=8, d_longdbl=define, longdblsize=16
ivtype='long', ivsize=8, nvtype='double', nvsize=8, Off_t='off_t', lseeksize=8
alignbytes=8, prototype=define
Linker and Libraries:
ld='cc', ldflags =' -fstack-protector -L/usr/local/lib'
libpth=/usr/local/lib /lib/x86_64-linux-gnu /lib/../lib /usr/lib/x86_64-linux-gnu /usr/lib/../lib /lib /usr/lib
libs=-lnsl -ldb -ldl -lm -lcrypt -lutil -lpthread -lc
perllibs=-lnsl -ldl -lm -lcrypt -lutil -lpthread -lc
libc=, so=so, useshrplib=false, libperl=libperl.a
gnulibc_version='2.13'
Dynamic Linking:
dlsrc=dl_dlopen.xs, dlext=so, d_dlsymun=undef, ccdlflags='-Wl,-E'
cccdlflags='-fPIC', lddlflags='-shared -O2 -g -L/usr/local/lib -fstack-protector'
Characteristics of this binary (from libperl):
Compile-time options: MULTIPLICITY PERL_DONT_CREATE_GVSV
PERL_IMPLICIT_CONTEXT PERL_MALLOC_WRAP
PERL_PRESERVE_IVUV PERL_USE_DEVEL USE_64_BIT_ALL
USE_64_BIT_INT USE_ITHREADS USE_LARGE_FILES
USE_PERLIO USE_PERL_ATOF USE_REENTRANT_API
Built under linux
Compiled at Jan 1 2013 18:55:47
%ENV:
PERL5LIB=""
PERL5OPT=""
PERL5_CPANPLUS_IS_RUNNING="7094"
PERL5_CPAN_IS_RUNNING="7094"
PERL_MM_USE_DEFAULT="1"
@INC:
/home/src/perl/repoperls/installed-perls/perl/v5.14.3/9980/lib/site_perl/5.14.3/x86_64-linux-thread-multi
/home/src/perl/repoperls/installed-perls/perl/v5.14.3/9980/lib/site_perl/5.14.3
/home/src/perl/repoperls/installed-perls/perl/v5.14.3/9980/lib/5.14.3/x86_64-linux-thread-multi
/home/src/perl/repoperls/installed-perls/perl/v5.14.3/9980/lib/5.14.3
.