Report for Math-Complex-1.57

Back
From: metabase:user:310f12da-2aae-11df-837a-5e0a49663a4f
Subject: PASS Math-Complex-1.57 v5.12.1 Windows (Cygwin)
Date: 2011-06-02T16:32:26Z

This distribution has been tested as part of the CPAN Testers
project, supporting the Perl programming language.  See
http://wiki.cpantesters.org/ for more information or email
questions to cpan-testers-discuss@perl.org


--
Dear Andrew Main (Zefram),

This is a computer-generated report for Math-Complex-1.57
on perl 5.12.1, created by CPAN-Reporter-1.1902.

Thank you for uploading your work to CPAN.  Congratulations!
All tests were successful.

Sections of this report:

    * Tester comments
    * Program output
    * Prerequisites
    * Environment and other context

------------------------------
TESTER COMMENTS
------------------------------

Additional comments from tester:

none provided

------------------------------
PROGRAM OUTPUT
------------------------------

Output from '/usr/bin/make test':

PERL_DL_NONLAZY=1 /usr/local/bin/perl5.12.1.exe "-MExtUtils::Command::MM" "-e" "test_harness(0, 'blib/lib', 'blib/arch')" t/*.t
t/Complex.t ....... ok
t/pod-coverage.t .. ok
t/pod.t ........... ok
t/Trig.t .......... ok
t/underbar.t ...... ok
All tests successful.
Files=5, Tests=1235,  5 wallclock secs ( 0.16 usr  0.14 sys +  2.29 cusr  0.79 csys =  3.38 CPU)
Result: PASS

------------------------------
PREREQUISITES
------------------------------

Prerequisite modules loaded:

requires:

    Module              Need Have
    ------------------- ---- ----
    Scalar::Util        1.11 1.23
    Test::More          0    0.98

configure_requires:

    Module              Need Have
    ------------------- ---- ----
    ExtUtils::MakeMaker 0    6.56


------------------------------
ENVIRONMENT AND OTHER CONTEXT
------------------------------

Environment variables:

    COMSPEC = C:\WINDOWS\system32\cmd.exe
    LANG = C.UTF-8
    NUMBER_OF_PROCESSORS = 2
    PATH = /usr/local/bin:/usr/bin:/usr/local/bin:/usr/bin:/cygdrive/c/Program Files/VMware/VMware vSphere CLI/Perl/site/bin:/cygdrive/c/Program Files/VMware/VMware vSphere CLI/Perl/bin:/cygdrive/c/Program Files/Common Files/Microsoft Shared/Windows Live:/cygdrive/c/Program Files/Common Files/SIL:/cygdrive/c/Program Files/SIL/FieldWorks:/cygdrive/c/Program Files/Windows Resource Kits/Tools:/cygdrive/c/WINDOWS/system32:/cygdrive/c/WINDOWS:/cygdrive/c/WINDOWS/System32/Wbem:/cygdrive/c/Program Files/NTRU Cryptosystems/NTRU TCG Software Stack/bin:/cygdrive/c/Program Files/Wave Systems Corp/Gemalto/Access Client/v5:/cygdrive/c/Program Files/Gemplus/GemSafe Libraries/BIN:/cygdrive/c/Program Files/Hummingbird/Connectivity/11.00/Accessories:/cygdrive/c/Program Files/Common Files/Roxio Shared/DLLShared:/cygdrive/c/Program Files/Common Files/Roxio Shared/DLLShared:/cygdrive/c/Program Files/Common Files/Roxio Shared/10.0/DLLShared:/cygdrive/c/Program Files/TortoiseSVN/bin:/cygdrive/c/Program Files/SlikSvn/bin:/cygdrive/c/WINDOWS/system32/WindowsPowerShell/v1.0:/cygdrive/c/Program Files/Enterprise Vault/EVClient:/cygdrive/c/Program Files/VMware/VMware OVF Tool:/cygdrive/c/Program Files/QuickTime/QTSystem:/cygdrive/c/Program Files/Common Files/Microsoft Shared/Windows Live:/usr/lib/lapack
    PERL5LIB = 
    PERL5OPT = 
    PERL5_CPANPLUS_IS_RUNNING = 4080
    PERL5_CPAN_IS_RUNNING = 4080
    PROCESSOR_IDENTIFIER = x86 Family 6 Model 15 Stepping 11, GenuineIntel
    TEMP = /tmp
    TERM = xterm

Perl special variables (and OS-specific diagnostics, for MSWin32):

    $^X = /usr/local/bin/perl5.12.1
    $UID/$EUID = 23227 / 23227
    $GID = 10513 0 544 545 10513
    $EGID = 10513 0 544 545 10513

Perl module toolchain versions installed:

    Module              Have    
    ------------------- --------
    CPAN                1.9600  
    Cwd                 3.33    
    ExtUtils::CBuilder  0.280202
    ExtUtils::Command   1.17    
    ExtUtils::Install   1.55    
    ExtUtils::MakeMaker 6.56    
    ExtUtils::Manifest  1.58    
    ExtUtils::ParseXS   2.2206  
    File::Spec          3.33    
    Module::Build       0.3800  
    Module::Signature   0.66    
    Test::Harness       3.23    
    Test::More          0.98    
    YAML                0.72    
    YAML::Syck          n/a     
    version             0.88    


--

Summary of my perl5 (revision 5 version 12 subversion 1) configuration:
   
  Platform:
    osname=cygwin, osvers=1.7.1(0.21853), archname=cygwin-thread-multi-64int
    uname='cygwin_nt-5.1 bminton-xp 1.7.1(0.21853) 2009-12-07 11:48 i686 cygwin '
    config_args=''
    hint=recommended, useposix=true, d_sigaction=define
    useithreads=define, usemultiplicity=define
    useperlio=define, d_sfio=undef, uselargefiles=define, usesocks=undef
    use64bitint=define, use64bitall=undef, uselongdouble=undef
    usemymalloc=y, bincompat5005=undef
  Compiler:
    cc='gcc', ccflags ='-DPERL_USE_SAFE_PUTENV -U__STRICT_ANSI__ -fno-strict-aliasing -pipe -fstack-protector',
    optimize='-O3',
    cppflags='-DPERL_USE_SAFE_PUTENV -U__STRICT_ANSI__ -fno-strict-aliasing -pipe -fstack-protector'
    ccversion='', gccversion='4.3.4 20090804 (release) 1', gccosandvers=''
    intsize=4, longsize=4, ptrsize=4, doublesize=8, byteorder=12345678
    d_longlong=define, longlongsize=8, d_longdbl=define, longdblsize=12
    ivtype='long long', ivsize=8, nvtype='double', nvsize=8, Off_t='off_t', lseeksize=8
    alignbytes=8, prototype=define
  Linker and Libraries:
    ld='g++', ldflags =' -Wl,--enable-auto-import -Wl,--export-all-symbols -Wl,--stack,8388608 -Wl,--enable-auto-image-base -fstack-protector -L/usr/local/lib'
    libpth=/usr/local/lib /usr/lib /lib
    libs=-lgdbm -ldb -ldl -lcrypt -lgdbm_compat
    perllibs=-ldl -lcrypt
    libc=, so=dll, useshrplib=true, libperl=cygperl5_12_1.dll
    gnulibc_version=''
  Dynamic Linking:
    dlsrc=dl_dlopen.xs, dlext=dll, d_dlsymun=undef, ccdlflags=' '
    cccdlflags=' ', lddlflags=' --shared  -Wl,--enable-auto-import -Wl,--export-all-symbols -Wl,--stack,8388608 -Wl,--enable-auto-image-base -L/usr/local/lib -fstack-protector'


Characteristics of this binary (from libperl): 
  Compile-time options: MULTIPLICITY MYMALLOC PERL_DONT_CREATE_GVSV
                        PERL_IMPLICIT_CONTEXT PERL_USE_SAFE_PUTENV
                        USE_64_BIT_INT USE_ITHREADS USE_LARGE_FILES
                        USE_PERLIO USE_PERL_ATOF USE_REENTRANT_API
  Built under cygwin
  Compiled at Jun 23 2010 13:42:34
  %ENV:
    PERL5LIB=""
    PERL5OPT=""
    PERL5_CPANPLUS_IS_RUNNING="4080"
    PERL5_CPAN_IS_RUNNING="4080"
    CYGWIN=""
  @INC:
    /usr/local/lib/perl5/site_perl/5.12.1/cygwin-thread-multi-64int
    /usr/local/lib/perl5/site_perl/5.12.1
    /usr/local/lib/perl5/5.12.1/cygwin-thread-multi-64int
    /usr/local/lib/perl5/5.12.1
    .