Report for Class-Accessor-Grouped-0.10003

Back
From: metabase:user:30f4dfbe-2aae-11df-837a-5e0a49663a4f
Subject: PASS Class-Accessor-Grouped-0.10003 v5.10.1 Haiku
Date: 2011-08-31T23:41:58Z

This distribution has been tested as part of the CPAN Testers
project, supporting the Perl programming language.  See
http://wiki.cpantesters.org/ for more information or email
questions to cpan-testers-discuss@perl.org


--
Dear Arthur Axel 'fREW' Schmidt,

This is a computer-generated report for Class-Accessor-Grouped-0.10003
on perl 5.10.1, created by CPAN-Reporter-1.1902.

Thank you for uploading your work to CPAN.  Congratulations!
All tests were successful.

Sections of this report:

    * Tester comments
    * Program output
    * Prerequisites
    * Environment and other context

------------------------------
TESTER COMMENTS
------------------------------

Additional comments from tester:

this report is from an automated smoke testing program
and was not reviewed by a human for accuracy

------------------------------
PROGRAM OUTPUT
------------------------------

Output from '/bin/make test':

/boot/common/bin/perl "-MExtUtils::Command::MM" "-e" "test_harness(0, 'inc', 'blib/lib', 'blib/arch')" t/accessors.t t/accessors_pp.t t/accessors_ro.t t/accessors_wo.t t/accessors_xs.t t/accessors_xs_cachedwarn.t t/basic.t t/component.t t/inherited.t t/manifest.t t/pod_coverage.t t/pod_syntax.t t/strict.t t/style_no_tabs.t t/warnings.t
t/accessors.t ................ ok
t/accessors_pp.t ............. skipped: Devel::Hide required for this test in presence of Sub::Name
t/accessors_ro.t ............. ok
t/accessors_wo.t ............. ok
t/accessors_xs.t ............. ok
t/accessors_xs_cachedwarn.t .. ok
t/basic.t .................... ok
t/component.t ................ ok
t/inherited.t ................ ok
t/manifest.t ................. skipped: set TEST_AUTHOR to enable this test
t/pod_coverage.t ............. skipped: set TEST_AUTHOR to enable this test
t/pod_syntax.t ............... skipped: set TEST_AUTHOR to enable this test
t/strict.t ................... skipped: set TEST_AUTHOR to enable this test
t/style_no_tabs.t ............ skipped: set TEST_AUTHOR to enable this test
t/warnings.t ................. skipped: set TEST_AUTHOR to enable this test
All tests successful.
Files=15, Tests=262, 10 wallclock secs ( 0.30 usr  1.68 sys +  2.02 cusr  5.39 csys =  9.39 CPU)
Result: PASS

------------------------------
PREREQUISITES
------------------------------

Prerequisite modules loaded:

requires:

    Module              Need Have   
    ------------------- ---- -------
    Carp                0    1.11   
    Class::Inspector    0    1.25   
    Class::XSAccessor   1.11 1.11   
    ExtUtils::MakeMaker 6.42 6.55_02
    Scalar::Util        0    1.21   
    Sub::Name           0.05 0.05   
    Test::Exception     0.31 0.31   
    Test::More          0.94 0.98   

configure_requires:

    Module              Need Have   
    ------------------- ---- -------
    ExtUtils::MakeMaker 6.42 6.55_02


------------------------------
ENVIRONMENT AND OTHER CONTEXT
------------------------------

Environment variables:

    AUTOMATED_TESTING = 1
    PATH = /boot/home/perl5/perlbrew/bin:.:/boot/home/config/bin:/boot/common/bin:/bin:/boot/apps:/boot/preferences:/boot/system/apps:/boot/system/preferences:/boot/develop/tools/gnupro/bin
    PATH_WITHOUT_PERLBREW = .:/boot/home/config/bin:/boot/common/bin:/bin:/boot/apps:/boot/preferences:/boot/system/apps:/boot/system/preferences:/boot/develop/tools/gnupro/bin
    PERL5LIB = /boot/home/.cpan/build/Class-XSAccessor-1.11-vT_N5j/blib/arch:/boot/home/.cpan/build/Class-XSAccessor-1.11-vT_N5j/blib/lib:/boot/home/.cpan/build/Test-Simple-0.98-nmJ3DE/blib/arch:/boot/home/.cpan/build/Test-Simple-0.98-nmJ3DE/blib/lib:/boot/home/.cpan/build/Config-Any-0.23-wu_b2K/blib/arch:/boot/home/.cpan/build/Config-Any-0.23-wu_b2K/blib/lib:/boot/home/.cpan/build/Data-Dumper-Concise-2.020-NlpWhL/blib/arch:/boot/home/.cpan/build/Data-Dumper-Concise-2.020-NlpWhL/blib/lib
    PERL5OPT = 
    PERL5_CPANPLUS_IS_RUNNING = 3520
    PERL5_CPAN_IS_RUNNING = 3520
    PERL5_CPAN_IS_RUNNING_IN_RECURSION = 198,3520
    PERLBREW_HOME = /boot/home/.perlbrew
    PERLBREW_PATH = /boot/home/perl5/perlbrew/bin
    PERLBREW_ROOT = /boot/home/perl5/perlbrew
    PERLBREW_VERSION = 0.27
    PERL_CR_SMOKER_CURRENT = DBIx-Class-Schema-Critic-0.014
    PERL_EXTUTILS_AUTOINSTALL = --defaultdeps
    PERL_MM_USE_DEFAULT = 1
    SHELL = /bin/bash
    TERM = xterm

Perl special variables (and OS-specific diagnostics, for MSWin32):

    $^X = /boot/common/bin/perl
    $UID/$EUID = 0 / 0
    $GID = 0 0
    $EGID = 0 0

Perl module toolchain versions installed:

    Module              Have    
    ------------------- --------
    CPAN                1.9402  
    Cwd                 3.30    
    ExtUtils::CBuilder  0.280202
    ExtUtils::Command   1.16    
    ExtUtils::Install   1.54    
    ExtUtils::MakeMaker 6.55_02 
    ExtUtils::Manifest  1.56    
    ExtUtils::ParseXS   2.2002  
    File::Spec          3.33    
    Module::Build       0.3800  
    Module::Signature   n/a     
    Test::Harness       3.17    
    Test::More          0.98    
    YAML                0.73    
    YAML::Syck          1.17    
    version             0.88    


--

Summary of my perl5 (revision 5 version 10 subversion 1) configuration:
   
  Platform:
    osname=haiku, osvers=1, archname=BePC-haiku
    uname='haiku shredder 1 r36447 apr 24 2010 08:48:06 bepc haiku '
    config_args='-Dcf_email=zooey@hirschkaefer.de -Uusenm -de'
    hint=recommended, useposix=true, d_sigaction=define
    useithreads=undef, usemultiplicity=undef
    useperlio=define, d_sfio=undef, uselargefiles=define, usesocks=undef
    use64bitint=undef, use64bitall=undef, uselongdouble=undef
    usemymalloc=n, bincompat5005=undef
  Compiler:
    cc='gcc', ccflags ='-fno-strict-aliasing -pipe',
    optimize='-O',
    cppflags='-fno-strict-aliasing -pipe'
    ccversion='', gccversion='2.95.3-haiku-100420', gccosandvers=''
    intsize=4, longsize=4, ptrsize=4, doublesize=8, byteorder=1234
    d_longlong=define, longlongsize=8, d_longdbl=define, longdblsize=12
    ivtype='long', ivsize=4, nvtype='double', nvsize=8, Off_t='off_t', lseeksize=8
    alignbytes=4, prototype=define
  Linker and Libraries:
    ld='gcc', ldflags =''
    libpth=/boot/home/config/lib /boot/common/lib /system/lib
    libs=-lnetwork
    perllibs=-lnetwork
    libc=/system/lib/libroot.so, so=so, useshrplib=true, libperl=libperl.so
    gnulibc_version=''
  Dynamic Linking:
    dlsrc=dl_dlopen.xs, dlext=so, d_dlsymun=undef, ccdlflags=' '
    cccdlflags='-fpic', lddlflags='-shared'


Characteristics of this binary (from libperl): 
  Compile-time options: PERL_DONT_CREATE_GVSV USE_LARGE_FILES USE_PERLIO
  Built under haiku
  Compiled at Apr 25 2010 03:20:45
  %ENV:
    PERL5LIB="/boot/home/.cpan/build/Class-XSAccessor-1.11-vT_N5j/blib/arch:/boot/home/.cpan/build/Class-XSAccessor-1.11-vT_N5j/blib/lib:/boot/home/.cpan/build/Test-Simple-0.98-nmJ3DE/blib/arch:/boot/home/.cpan/build/Test-Simple-0.98-nmJ3DE/blib/lib:/boot/home/.cpan/build/Config-Any-0.23-wu_b2K/blib/arch:/boot/home/.cpan/build/Config-Any-0.23-wu_b2K/blib/lib:/boot/home/.cpan/build/Data-Dumper-Concise-2.020-NlpWhL/blib/arch:/boot/home/.cpan/build/Data-Dumper-Concise-2.020-NlpWhL/blib/lib"
    PERL5OPT=""
    PERL5_CPANPLUS_IS_RUNNING="3520"
    PERL5_CPAN_IS_RUNNING="3520"
    PERL5_CPAN_IS_RUNNING_IN_RECURSION="198,3520"
    PERLBREW_HOME="/boot/home/.perlbrew"
    PERLBREW_PATH="/boot/home/perl5/perlbrew/bin"
    PERLBREW_ROOT="/boot/home/perl5/perlbrew"
    PERLBREW_VERSION="0.27"
    PERL_CR_SMOKER_CURRENT="DBIx-Class-Schema-Critic-0.014"
    PERL_EXTUTILS_AUTOINSTALL="--defaultdeps"
    PERL_MM_USE_DEFAULT="1"
  @INC:
    /boot/home/.cpan/build/Class-XSAccessor-1.11-vT_N5j/blib/arch
    /boot/home/.cpan/build/Class-XSAccessor-1.11-vT_N5j/blib/lib
    /boot/home/.cpan/build/Test-Simple-0.98-nmJ3DE/blib/arch
    /boot/home/.cpan/build/Test-Simple-0.98-nmJ3DE/blib/lib
    /boot/home/.cpan/build/Config-Any-0.23-wu_b2K/blib/arch
    /boot/home/.cpan/build/Config-Any-0.23-wu_b2K/blib/lib
    /boot/home/.cpan/build/Data-Dumper-Concise-2.020-NlpWhL/blib/arch
    /boot/home/.cpan/build/Data-Dumper-Concise-2.020-NlpWhL/blib/lib
    /boot/common/lib/perl5/5.10.1/BePC-haiku
    /boot/common/lib/perl5/5.10.1
    /boot/common/lib/perl5/site_perl/5.10.1/BePC-haiku
    /boot/common/lib/perl5/site_perl/5.10.1
    .