DateTime-Format-Strptime v1.76 Perl 5 v5.18.2 darwin-thread-multi-2level

Status
Pass
From
Gintautas Grigelionis
Dist
DateTime-Format-Strptime v1.76
Platform
Perl 5 v5.18.2 darwin-thread-multi-2level
Date
2019-02-12 08:04:27
ID
d15919e2-2e9c-11e9-b219-fb0a12d45abb
This distribution has been tested as part of the CPAN Testers
project, supporting the Perl programming language.  See
http://wiki.cpantesters.org/ for more information or email
questions to cpan-testers-discuss@perl.org


--
Dear Dave Rolsky,

This is a computer-generated report for DateTime-Format-Strptime-1.76
on perl 5.18.2, created by CPAN-Reporter-1.2018.

Thank you for uploading your work to CPAN.  Congratulations!
All tests were successful.

Sections of this report:

    * Tester comments
    * Program output
    * Prerequisites
    * Environment and other context

------------------------------
TESTER COMMENTS
------------------------------

Additional comments from tester:

none provided

------------------------------
PROGRAM OUTPUT
------------------------------

Output from '/usr/bin/make test':

PERL_DL_NONLAZY=1 "/usr/bin/perl" "-MExtUtils::Command::MM" "-MTest::Harness" "-e" "undef *Test::Harness::Switches; test_harness(0, 'blib/lib', 'blib/arch')" t/*.t
# 
# Versions for all modules listed in MYMETA.json (including optional ones):
# 
# === Configure Requires ===
# 
#     Module              Want Have
#     ------------------- ---- ----
#     ExtUtils::MakeMaker  any 7.34
# 
# === Configure Suggests ===
# 
#     Module      Want Have
#     -------- ------- ----
#     JSON::PP 2.27300 4.00
# 
# === Build Requires ===
# 
#     Module              Want Have
#     ------------------- ---- ----
#     ExtUtils::MakeMaker  any 7.34
# 
# === Test Requires ===
# 
#     Module              Want     Have
#     ------------------- ---- --------
#     ExtUtils::MakeMaker  any     7.34
#     File::Spec           any     3.75
#     Test::Builder        any 1.302160
#     Test::Fatal          any    0.014
#     Test::More          0.96 1.302160
#     Test::Warnings       any    0.026
#     lib                  any     0.63
#     utf8                 any     1.10
# 
# === Test Recommends ===
# 
#     Module         Want     Have
#     ---------- -------- --------
#     CPAN::Meta 2.120900 2.150010
# 
# === Runtime Requires ===
# 
#     Module                     Want  Have
#     -------------------------- ---- -----
#     Carp                        any  1.50
#     DateTime                   1.00  1.50
#     DateTime::Locale           1.23  1.23
#     DateTime::Locale::Base      any  1.23
#     DateTime::Locale::FromData  any  1.23
#     DateTime::TimeZone         2.09  2.23
#     Exporter                    any  5.73
#     Params::ValidationCompiler  any  0.30
#     Specio                     0.33  0.43
#     Specio::Declare             any  0.43
#     Specio::Exporter            any  0.43
#     Specio::Library::Builtins   any  0.43
#     Specio::Library::String     any  0.43
#     Try::Tiny                   any  0.30
#     constant                    any  1.33
#     parent                      any 0.237
#     strict                      any  1.07
#     warnings                    any  1.18
# 
t/00-report-prereqs.t ... ok
t/basic.t ............... ok
Subroutine olson_version redefined at /Library/Perl/5.18/DateTime/TimeZone/america/new_york.pm line 2044, <DATA> line 1.
Subroutine has_dst_changes redefined at /Library/Perl/5.18/DateTime/TimeZone/america/new_york.pm line 2046, <DATA> line 1.
Subroutine _max_year redefined at /Library/Perl/5.18/DateTime/TimeZone/america/new_york.pm line 2048, <DATA> line 1.
Subroutine _new_instance redefined at /Library/Perl/5.18/DateTime/TimeZone/america/new_york.pm line 2050, <DATA> line 1.
Subroutine _last_offset redefined at /Library/Perl/5.18/DateTime/TimeZone/america/new_york.pm line 2054, <DATA> line 1.
Subroutine _last_observance redefined at /Library/Perl/5.18/DateTime/TimeZone/america/new_york.pm line 2092, <DATA> line 1.
Subroutine _rules redefined at /Library/Perl/5.18/DateTime/TimeZone/america/new_york.pm line 2119, <DATA> line 1.
Subroutine olson_version redefined at /Library/Perl/5.18/DateTime/TimeZone/amERicA/new_YORK.pm line 2044, <DATA> line 1.
Subroutine has_dst_changes redefined at /Library/Perl/5.18/DateTime/TimeZone/amERicA/new_YORK.pm line 2046, <DATA> line 1.
Subroutine _max_year redefined at /Library/Perl/5.18/DateTime/TimeZone/amERicA/new_YORK.pm line 2048, <DATA> line 1.
Subroutine _new_instance redefined at /Library/Perl/5.18/DateTime/TimeZone/amERicA/new_YORK.pm line 2050, <DATA> line 1.
Subroutine _last_offset redefined at /Library/Perl/5.18/DateTime/TimeZone/amERicA/new_YORK.pm line 2054, <DATA> line 1.
Subroutine _last_observance redefined at /Library/Perl/5.18/DateTime/TimeZone/amERicA/new_YORK.pm line 2092, <DATA> line 1.
Subroutine _rules redefined at /Library/Perl/5.18/DateTime/TimeZone/amERicA/new_YORK.pm line 2119, <DATA> line 1.
t/edge.t ................ ok
t/errors.t .............. ok
t/format-datetime.t ..... ok
t/format-with-locale.t .. ok
t/import.t .............. ok
t/locale-de.t ........... ok
t/locale-en.t ........... ok
t/locale-ga.t ........... ok
t/locale-pt.t ........... ok
t/locale-zh.t ........... ok
t/zones.t ............... ok
All tests successful.
Files=13, Tests=142,  5 wallclock secs ( 0.18 usr  0.05 sys +  4.26 cusr  0.50 csys =  4.99 CPU)
Result: PASS

------------------------------
PREREQUISITES
------------------------------

Prerequisite modules loaded:

requires:

    Module                     Need     Have    
    -------------------------- -------- --------
    Carp                       0        1.50    
    constant                   0        1.33    
    DateTime                   1.00     1.50    
    DateTime::Locale           1.23     1.23    
    DateTime::Locale::Base     0        1.23    
    DateTime::Locale::FromData 0        1.23    
    DateTime::TimeZone         2.09     2.23    
    Exporter                   0        5.73    
    Params::ValidationCompiler 0        0.30    
    parent                     0        0.237   
    Specio                     0.33     0.43    
    Specio::Declare            0        0.43    
    Specio::Exporter           0        0.43    
    Specio::Library::Builtins  0        0.43    
    Specio::Library::String    0        0.43    
    strict                     0        1.07    
    Try::Tiny                  0        0.30    
    warnings                   0        1.18    

build_requires:

    Module                     Need     Have    
    -------------------------- -------- --------
    ExtUtils::MakeMaker        0        7.34    
    File::Spec                 0        3.75    
    lib                        0        0.63    
    Test::Builder              0        1.302160
    Test::Fatal                0        0.014   
    Test::More                 0.96     1.302160
    Test::Warnings             0        0.026   
    utf8                       0        1.10    

configure_requires:

    Module                     Need     Have    
    -------------------------- -------- --------
    ExtUtils::MakeMaker        0        7.34    

opt_build_requires:

    Module                     Need     Have    
    -------------------------- -------- --------
    CPAN::Meta                 2.120900 2.150010


------------------------------
ENVIRONMENT AND OTHER CONTEXT
------------------------------

Environment variables:

    LC_CTYPE = UTF-8
    PATH = /usr/local/bin:/usr/bin:/bin:/usr/sbin:/sbin:/usr/local/MacGPG2/bin:/opt/X11/bin
    PERL5LIB = 
    PERL5OPT = 
    PERL5_CPANPLUS_IS_RUNNING = 18567
    PERL5_CPAN_IS_RUNNING = 18567
    SHELL = /bin/bash
    TERM = xterm-256color
    TMPDIR = /var/folders/c5/867l5h614bs44szg7g2t48fr0000gn/T/
    VERSIONER_PERL_PREFER_32_BIT = no
    VERSIONER_PERL_VERSION = 5.18

Perl special variables (and OS-specific diagnostics, for MSWin32):

    $^X = /usr/bin/perl
    $UID/$EUID = 501 / 501
    $GID = 20 20 401 12 61 79 80 81 98 402 33 100 204 250 395 398 399
    $EGID = 20 20 401 12 61 79 80 81 98 402 33 100 204 250 395 398 399

Perl module toolchain versions installed:

    Module              Have    
    ------------------- --------
    CPAN                2.10    
    CPAN::Meta          2.150010
    Cwd                 3.75    
    ExtUtils::CBuilder  0.280230
    ExtUtils::Command   7.34    
    ExtUtils::Install   2.14    
    ExtUtils::MakeMaker 7.34    
    ExtUtils::Manifest  1.71    
    ExtUtils::ParseXS   3.35    
    File::Spec          3.75    
    JSON                4.01    
    JSON::PP            4.00    
    Module::Build       0.4224  
    Module::Signature   0.83    
    Parse::CPAN::Meta   2.150010
    Test::Harness       3.42    
    Test::More          1.302160
    YAML                1.27    
    YAML::Syck          1.31    
    version             0.9924  


--

Summary of my perl5 (revision 5 version 18 subversion 2) configuration:
   
  Platform:
    osname=darwin, osvers=18.0, archname=darwin-thread-multi-2level
    uname='darwin osx337.sd.apple.com 18.0 darwin kernel version 17.0.0: fri may 4 10:33:38 pdt 2018; root:xnu-4570.1.46.100.2~1development_x86_64 x86_64 '
    config_args='-ds -e -Dprefix=/usr -Dccflags=-g  -pipe  -Dldflags= -Dman3ext=3pm -Duseithreads -Duseshrplib -Dinc_version_list=none -Dcc=cc'
    hint=recommended, useposix=true, d_sigaction=define
    useithreads=define, usemultiplicity=define
    useperlio=define, d_sfio=undef, uselargefiles=define, usesocks=undef
    use64bitint=define, use64bitall=define, uselongdouble=undef
    usemymalloc=n, bincompat5005=undef
  Compiler:
    cc='cc', ccflags =' -g -pipe -fno-common -DPERL_DARWIN -fno-strict-aliasing -fstack-protector',
    optimize='-Os',
    cppflags='-g -pipe -fno-common -DPERL_DARWIN -fno-strict-aliasing -fstack-protector'
    ccversion='', gccversion='4.2.1 Compatible Apple LLVM 10.0.0 (clang-1000.0.42)', gccosandvers=''
    intsize=4, longsize=8, ptrsize=8, doublesize=8, byteorder=12345678
    d_longlong=define, longlongsize=8, d_longdbl=define, longdblsize=16
    ivtype='long', ivsize=8, nvtype='double', nvsize=8, Off_t='off_t', lseeksize=8
    alignbytes=8, prototype=define
  Linker and Libraries:
    ld='cc', ldflags =' -fstack-protector'
    libpth=/usr/lib /usr/local/lib
    libs= 
    perllibs=
    libc=, so=dylib, useshrplib=true, libperl=libperl.dylib
    gnulibc_version=''
  Dynamic Linking:
    dlsrc=dl_dlopen.xs, dlext=bundle, d_dlsymun=undef, ccdlflags=' '
    cccdlflags=' ', lddlflags=' -bundle -undefined dynamic_lookup -fstack-protector'


Characteristics of this binary (from libperl): 
  Compile-time options: HAS_TIMES MULTIPLICITY PERLIO_LAYERS
                        PERL_DONT_CREATE_GVSV
                        PERL_HASH_FUNC_ONE_AT_A_TIME_HARD
                        PERL_IMPLICIT_CONTEXT PERL_MALLOC_WRAP
                        PERL_PRESERVE_IVUV PERL_SAWAMPERSAND USE_64_BIT_ALL
                        USE_64_BIT_INT USE_ITHREADS USE_LARGE_FILES
                        USE_LOCALE USE_LOCALE_COLLATE USE_LOCALE_CTYPE
                        USE_LOCALE_NUMERIC USE_PERLIO USE_PERL_ATOF
                        USE_REENTRANT_API
  Locally applied patches:
	/Library/Perl/Updates/<version> comes before system perl directories
	installprivlib and installarchlib points to the Updates directory
  Built under darwin
  Compiled at Aug 17 2018 17:29:08
  %ENV:
    PERL5LIB=""
    PERL5OPT=""
    PERL5_CPANPLUS_IS_RUNNING="18567"
    PERL5_CPAN_IS_RUNNING="18567"
  @INC:
    /Library/Perl/5.18/darwin-thread-multi-2level
    /Library/Perl/5.18
    /Network/Library/Perl/5.18/darwin-thread-multi-2level
    /Network/Library/Perl/5.18
    /Library/Perl/Updates/5.18.2/darwin-thread-multi-2level
    /Library/Perl/Updates/5.18.2
    /System/Library/Perl/5.18/darwin-thread-multi-2level
    /System/Library/Perl/5.18
    /System/Library/Perl/Extras/5.18/darwin-thread-multi-2level
    /System/Library/Perl/Extras/5.18
    .