Dist-Zilla-Plugin-CheckIssues v0.010 Perl 5 v5.24.0 i86pc-solaris-thread-multi

Status
Pass
From
Serguei Trouchelle (STRO)
Dist
Dist-Zilla-Plugin-CheckIssues v0.010
Platform
Perl 5 v5.24.0 i86pc-solaris-thread-multi
Date
2018-02-20 04:37:54
ID
d15a4dda-15f7-11e8-87ea-9266df030e9d
This distribution has been tested as part of the CPAN Testers
project, supporting the Perl programming language.  See
http://wiki.cpantesters.org/ for more information or email
questions to cpan-testers-discuss@perl.org


--
Dear Karen Etheridge,

This is a computer-generated report for Dist-Zilla-Plugin-CheckIssues-0.010
on perl 5.24.0, created by CPAN-Reporter-1.2018.

Thank you for uploading your work to CPAN.  Congratulations!
All tests were successful.

Sections of this report:

    * Tester comments
    * Program output
    * Prerequisites
    * Environment and other context

------------------------------
TESTER COMMENTS
------------------------------

Additional comments from tester:

this report is from an automated smoke testing program
and was not reviewed by a human for accuracy

------------------------------
PROGRAM OUTPUT
------------------------------

Output from '/usr/bin/make test':

PERL_DL_NONLAZY=1 "/home/stro/perl/5.24.0t/bin/perl" "-MExtUtils::Command::MM" "-MTest::Harness" "-e" "undef *Test::Harness::Switches; test_harness(0, 'blib/lib', 'blib/arch')" t/*.t
# 
# Versions for all modules listed in MYMETA.json (including optional ones):
# 
# === Configure Requires ===
# 
#     Module                       Want     Have
#     ------------------------ -------- --------
#     CPAN::Meta::Requirements 2.120620    2.140
#     ExtUtils::MakeMaker           any     7.30
#     Module::Metadata              any 1.000033
# 
# === Build Requires ===
# 
#     Module              Want Have
#     ------------------- ---- ----
#     ExtUtils::MakeMaker  any 7.30
# 
# === Test Requires ===
# 
#     Module                          Want     Have
#     ------------------------------- ---- --------
#     Dist::Zilla::App::Tester         any    6.008
#     Dist::Zilla::Role::MetaProvider  any    6.008
#     File::Spec                       any     3.63
#     File::pushd                      any    1.014
#     Module::Metadata                 any 1.000033
#     Moose::Util                      any   2.2009
#     Path::Tiny                       any    0.100
#     Test::DZil                       any    6.008
#     Test::Deep                       any    1.127
#     Test::Fatal                      any    0.014
#     Test::More                      0.88 1.302120
#     if                               any   0.0606
#     lib                              any     0.63
# 
# === Test Recommends ===
# 
#     Module         Want     Have
#     ---------- -------- --------
#     CPAN::Meta 2.120900 2.150005
# 
# === Runtime Requires ===
# 
#     Module                               Want     Have
#     -------------------------------- -------- --------
#     Dist::Zilla                      4.300039    6.008
#     Dist::Zilla::App                      any    6.008
#     Dist::Zilla::Role::BeforeRelease      any    6.008
#     Encode                                any     2.80
#     HTTP::Headers                         any     6.11
#     HTTP::Tiny                            any    0.070
#     JSON::MaybeXS                    1.001000 1.003010
#     List::Util                           1.33     1.49
#     Log::Dispatch                        2.49     2.62
#     Moose                                 any   2.2009
#     Term::ANSIColor                      3.00     4.04
#     namespace::autoclean                  any     0.28
#     strict                                any     1.11
#     warnings                              any     1.36
# 
# === Other Modules ===
# 
#     Module         Have
#     ------------- -----
#     App::Cmd      0.331
#     Log::Dispatch  2.62
#     Pod::Coverage  0.23
# 
t/00-report-prereqs.t .. ok
t/01-basic.t ........... ok
t/02-no-rt.t ........... ok
t/03-no-repo.t ......... ok
t/04-command.t ......... ok
t/zzz-check-breaks.t ... ok
All tests successful.
Files=6, Tests=19, 19 wallclock secs ( 0.04 usr  0.01 sys +  8.15 cusr  0.87 csys =  9.07 CPU)
Result: PASS

------------------------------
PREREQUISITES
------------------------------

Prerequisite modules loaded:

requires:

    Module                           Need     Have    
    -------------------------------- -------- --------
    Dist::Zilla                      4.300039 6.008   
    Dist::Zilla::App                 0        6.008   
    Dist::Zilla::Role::BeforeRelease 0        6.008   
    Encode                           0        2.80    
    HTTP::Headers                    0        6.11    
    HTTP::Tiny                       0        0.070   
    JSON::MaybeXS                    1.001000 1.003010
    List::Util                       1.33     1.49    
    Log::Dispatch                    2.49     2.62    
    Moose                            0        2.2009  
    namespace::autoclean             0        0.28    
    perl                             5.006    5.024000
    strict                           0        1.11    
    Term::ANSIColor                  3.00     4.04    
    warnings                         0        1.36    

build_requires:

    Module                           Need     Have    
    -------------------------------- -------- --------
    Dist::Zilla::App::Tester         0        6.008   
    Dist::Zilla::Role::MetaProvider  0        6.008   
    ExtUtils::MakeMaker              0        7.30    
    File::pushd                      0        1.014   
    File::Spec                       0        3.63    
    if                               0        0.0606  
    lib                              0        0.63    
    Module::Metadata                 0        1.000033
    Moose::Util                      0        2.2009  
    Path::Tiny                       0        0.100   
    Test::Deep                       0        1.127   
    Test::DZil                       0        6.008   
    Test::Fatal                      0        0.014   
    Test::More                       0.88     1.302120

configure_requires:

    Module                           Need     Have    
    -------------------------------- -------- --------
    CPAN::Meta::Requirements         2.120620 2.140   
    ExtUtils::MakeMaker              0        7.30    
    Module::Metadata                 0        1.000033
    perl                             5.006    5.024000

opt_build_requires:

    Module                           Need     Have    
    -------------------------------- -------- --------
    CPAN::Meta                       2.120900 2.150005


------------------------------
ENVIRONMENT AND OTHER CONTEXT
------------------------------

Environment variables:

    AUTOMATED_TESTING = 1
    LANG = en_US.UTF-8
    PATH = /usr/gnu/bin:/usr/bin:/usr/sbin:/sbin:/usr/sfw/bin:
    PERL5LIB = 
    PERL5OPT = 
    PERL5_CPANPLUS_IS_RUNNING = 28483
    PERL5_CPAN_IS_RUNNING = 28483
    PERL5_CPAN_IS_RUNNING_IN_RECURSION = 16696,28483
    PERL_CR_SMOKER_CURRENT = Dist-Zilla-PluginBundle-Author-SKIRMESS-0.032
    PERL_EXTUTILS_AUTOINSTALL = --defaultdeps
    PERL_MM_USE_DEFAULT = 1
    SHELL = /bin/bash
    TERM = xterm

Perl special variables (and OS-specific diagnostics, for MSWin32):

    $^X = /home/stro/perl/5.24.0t/bin/perl
    $UID/$EUID = 101 / 101
    $GID = 10 10
    $EGID = 10 10

Perl module toolchain versions installed:

    Module              Have    
    ------------------- --------
    CPAN                2.14    
    CPAN::Meta          2.150005
    Cwd                 3.63    
    ExtUtils::CBuilder  0.280225
    ExtUtils::Command   7.30    
    ExtUtils::Install   2.06    
    ExtUtils::MakeMaker 7.30    
    ExtUtils::Manifest  1.70    
    ExtUtils::ParseXS   3.31    
    File::Spec          3.63    
    JSON                2.97001 
    JSON::PP            2.97001 
    Module::Build       0.4224  
    Module::Signature   0.81    
    Parse::CPAN::Meta   1.4417  
    Test::Harness       3.38    
    Test::More          1.302120
    YAML                1.23    
    YAML::Syck          1.30    
    version             0.9916  


--

Summary of my perl5 (revision 5 version 24 subversion 0) configuration:
   
  Platform:
    osname=solaris, osvers=2.11, archname=i86pc-solaris-thread-multi
    uname='sunos vm-openindiana-001 5.11 illumos-2816291 i86pc i386 i86pc '
    config_args='-Dcc=gcc'
    hint=recommended, useposix=true, d_sigaction=define
    useithreads=define, usemultiplicity=define
    use64bitint=undef, use64bitall=undef, uselongdouble=undef
    usemymalloc=n, bincompat5005=undef
  Compiler:
    cc='gcc', ccflags ='-D_REENTRANT -fno-strict-aliasing -pipe -I/usr/gnu/include -D_LARGEFILE_SOURCE -D_FILE_OFFSET_BITS=64 -DPERL_USE_SAFE_PUTENV',
    optimize='-O',
    cppflags='-D_REENTRANT -fno-strict-aliasing -pipe -I/usr/gnu/include'
    ccversion='', gccversion='3.4.3 (csl-sol210-3_4-20050802)', gccosandvers='solaris2.11'
    intsize=4, longsize=4, ptrsize=4, doublesize=8, byteorder=1234, doublekind=3
    d_longlong=define, longlongsize=8, d_longdbl=define, longdblsize=12, longdblkind=3
    ivtype='long', ivsize=4, nvtype='double', nvsize=8, Off_t='off_t', lseeksize=8
    alignbytes=4, prototype=define
  Linker and Libraries:
    ld='gcc', ldflags =' -L/usr/gnu/lib '
    libpth=/usr/gcc/3.4/lib /usr/lib /usr/gnu/lib /usr/ccs/lib
    libs=-lpthread -lsocket -lnsl -lgdbm -ldb -ldl -lm -lc
    perllibs=-lpthread -lsocket -lnsl -ldl -lm -lc
    libc=/lib/libc.so, so=so, useshrplib=true, libperl=libperl.so
    gnulibc_version=''
  Dynamic Linking:
    dlsrc=dl_dlopen.xs, dlext=so, d_dlsymun=undef, ccdlflags='  -R /home/stro/perl/5.24.0t/lib/5.24.0/i86pc-solaris-thread-multi/CORE'
    cccdlflags='-fPIC', lddlflags='-shared -L/usr/gnu/lib'


Characteristics of this binary (from libperl): 
  Compile-time options: HAS_TIMES MULTIPLICITY PERLIO_LAYERS
                        PERL_COPY_ON_WRITE PERL_DONT_CREATE_GVSV
                        PERL_HASH_FUNC_ONE_AT_A_TIME_HARD
                        PERL_IMPLICIT_CONTEXT PERL_MALLOC_WRAP
                        PERL_PRESERVE_IVUV PERL_USE_SAFE_PUTENV USE_ITHREADS
                        USE_LARGE_FILES USE_LOCALE USE_LOCALE_COLLATE
                        USE_LOCALE_CTYPE USE_LOCALE_NUMERIC USE_LOCALE_TIME
                        USE_PERLIO USE_PERL_ATOF USE_REENTRANT_API
  Built under solaris
  Compiled at Dec 23 2016 13:44:07
  %ENV:
    PERL5LIB=""
    PERL5OPT=""
    PERL5_CPANPLUS_IS_RUNNING="28483"
    PERL5_CPAN_IS_RUNNING="28483"
    PERL5_CPAN_IS_RUNNING_IN_RECURSION="16696,28483"
    PERL_CR_SMOKER_CURRENT="Dist-Zilla-PluginBundle-Author-SKIRMESS-0.032"
    PERL_EXTUTILS_AUTOINSTALL="--defaultdeps"
    PERL_MM_USE_DEFAULT="1"
  @INC:
    /home/stro/perl/5.24.0t/lib/site_perl/5.24.0/i86pc-solaris-thread-multi
    /home/stro/perl/5.24.0t/lib/site_perl/5.24.0
    /home/stro/perl/5.24.0t/lib/5.24.0/i86pc-solaris-thread-multi
    /home/stro/perl/5.24.0t/lib/5.24.0
    .