Report for Git-Repository-Plugin-AUTOLOAD-1.003

Back
From: metabase:user:320bfe00-2aae-11df-837a-5e0a49663a4f
Subject: PASS Git-Repository-Plugin-AUTOLOAD-1.003 v5.23.8 GNU/Linux
Date: 2016-04-06T18:38:55Z

This distribution has been tested as part of the CPAN Testers
project, supporting the Perl programming language.  See
http://wiki.cpantesters.org/ for more information or email
questions to cpan-testers-discuss@perl.org


--
Dear Philippe Bruhat (BooK),

This is a computer-generated report for Git-Repository-Plugin-AUTOLOAD-1.003
on perl 5.23.8, created by CPAN-Reporter-1.2017.

Thank you for uploading your work to CPAN.  Congratulations!
All tests were successful.

Sections of this report:

    * Tester comments
    * Program output
    * Prerequisites
    * Environment and other context

------------------------------
TESTER COMMENTS
------------------------------

Additional comments from tester:

this report is from an automated smoke testing program
and was not reviewed by a human for accuracy

------------------------------
PROGRAM OUTPUT
------------------------------

Output from '/usr/bin/make test':

PERL_DL_NONLAZY=1 "/home/sand/src/perl/repoperls/installed-perls/perl/v5.23.8/8d81/bin/perl" "-MExtUtils::Command::MM" "-MTest::Harness" "-e" "undef *Test::Harness::Switches; test_harness(0, 'blib/lib', 'blib/arch')" t/*.t
t/00-compile.t ........... ok
# 
# Versions for all modules listed in MYMETA.json (including optional ones):
# 
# === Configure Requires ===
# 
#     Module              Want    Have
#     ------------------- ---- -------
#     ExtUtils::MakeMaker  any 7.10_01
# 
# === Build Requires ===
# 
#     Module              Want    Have
#     ------------------- ---- -------
#     ExtUtils::MakeMaker  any 7.10_01
# 
# === Test Requires ===
# 
#     Module                 Want         Have
#     --------------------- ----- ------------
#     ExtUtils::MakeMaker     any      7.10_01
#     File::Spec              any         3.63
#     File::Spec::Functions   any         3.63
#     File::Temp              any       0.2304
#     Git::Repository       1.309        1.318
#     IO::Handle              any         1.35
#     IPC::Open3              any         1.20
#     Test::Git               any        1.318
#     Test::More              any 1.302013_016
#     Test::Requires::Git   1.005        1.005
#     blib                   1.01         1.06
# 
# === Test Recommends ===
# 
#     Module         Want     Have
#     ---------- -------- --------
#     CPAN::Meta 2.120900 2.150005
# 
# === Runtime Requires ===
# 
#     Module                   Want  Have
#     ----------------------- ----- -----
#     Git::Repository         1.309 1.318
#     Git::Repository::Plugin   any 1.318
#     strict                    any  1.10
#     warnings                  any  1.35
# 
t/00-report-prereqs.t .... ok
t/author-pod-coverage.t .. skipped: these tests are for testing by the author
t/author-pod-syntax.t .... skipped: these tests are for testing by the author
Cloning into 'kbi_mVqJlI'...
done. at /tmp/loop_over_bdir-26676-w3R6_p/Git-Repository-Plugin-AUTOLOAD-1.003-k8Eo7V/blib/lib/Git/Repository/Plugin/AUTOLOAD.pm line 22.
t/autoload.t ............. ok
t/release-distmeta.t ..... skipped: these tests are for release candidate testing
All tests successful.
Files=6, Tests=11,  2 wallclock secs ( 0.04 usr  0.03 sys +  0.58 cusr  0.42 csys =  1.07 CPU)
Result: PASS

------------------------------
PREREQUISITES
------------------------------

Prerequisite modules loaded:

requires:

    Module                  Need  Have        
    ----------------------- ----- ------------
    Git::Repository         1.309 1.318       
    Git::Repository::Plugin 0     1.318       
    perl                    5.006 5.023008    
    strict                  0     1.10        
    warnings                0     1.35        

build_requires:

    Module                  Need  Have        
    ----------------------- ----- ------------
    blib                    1.01  1.06        
    ExtUtils::MakeMaker     0     7.10_01     
    File::Spec              0     3.63        
    File::Spec::Functions   0     3.63        
    File::Temp              0     0.2304      
    Git::Repository         1.309 1.318       
    IO::Handle              0     1.35        
    IPC::Open3              0     1.20        
    Test::Git               0     1.318       
    Test::More              0     1.302013_016
    Test::Requires::Git     1.005 1.005       

configure_requires:

    Module                  Need  Have        
    ----------------------- ----- ------------
    ExtUtils::MakeMaker     0     7.10_01     


------------------------------
ENVIRONMENT AND OTHER CONTEXT
------------------------------

Environment variables:

    AUTOMATED_TESTING = 1
    LANG = en_US.UTF-8
    LANGUAGE = en_US:en
    PATH = /usr/lib/ccache:/home/sand/bin:/usr/local/bin:/usr/lib/ccache:/usr/bin:/bin:/usr/games:/usr/local/perl/bin:/usr/X11/bin:/sbin:/usr/sbin
    PERL5LIB = 
    PERL5OPT = 
    PERL5_CPANPLUS_IS_RUNNING = 26678
    PERL5_CPAN_IS_RUNNING = 26678
    PERL_CANARY_STABILITY_NOPROMPT = 1
    PERL_MM_USE_DEFAULT = 1
    SHELL = /usr/bin/zsh
    TERM = screen

Perl special variables (and OS-specific diagnostics, for MSWin32):

    $^X = /home/sand/src/perl/repoperls/installed-perls/perl/v5.23.8/8d81/bin/perl
    $UID/$EUID = 1005 / 1005
    $GID = 1005 1005
    $EGID = 1005 1005

Perl module toolchain versions installed:

    Module              Have        
    ------------------- ------------
    CPAN                2.11        
    CPAN::Meta          2.150005    
    Cwd                 3.63        
    ExtUtils::CBuilder  0.280225    
    ExtUtils::Command   7.10        
    ExtUtils::Install   2.04        
    ExtUtils::MakeMaker 7.10_01     
    ExtUtils::Manifest  1.70        
    ExtUtils::ParseXS   3.31        
    File::Spec          3.63        
    JSON                2.90        
    JSON::PP            2.27300     
    Module::Build       0.42_17     
    Module::Signature   0.79        
    Parse::CPAN::Meta   1.4417      
    Test::Harness       3.36        
    Test::More          1.302013_016
    YAML                1.15        
    YAML::Syck          1.29        
    version             0.9916      


--

Summary of my perl5 (revision 5 version 23 subversion 8) configuration:
  Commit id: 0d316f7c6263594f0d3ceabf61cf4089beadc4f5
  Platform:
    osname=linux, osvers=4.3.0-1-amd64, archname=x86_64-linux-ld
    uname='linux k83 4.3.0-1-amd64 #1 smp debian 4.3.3-7 (2016-01-19) x86_64 gnulinux '
    config_args='-Dprefix=/home/sand/src/perl/repoperls/installed-perls/perl/v5.23.8/8d81 -Dmyhostname=k83 -Dinstallusrbinperl=n -Uversiononly -Dusedevel -des -Ui_db -Dlibswanted=cl pthread socket inet nsl gdbm dbm malloc dl ld sun m crypt sec util c cposix posix ucb BSD gdbm_compat -Uuseithreads -Duselongdouble'
    hint=recommended, useposix=true, d_sigaction=define
    useithreads=undef, usemultiplicity=undef
    use64bitint=define, use64bitall=define, uselongdouble=define
    usemymalloc=n, bincompat5005=undef
  Compiler:
    cc='cc', ccflags ='-fwrapv -fno-strict-aliasing -pipe -fstack-protector-strong -I/usr/local/include -D_LARGEFILE_SOURCE -D_FILE_OFFSET_BITS=64 -D_FORTIFY_SOURCE=2',
    optimize='-O2',
    cppflags='-fwrapv -fno-strict-aliasing -pipe -fstack-protector-strong -I/usr/local/include'
    ccversion='', gccversion='5.3.1 20160121', gccosandvers=''
    intsize=4, longsize=8, ptrsize=8, doublesize=8, byteorder=12345678, doublekind=3
    d_longlong=define, longlongsize=8, d_longdbl=define, longdblsize=16, longdblkind=3
    ivtype='long', ivsize=8, nvtype='long double', nvsize=16, Off_t='off_t', lseeksize=8
    alignbytes=16, prototype=define
  Linker and Libraries:
    ld='cc', ldflags =' -fstack-protector-strong -L/usr/local/lib'
    libpth=/usr/local/lib /usr/lib/gcc/x86_64-linux-gnu/5/include-fixed /usr/include/x86_64-linux-gnu /usr/lib /lib/x86_64-linux-gnu /lib/../lib /usr/lib/x86_64-linux-gnu /usr/lib/../lib /lib
    libs=-lpthread -lnsl -lgdbm -ldl -lm -lcrypt -lutil -lc -lgdbm_compat
    perllibs=-lpthread -lnsl -ldl -lm -lcrypt -lutil -lc
    libc=libc-2.21.so, so=so, useshrplib=false, libperl=libperl.a
    gnulibc_version='2.21'
  Dynamic Linking:
    dlsrc=dl_dlopen.xs, dlext=so, d_dlsymun=undef, ccdlflags='-Wl,-E'
    cccdlflags='-fPIC', lddlflags='-shared -O2 -L/usr/local/lib -fstack-protector-strong'


Characteristics of this binary (from libperl): 
  Compile-time options: HAS_TIMES PERLIO_LAYERS PERL_COPY_ON_WRITE
                        PERL_DONT_CREATE_GVSV
                        PERL_HASH_FUNC_ONE_AT_A_TIME_HARD PERL_MALLOC_WRAP
                        PERL_PRESERVE_IVUV PERL_USE_DEVEL USE_64_BIT_ALL
                        USE_64_BIT_INT USE_LARGE_FILES USE_LOCALE
                        USE_LOCALE_COLLATE USE_LOCALE_CTYPE
                        USE_LOCALE_NUMERIC USE_LOCALE_TIME USE_LONG_DOUBLE
                        USE_PERLIO USE_PERL_ATOF
  Built under linux
  Compiled at Feb 21 2016 09:06:19
  %ENV:
    PERL5LIB=""
    PERL5OPT=""
    PERL5_CPANPLUS_IS_RUNNING="26678"
    PERL5_CPAN_IS_RUNNING="26678"
    PERL_CANARY_STABILITY_NOPROMPT="1"
    PERL_MM_USE_DEFAULT="1"
  @INC:
    /home/sand/src/perl/repoperls/installed-perls/perl/v5.23.8/8d81/lib/site_perl/5.23.8/x86_64-linux-ld
    /home/sand/src/perl/repoperls/installed-perls/perl/v5.23.8/8d81/lib/site_perl/5.23.8
    /home/sand/src/perl/repoperls/installed-perls/perl/v5.23.8/8d81/lib/5.23.8/x86_64-linux-ld
    /home/sand/src/perl/repoperls/installed-perls/perl/v5.23.8/8d81/lib/5.23.8
    .