CGI-Ex v2.53 Perl 5 v5.16.3 amd64-freebsd-thread-multi

Status
Pass
From
Slaven Rezić
Dist
CGI-Ex v2.53
Platform
Perl 5 v5.16.3 amd64-freebsd-thread-multi
Date
2022-03-11 22:37:22
ID
d177f9ce-a18b-11ec-b236-ce3d1f24ea8f
This distribution has been tested as part of the CPAN Testers
project, supporting the Perl programming language.  See
http://wiki.cpantesters.org/ for more information or email
questions to cpan-testers-discuss@perl.org


--
Dear Charles McGarvey,

This is a computer-generated report for CGI-Ex-2.53
on perl 5.16.3, created by CPAN-Reporter-1.2018.

Thank you for uploading your work to CPAN.  Congratulations!
All tests were successful.

Sections of this report:

    * Tester comments
    * Program output
    * Prerequisites
    * Environment and other context

------------------------------
TESTER COMMENTS
------------------------------

Additional comments from tester:

none provided

------------------------------
PROGRAM OUTPUT
------------------------------

Output from '/usr/bin/make test':

PERL_DL_NONLAZY=1 "/usr/perl5.16.3t/bin/perl" "-MExtUtils::Command::MM" "-MTest::Harness" "-e" "undef *Test::Harness::Switches; test_harness(0, 'blib/lib', 'blib/arch')" t/*.t
t/00-compile.t .................. ok
# 
# Versions for all modules listed in MYMETA.json (including optional ones):
# 
# === Configure Requires ===
# 
#     Module              Want Have
#     ------------------- ---- ----
#     ExtUtils::MakeMaker  any 7.64
# 
# === Configure Suggests ===
# 
#     Module      Want Have
#     -------- ------- ----
#     JSON::PP 2.27300 4.07
# 
# === Build Requires ===
# 
#     Module              Want Have
#     ------------------- ---- ----
#     ExtUtils::MakeMaker  any 7.64
# 
# === Test Requires ===
# 
#     Module              Want     Have
#     ------------------- ---- --------
#     ExtUtils::MakeMaker  any     7.64
#     File::Spec           any     3.75
#     File::Temp           any   0.2311
#     FindBin              any     1.51
#     IO::Handle           any     1.45
#     IPC::Open3           any     1.12
#     Test::More           any 1.302190
#     lib                  any     0.63
# 
# === Test Recommends ===
# 
#     Module         Want     Have
#     ---------- -------- --------
#     CPAN::Meta 2.120900 2.150010
# 
# === Test Suggests ===
# 
#     Module      Want Have
#     ----------- ---- ----
#     Tie::Handle  any  4.2
# 
# === Runtime Requires ===
# 
#     Module           Want   Have
#     --------------- ----- ------
#     CGI               any   4.53
#     Carp              any   1.50
#     Data::Dumper      any  2.181
#     Exporter          any   5.74
#     Scalar::Util      any   1.60
#     Template::Alloy 1.016  1.020
#     Time::HiRes       any 1.9764
#     base              any   2.18
#     constant          any   1.33
#     overload          any   1.18
#     strict            any   1.07
#     vars              any   1.02
#     warnings          any   1.13
# 
# === Runtime Suggests ===
# 
#     Module          Want    Have
#     --------------- ---- -------
#     CGI             4.45    4.53
#     Config::IniHash  any missing
#     File::Find       any    1.20
#     JSON             any    4.05
#     Storable         any    3.25
#     XML::Simple      any    2.25
#     YAML             any    1.30
# 
t/00-report-prereqs.t ........... ok
t/0_ex_00_base.t ................ ok
t/1_validate_00_base.t .......... ok
t/1_validate_03_cgi.t ........... ok
t/1_validate_05_types.t ......... ok
t/1_validate_07_yaml.t .......... ok
t/1_validate_11_no_extra.t ...... ok
t/1_validate_12_change.t ........ ok
t/1_validate_14_untaint.t ....... ok
t/2_fill_00_base.t .............. ok
t/2_fill_01_form.t .............. ok
t/2_fill_02_hidden.t ............ ok
t/2_fill_03_checkbox.t .......... ok
t/2_fill_04_select.t ............ ok
t/2_fill_05_textarea.t .......... ok
t/2_fill_06_radio.t ............. ok
t/2_fill_07_reuse.t ............. ok
t/2_fill_08_multiple_objects.t .. ok
t/2_fill_09_default_type.t ...... ok
t/2_fill_10_escape.t ............ ok
t/2_fill_11_target.t ............ ok
t/2_fill_12_mult.t .............. ok
t/2_fill_13_warning.t ........... ok
t/2_fill_14_password.t .......... ok
t/2_fill_16_ignore_fields.t ..... ok
t/2_fill_17_xhtml.t ............. ok
t/2_fill_18_coderef.t ........... ok
t/2_fill_19_complex.t ........... ok
t/2_fill_20_switcharoo.t ........ ok
t/3_conf_00_base.t .............. ok
t/4_app_00_base.t ............... ok
t/5_dump_00_base.t .............. ok
t/6_die_00_base.t ............... ok
t/7_template_00_base.t .......... ok
t/8_auth_00_base.t .............. ok
t/8_auth_01_cookies.t ........... ok
t/9_jsondump_00_base.t .......... ok
t/author-distmeta.t ............. skipped: these tests are for testing by the author
t/author-pod-syntax.t ........... skipped: these tests are for testing by the author
t/release-consistent-version.t .. skipped: these tests are for release candidate testing
t/release-cpan-changes.t ........ skipped: these tests are for release candidate testing
All tests successful.
Files=42, Tests=837,  4 wallclock secs ( 0.08 usr  0.19 sys +  2.58 cusr  0.50 csys =  3.34 CPU)
Result: PASS

------------------------------
PREREQUISITES
------------------------------

Prerequisite modules loaded:

requires:

    Module              Need     Have    
    ------------------- -------- --------
    base                0        2.18    
    Carp                0        1.50    
    CGI                 0        4.53    
    constant            0        1.33    
    Data::Dumper        0        2.181   
    Exporter            0        5.74    
    overload            0        1.18    
    perl                5.006    5.016003
    Scalar::Util        0        1.60    
    strict              0        1.07    
    Template::Alloy     1.016    1.020   
    Time::HiRes         0        1.9764  
    vars                0        1.02    
    warnings            0        1.13    

build_requires:

    Module              Need     Have    
    ------------------- -------- --------
    ExtUtils::MakeMaker 0        7.64    
    File::Spec          0        3.75    
    File::Temp          0        0.2311  
    FindBin             0        1.51    
    IO::Handle          0        1.45    
    IPC::Open3          0        1.12    
    lib                 0        0.63    
    Test::More          0        1.302190

configure_requires:

    Module              Need     Have    
    ------------------- -------- --------
    ExtUtils::MakeMaker 0        7.64    

opt_build_requires:

    Module              Need     Have    
    ------------------- -------- --------
    CPAN::Meta          2.120900 2.150010


------------------------------
ENVIRONMENT AND OTHER CONTEXT
------------------------------

Environment variables:

    LC_ALL = de_DE.ISO8859-1
    PATH = /usr/local/bin:/usr/bin:/bin:/usr/local/sbin:/usr/sbin:/sbin:/home/cpansand/bin/freebsd9.3:/home/cpansand/bin/sh:/home/cpansand/bin:/usr/games:/home/cpansand/devel:/usr/home/eserte/src/srezic-misc/scripts
    PERL5LIB = 
    PERL5OPT = 
    PERL5_CPANPLUS_IS_RUNNING = 51388
    PERL5_CPAN_IS_RUNNING = 51388
    PERL5_CPAN_IS_RUNNING_IN_RECURSION = 50988,51388
    PERLDOC = -MPod::Perldoc::ToTextOverstrike
    PERL_BATCH = yes
    PERL_CANARY_STABILITY_NOPROMPT = 1
    PERL_CPAN_REPORTER_CONFIG = /var/tmp/cpansmoker-1023/2022031121/cpanreporter_000_config.ini
    PERL_EXTUTILS_AUTOINSTALL = --defaultdeps
    PERL_USE_UNSAFE_INC = 1
    SHELL = /usr/local/bin/zsh
    TERM = screen
    TMPDIR = /var/tmp/cpansmoker-1023/2022031121

Perl special variables (and OS-specific diagnostics, for MSWin32):

    $^X = /usr/perl5.16.3t/bin/perl
    $UID/$EUID = 1023 / 1023
    $GID = 1023 1023
    $EGID = 1023 1023

Perl module toolchain versions installed:

    Module              Have    
    ------------------- --------
    CPAN                2.27    
    CPAN::Meta          2.150010
    Cwd                 3.75    
    ExtUtils::CBuilder  0.280231
    ExtUtils::Command   7.64    
    ExtUtils::Install   2.20    
    ExtUtils::MakeMaker 7.64    
    ExtUtils::Manifest  1.73    
    ExtUtils::ParseXS   3.35    
    File::Spec          3.75    
    JSON                4.05    
    JSON::PP            4.07    
    Module::Build       0.4231  
    Module::Signature   0.88    
    Parse::CPAN::Meta   2.150010
    Test::Harness       3.42    
    Test::More          1.302190
    YAML                1.30    
    YAML::Syck          1.33    
    version             0.9929  


--

Summary of my perl5 (revision 5 version 16 subversion 3) configuration:
   
  Platform:
    osname=freebsd, osvers=9.2-release-p4, archname=amd64-freebsd-thread-multi
    uname='freebsd cvrsnica-freebsd-92 9.2-release-p4 freebsd 9.2-release-p4 #0: tue apr 8 18:08:22 utc 2014 root@amd64-builder.daemonology.net:usrobjusrsrcsysgeneric amd64 '
    config_args='-ds -e -Dprefix=/usr/perl5.16.3t -Dusethreads'
    hint=recommended, useposix=true, d_sigaction=define
    useithreads=define, usemultiplicity=define
    useperlio=define, d_sfio=undef, uselargefiles=define, usesocks=undef
    use64bitint=define, use64bitall=define, uselongdouble=undef
    usemymalloc=n, bincompat5005=undef
  Compiler:
    cc='cc', ccflags ='-DHAS_FPSETMASK -DHAS_FLOATINGPOINT_H -fno-strict-aliasing -pipe -fstack-protector -I/usr/local/include',
    optimize='-O',
    cppflags='-DHAS_FPSETMASK -DHAS_FLOATINGPOINT_H -fno-strict-aliasing -pipe -fstack-protector -I/usr/local/include'
    ccversion='', gccversion='4.2.1 20070831 patched [FreeBSD]', gccosandvers=''
    intsize=4, longsize=8, ptrsize=8, doublesize=8, byteorder=12345678
    d_longlong=define, longlongsize=8, d_longdbl=define, longdblsize=16
    ivtype='long', ivsize=8, nvtype='double', nvsize=8, Off_t='off_t', lseeksize=8
    alignbytes=8, prototype=define
  Linker and Libraries:
    ld='cc', ldflags ='-pthread -Wl,-E  -fstack-protector -L/usr/local/lib'
    libpth=/usr/lib /usr/local/lib
    libs=-lgdbm -lm -lcrypt
    perllibs=-lm -lcrypt
    libc=, so=so, useshrplib=false, libperl=libperl.a
    gnulibc_version=''
  Dynamic Linking:
    dlsrc=dl_dlopen.xs, dlext=so, d_dlsymun=undef, ccdlflags=' '
    cccdlflags='-DPIC -fPIC', lddlflags='-shared  -L/usr/local/lib -fstack-protector'


Characteristics of this binary (from libperl): 
  Compile-time options: HAS_TIMES MULTIPLICITY PERLIO_LAYERS
                        PERL_DONT_CREATE_GVSV PERL_IMPLICIT_CONTEXT
                        PERL_MALLOC_WRAP PERL_PRESERVE_IVUV USE_64_BIT_ALL
                        USE_64_BIT_INT USE_ITHREADS USE_LARGE_FILES
                        USE_LOCALE USE_LOCALE_COLLATE USE_LOCALE_CTYPE
                        USE_LOCALE_NUMERIC USE_PERLIO USE_PERL_ATOF
                        USE_REENTRANT_API
  Built under freebsd
  Compiled at May 16 2014 07:49:48
  %ENV:
    PERL5LIB=""
    PERL5OPT=""
    PERL5_CPANPLUS_IS_RUNNING="51388"
    PERL5_CPAN_IS_RUNNING="51388"
    PERL5_CPAN_IS_RUNNING_IN_RECURSION="50988,51388"
    PERLDOC="-MPod::Perldoc::ToTextOverstrike"
    PERL_BATCH="yes"
    PERL_CANARY_STABILITY_NOPROMPT="1"
    PERL_CPAN_REPORTER_CONFIG="/var/tmp/cpansmoker-1023/2022031121/cpanreporter_000_config.ini"
    PERL_EXTUTILS_AUTOINSTALL="--defaultdeps"
    PERL_USE_UNSAFE_INC="1"
  @INC:
    /usr/perl5.16.3t/lib/site_perl/5.16.3/amd64-freebsd-thread-multi
    /usr/perl5.16.3t/lib/site_perl/5.16.3
    /usr/perl5.16.3t/lib/5.16.3/amd64-freebsd-thread-multi
    /usr/perl5.16.3t/lib/5.16.3
    .