Back
From: metabase:user:30ae4450-2aae-11df-837a-5e0a49663a4f
Subject: PASS DBIx-Table-TestDataGenerator-0.005 v5.23.9
Date: 2016-04-18T19:50:09Z
This distribution has been tested as part of the CPAN Testers
project, supporting the Perl programming language. See
http://wiki.cpantesters.org/ for more information or email
questions to cpan-testers-discuss@perl.org
--
Dear Jose Diaz Seng,
This is a computer-generated report for DBIx-Table-TestDataGenerator-0.005
on perl 5.23.9, created by CPAN-Reporter-1.2017.
Thank you for uploading your work to CPAN. Congratulations!
All tests were successful.
Sections of this report:
* Tester comments
* Program output
* Prerequisites
* Environment and other context
------------------------------
TESTER COMMENTS
------------------------------
Additional comments from tester:
this report is from an automated smoke testing program
and was not reviewed by a human for accuracy
------------------------------
PROGRAM OUTPUT
------------------------------
Output from 'C:\Strawberry239\perl\bin\perl.exe ./Build test':
# Testing DBIx::Table::TestDataGenerator 0.005, Perl 5.023009, C:\Strawberry239\perl\bin\perl.exe
t\00-load.t ............................. ok
t\01DBIC.t .............................. ok
t\02DataGeneration.t .................... ok
t\03DataGeneration_null_root_parents.t .. ok
t\04DataGeneration_csv.t ................ ok
t\boilerplate.t ......................... ok
All tests successful.
Test Summary Report
-------------------
t\boilerplate.t (Wstat: 0 Tests: 5 Failed: 0)
TODO passed: 1-5
Files=6, Tests=28, 17 wallclock secs ( 0.04 usr + 0.05 sys = 0.09 CPU)
Result: PASS
------------------------------
PREREQUISITES
------------------------------
Prerequisite modules loaded:
requires:
Module Need Have
-------------------------------------- -------- --------
aliased 0 0.34
Carp 0 1.40
Cwd 0 3.63
Data::GUID 0 0.048
DBD::CSV 0 0.48
DBD::SQLite 0 1.50
DBI 0 1.634
DBI::Const::GetInfoType 0 2.008697
DBIx::Class::Helper::ResultSet::Random 2.016004 2.032000
DBIx::Class::Optional::Dependencies 0 0
DBIx::Class::Relationship 0 0
DBIx::Class::Schema::Loader 0 0.07045
DBIx::RunSQL 0 0.13
File::Basename 0 2.85
File::Spec 0 3.63
List::Util 0 1.45
Moo 0 2.001001
perl 5.006 5.023009
Readonly 0 2.01
SQL::Abstract 0 1.81
SQL::Translator 0.11018 0.11021
Test::Exception 0 0.43
build_requires:
Module Need Have
-------------------------------------- -------- --------
Pod::Coverage 0 0.23
Pod::Coverage::Moose 0 0.07
Test::CheckManifest 0 1.29
Test::More 0 1.001014
Test::Pod 0 1.51
Test::Pod::Coverage 0 1.10
configure_requires:
Module Need Have
-------------------------------------- -------- --------
DBIx::Class 0.08203 0.082821
Module::Build 0.4 0.4216
------------------------------
ENVIRONMENT AND OTHER CONTEXT
------------------------------
Environment variables:
AUTOMATED_TESTING = 1
COMSPEC = C:\WINDOWS\system32\cmd.exe
NUMBER_OF_PROCESSORS = 1
PATH = C:\WINDOWS\system32;C:\WINDOWS;C:\WINDOWS\System32\Wbem;C:\Strawberry239\c\bin;C:\Strawberry239\perl\site\bin;C:\Strawberry239\perl\bin;C:\Git\cmd
PERL5LIB = C:\STRAWB~1\cpan\build\Pod-Coverage-Moose-0.07-H1IqhD/blib/arch;C:\STRAWB~1\cpan\build\Pod-Coverage-Moose-0.07-H1IqhD/blib/lib
PERL5OPT =
PERL5_CPANPLUS_IS_RUNNING = 1604
PERL5_CPAN_IS_RUNNING = 1604
PERL5_CPAN_IS_RUNNING_IN_RECURSION = 372,1604
PERL_CR_SMOKER_CURRENT = DBIx-Table-TestDataGenerator-0.005
PERL_CR_SMOKER_RUNONCE = 1
PERL_EXTUTILS_AUTOINSTALL = --defaultdeps
PERL_HASH_SEED = 0x11111111
PERL_MM_USE_DEFAULT = 1
PROCESSOR_IDENTIFIER = x86 Family 16 Model 5 Stepping 3, AuthenticAMD
TEMP = C:\DOCUME~1\c\LOCALS~1\Temp
Perl special variables (and OS-specific diagnostics, for MSWin32):
$^X = C:\Strawberry239\perl\bin\perl.exe
$UID/$EUID = 0 / 0
$GID = 0
$EGID = 0
Win32::GetOSName = WinXP/.Net
Win32::GetOSVersion = Service Pack 3, 5, 1, 2600, 2, 3, 0, 256, 1
Win32::FsType = NTFS
Win32::IsAdminUser = 1
Perl module toolchain versions installed:
Module Have
------------------- --------
CPAN 2.11
CPAN::Meta 2.150005
Cwd 3.63
ExtUtils::CBuilder 0.280225
ExtUtils::Command 7.10
ExtUtils::Install 2.04
ExtUtils::MakeMaker 7.10_01
ExtUtils::Manifest 1.70
ExtUtils::ParseXS 3.31
File::Spec 3.63
JSON 2.90
JSON::PP 2.27300
Module::Build 0.4216
Module::Signature 0.79
Parse::CPAN::Meta 1.4417
Test::Harness 3.36
Test::More 1.001014
YAML 1.15
YAML::Syck 1.29
version 0.9916
--
Summary of my perl5 (revision 5 version 23 subversion 9) configuration:
Platform:
osname=MSWin32, osvers=4.0, archname=MSWin32-x86-multi-thread-64int
uname='Win32 strawberry-perl 5.23.9.1 #1 Fri Mar 25 14:40:30 2016 i386'
config_args='undef'
hint=recommended, useposix=true, d_sigaction=undef
useithreads=define, usemultiplicity=define
use64bitint=define, use64bitall=undef, uselongdouble=undef
usemymalloc=n, bincompat5005=undef
Compiler:
cc='gcc', ccflags =' -s -O2 -DWIN32 -DPERL_TEXTMODE_SCRIPTS -DPERL_IMPLICIT_CONTEXT -DPERL_IMPLICIT_SYS -fwrapv -fno-strict-aliasing -mms-bitfields',
optimize='-s -O2',
cppflags='-DWIN32'
ccversion='', gccversion='4.9.2', gccosandvers=''
intsize=4, longsize=4, ptrsize=4, doublesize=8, byteorder=12345678, doublekind=3
d_longlong=define, longlongsize=8, d_longdbl=define, longdblsize=12, longdblkind=3
ivtype='long long', ivsize=8, nvtype='double', nvsize=8, Off_t='long long', lseeksize=8
alignbytes=8, prototype=define
Linker and Libraries:
ld='g++', ldflags ='-s -L"C:\STRAWB~1\perl\lib\CORE" -L"C:\STRAWB~1\c\lib"'
libpth=C:\STRAWB~1\c\lib C:\STRAWB~1\c\i686-w64-mingw32\lib C:\STRAWB~1\c\lib\gcc\i686-w64-mingw32\4.9.2
libs=-lmoldname -lkernel32 -luser32 -lgdi32 -lwinspool -lcomdlg32 -ladvapi32 -lshell32 -lole32 -loleaut32 -lnetapi32 -luuid -lws2_32 -lmpr -lwinmm -lversion -lodbc32 -lodbccp32 -lcomctl32
perllibs=-lmoldname -lkernel32 -luser32 -lgdi32 -lwinspool -lcomdlg32 -ladvapi32 -lshell32 -lole32 -loleaut32 -lnetapi32 -luuid -lws2_32 -lmpr -lwinmm -lversion -lodbc32 -lodbccp32 -lcomctl32
libc=, so=dll, useshrplib=true, libperl=libperl523.a
gnulibc_version=''
Dynamic Linking:
dlsrc=dl_win32.xs, dlext=xs.dll, d_dlsymun=undef, ccdlflags=' '
cccdlflags=' ', lddlflags='-mdll -s -L"C:\STRAWB~1\perl\lib\CORE" -L"C:\STRAWB~1\c\lib"'
Characteristics of this binary (from libperl):
Compile-time options: HAS_TIMES HAVE_INTERP_INTERN MULTIPLICITY
PERLIO_LAYERS PERL_COPY_ON_WRITE
PERL_DONT_CREATE_GVSV
PERL_HASH_FUNC_ONE_AT_A_TIME_HARD
PERL_IMPLICIT_CONTEXT PERL_IMPLICIT_SYS
PERL_MALLOC_WRAP PERL_PRESERVE_IVUV USE_64_BIT_INT
USE_ITHREADS USE_LARGE_FILES USE_LOCALE
USE_LOCALE_COLLATE USE_LOCALE_CTYPE
USE_LOCALE_NUMERIC USE_LOCALE_TIME USE_PERLIO
USE_PERL_ATOF
Built under MSWin32
Compiled at Mar 25 2016 14:50:46
%ENV:
PERL5LIB="C:\STRAWB~1\cpan\build\Pod-Coverage-Moose-0.07-H1IqhD/blib/arch;C:\STRAWB~1\cpan\build\Pod-Coverage-Moose-0.07-H1IqhD/blib/lib"
PERL5_CPANPLUS_IS_RUNNING="1604"
PERL5_CPAN_IS_RUNNING="1604"
PERL5_CPAN_IS_RUNNING_IN_RECURSION="372,1604"
PERL_CR_SMOKER_CURRENT="DBIx-Table-TestDataGenerator-0.005"
PERL_CR_SMOKER_RUNONCE="1"
PERL_EXTUTILS_AUTOINSTALL="--defaultdeps"
PERL_HASH_SEED="0x11111111"
PERL_MM_USE_DEFAULT="1"
@INC:
C:\STRAWB~1\cpan\build\Pod-Coverage-Moose-0.07-H1IqhD/blib/arch
C:\STRAWB~1\cpan\build\Pod-Coverage-Moose-0.07-H1IqhD/blib/lib
C:/Strawberry239/perl/site/lib
C:/Strawberry239/perl/vendor/lib
C:/Strawberry239/perl/lib
.