Report for List-Priority-0.04

Back
From: metabase:user:aadcc7a4-35c6-11e1-84c8-58df5e9ffb60
Subject: PASS List-Priority-0.04 v5.12.2 Dragonfly BSD
Date: 2012-01-06T19:58:35Z

This distribution has been tested as part of the CPAN Testers
project, supporting the Perl programming language.  See
http://wiki.cpantesters.org/ for more information or email
questions to cpan-testers-discuss@perl.org


--
Dear Miles Gould,

This is a computer-generated report for List-Priority-0.04
on perl 5.12.2, created by CPAN-Reporter-1.2003.

Thank you for uploading your work to CPAN.  Congratulations!
All tests were successful.

Sections of this report:

    * Tester comments
    * Program output
    * Prerequisites
    * Environment and other context

------------------------------
TESTER COMMENTS
------------------------------

Additional comments from tester:

this report is from an automated smoke testing program
and was not reviewed by a human for accuracy

------------------------------
PROGRAM OUTPUT
------------------------------

Output from '/usr/bin/make test':

PERL_DL_NONLAZY=1 /usr/pkg/bin/perl "-MExtUtils::Command::MM" "-e" "test_harness(0, 'blib/lib', 'blib/arch')" t/*.t
t/00-load.t ........ ok
t/02-small-list.t .. ok
t/03-capacity.t .... ok
t/04-duplicates.t .. ok
All tests successful.
Files=4, Tests=40,  0 wallclock secs ( 0.04 usr  0.03 sys +  0.11 cusr  0.04 csys =  0.22 CPU)
Result: PASS
PERL_DL_NONLAZY=1 /usr/pkg/bin/perl "-Iblib/lib" "-Iblib/arch" test.pl
1..1
# Running under perl version 5.012002 for dragonfly
# Current time local: Sat Jan  7 06:58:34 2012
# Current time GMT:   Fri Jan  6 19:58:34 2012
# Using Test.pm version 1.25_02
ok 1

------------------------------
PREREQUISITES
------------------------------

Prerequisite modules loaded:

requires:

    Module              Need Have
    ------------------- ---- ----
    Test::More          0.88 0.98

configure_requires:

    Module              Need Have
    ------------------- ---- ----
    ExtUtils::MakeMaker 0    6.56


------------------------------
ENVIRONMENT AND OTHER CONTEXT
------------------------------

Environment variables:

    AUTOMATED_TESTING = 1
    PATH = /sbin:/bin:/usr/sbin:/usr/bin:/usr/pkg/bin:/usr/pkg/sbin:/usr/games:/usr/local/sbin:/usr/local/bin:/usr/X11R6/bin:/root/bin
    PERL5LIB = 
    PERL5OPT = 
    PERL5_CPANPLUS_IS_RUNNING = 1846
    PERL5_CPAN_IS_RUNNING = 1846
    PERL5_CPAN_IS_RUNNING_IN_RECURSION = 32523,1846
    PERL_CR_SMOKER_CURRENT = List-Priority-0.04
    PERL_EXTUTILS_AUTOINSTALL = --defaultdeps
    PERL_MM_USE_DEFAULT = 1
    SHELL = /bin/csh
    TERM = cons25

Perl special variables (and OS-specific diagnostics, for MSWin32):

    $^X = /usr/pkg/bin/perl
    $UID/$EUID = 0 / 0
    $GID = 0 0 2 3 4 5 20 31
    $EGID = 0 0 2 3 4 5 20 31

Perl module toolchain versions installed:

    Module              Have   
    ------------------- -------
    CPAN                1.94_56
    CPAN::Meta          n/a    
    Cwd                 3.31   
    ExtUtils::CBuilder  0.27   
    ExtUtils::Command   1.16   
    ExtUtils::Install   1.55   
    ExtUtils::MakeMaker 6.56   
    ExtUtils::Manifest  1.57   
    ExtUtils::ParseXS   2.21   
    File::Spec          3.31_01
    JSON                2.53   
    JSON::PP            n/a    
    Module::Build       0.3603 
    Module::Signature   n/a    
    Parse::CPAN::Meta   1.40   
    Test::Harness       3.17   
    Test::More          0.98   
    YAML                n/a    
    YAML::Syck          n/a    
    version             0.82   


--

Summary of my perl5 (revision 5 version 12 subversion 2) configuration:
   
  Platform:
    osname=dragonfly, osvers=2.10-release, archname=x86_64-dragonfly-thread-multi
    uname='dragonfly pkgbox64.dragonflybsd.org 2.10-release dragonfly v2.10.1.1.gf7ba0-release #9: mon apr 25 12:15:59 pdt 2011 root@pkgbox64.dragonflybsd.org:usrobjusrsrcsyspkgbox64 x86_64 '
    config_args='-sde -D ccflags=  -pthread  -I/usr/include -D ldflags=  -L/usr/lib -Wl,-R/usr/lib -Wl,-R/usr/pkg/lib -Duseshrplib -Duseithreads -Uusemymalloc'
    hint=recommended, useposix=true, d_sigaction=define
    useithreads=define, usemultiplicity=define
    useperlio=define, d_sfio=undef, uselargefiles=define, usesocks=undef
    use64bitint=define, use64bitall=define, uselongdouble=undef
    usemymalloc=n, bincompat5005=undef
  Compiler:
    cc='cc', ccflags ='-pthread -I/usr/include -DHAS_FPSETMASK -DHAS_FLOATINGPOINT_H -fno-strict-aliasing -pipe -fstack-protector -I/usr/local/include',
    optimize='  -pthread  -I/usr/include',
    cppflags='-pthread -I/usr/include -DHAS_FPSETMASK -DHAS_FLOATINGPOINT_H -fno-strict-aliasing -pipe -fstack-protector -I/usr/local/include'
    ccversion='', gccversion='4.4.5', gccosandvers=''
    intsize=4, longsize=8, ptrsize=8, doublesize=8, byteorder=12345678
    d_longlong=define, longlongsize=8, d_longdbl=define, longdblsize=16
    ivtype='long', ivsize=8, nvtype='double', nvsize=8, Off_t='off_t', lseeksize=8
    alignbytes=8, prototype=define
  Linker and Libraries:
    ld='cc', ldflags ='-Wl,-R/usr/pkg/lib -pthread -Wl,-E -fstack-protector'
    libpth=/usr/lib /usr/local/lib
    libs=-lm -lcrypt -lpthread -lrt
    perllibs=-lm -lcrypt -lpthread -lrt
    libc=, so=so, useshrplib=true, libperl=libperl.so
    gnulibc_version=''
  Dynamic Linking:
    dlsrc=dl_dlopen.xs, dlext=so, d_dlsymun=undef, ccdlflags='  -Wl,-R/usr/pkg/lib/perl5/5.12.0/x86_64-dragonfly-thread-multi/CORE'
    cccdlflags='-DPIC -fPIC', lddlflags='-Wl,-R/usr/pkg/lib -shared  -L/usr/local/lib -fstack-protector'


Characteristics of this binary (from libperl): 
  Compile-time options: MULTIPLICITY PERL_DONT_CREATE_GVSV
                        PERL_IMPLICIT_CONTEXT PERL_MALLOC_WRAP USE_64_BIT_ALL
                        USE_64_BIT_INT USE_ITHREADS USE_LARGE_FILES
                        USE_PERLIO USE_PERL_ATOF USE_REENTRANT_API
  Built under dragonfly
  Compiled at Apr 25 2011 23:58:51
  %ENV:
    PERL5LIB=""
    PERL5OPT=""
    PERL5_CPANPLUS_IS_RUNNING="1846"
    PERL5_CPAN_IS_RUNNING="1846"
    PERL5_CPAN_IS_RUNNING_IN_RECURSION="32523,1846"
    PERL_CR_SMOKER_CURRENT="List-Priority-0.04"
    PERL_EXTUTILS_AUTOINSTALL="--defaultdeps"
    PERL_MM_USE_DEFAULT="1"
  @INC:
    /usr/pkg/lib/perl5/site_perl/5.12.0/x86_64-dragonfly-thread-multi
    /usr/pkg/lib/perl5/site_perl/5.12.0
    /usr/pkg/lib/perl5/vendor_perl/5.12.0/x86_64-dragonfly-thread-multi
    /usr/pkg/lib/perl5/vendor_perl/5.12.0
    /usr/pkg/lib/perl5/5.12.0/x86_64-dragonfly-thread-multi
    /usr/pkg/lib/perl5/5.12.0
    .