Dancer2-Plugin-FontSubset v0.0.1 Perl 5 v5.38.0 x86_64-linux

Status
Pass
From
Andreas J. König (ANDK)
Dist
Dancer2-Plugin-FontSubset v0.0.1
Platform
Perl 5 v5.38.0 x86_64-linux
Date
2023-07-05 08:34:55
ID
d196da94-1b0e-11ee-bc69-cf1c3a9fc313
This distribution has been tested as part of the CPAN Testers
project, supporting the Perl programming language.  See
http://wiki.cpantesters.org/ for more information or email
questions to cpan-testers-discuss@perl.org


--
Dear Yanick Champoux,

This is a computer-generated report for Dancer2-Plugin-FontSubset-0.0.1
on perl 5.38.0, created by CPAN-Reporter-1.2019.

Thank you for uploading your work to CPAN.  Congratulations!
All tests were successful.

Sections of this report:

    * Tester comments
    * Program output
    * Prerequisites
    * Environment and other context

------------------------------
TESTER COMMENTS
------------------------------

Additional comments from tester:

this report is from an automated smoke testing program
and was not reviewed by a human for accuracy

------------------------------
PROGRAM OUTPUT
------------------------------

Output from '/usr/bin/make test':

PERL_DL_NONLAZY=1 "/tmp/basesmoker-reloperl-pcdd/bin/perl" "-MExtUtils::Command::MM" "-MTest::Harness" "-e" "undef *Test::Harness::Switches; test_harness(0, 'blib/lib', 'blib/arch')" t/*.t
t/00-compile.t ......... ok
# 
# Versions for all modules listed in MYMETA.json (including optional ones):
# 
# === Configure Requires ===
# 
#     Module              Want Have
#     ------------------- ---- ----
#     ExtUtils::MakeMaker  any 7.70
# 
# === Build Requires ===
# 
#     Module              Want Have
#     ------------------- ---- ----
#     ExtUtils::MakeMaker  any 7.70
# 
# === Test Requires ===
# 
#     Module                      Want     Have
#     --------------------------- ---- --------
#     Dancer2                      any 0.400001
#     Dancer2::Plugin::Cache::CHI  any  missing
#     ExtUtils::MakeMaker          any     7.70
#     File::Spec                   any     3.88
#     IO::Handle                   any     1.52
#     IPC::Open3                   any     1.22
#     Test::More                   any 1.302195
#     Test::Requires               any     0.11
#     Test::WWW::Mechanize::PSGI   any     0.39
#     lib                          any     0.65
#     strict                       any     1.12
# 
# === Test Recommends ===
# 
#     Module         Want     Have
#     ---------- -------- --------
#     CPAN::Meta 2.120900 2.150010
# 
# === Runtime Requires ===
# 
#     Module                   Want     Have
#     ------------------------ ---- --------
#     Dancer2::Plugin           any 0.400001
#     Font::TTF::Font           any     0.39
#     Font::TTF::Scripts::Name  any    undef
#     List::AllUtils            any     0.19
#     warnings                  any     1.65
# 
# 
# *** WARNING WARNING WARNING WARNING WARNING WARNING WARNING WARNING ***
# 
# The following REQUIRED prerequisites were not satisfied:
# 
# Dancer2::Plugin::Cache::CHI is not installed (any version required)
# 
t/00-report-prereqs.t .. ok
t/basic.t .............. ok
t/cache.t .............. ok
All tests successful.
Files=4, Tests=14,  2 wallclock secs ( 0.03 usr  0.01 sys +  1.07 cusr  0.13 csys =  1.24 CPU)
Result: PASS

------------------------------
PREREQUISITES
------------------------------

Prerequisite modules loaded:

requires:

    Module                      Need     Have    
    --------------------------- -------- --------
    Dancer2::Plugin             0        0.400001
    Font::TTF::Font             0        0.39    
    Font::TTF::Scripts::Name    0        0       
    List::AllUtils              0        0.19    
    perl                        5.012000 5.038000
    warnings                    0        1.65    

build_requires:

    Module                      Need     Have    
    --------------------------- -------- --------
    Dancer2                     0        0.400001
  ! Dancer2::Plugin::Cache::CHI 0        n/a     
    ExtUtils::MakeMaker         0        7.70    
    File::Spec                  0        3.88    
    IO::Handle                  0        1.52    
    IPC::Open3                  0        1.22    
    lib                         0        0.65    
    strict                      0        1.12    
    Test::More                  0        1.302195
    Test::Requires              0        0.11    
    Test::WWW::Mechanize::PSGI  0        0.39    

configure_requires:

    Module                      Need     Have    
    --------------------------- -------- --------
    ExtUtils::MakeMaker         0        7.70    


------------------------------
ENVIRONMENT AND OTHER CONTEXT
------------------------------

Environment variables:

    AUTOMATED_TESTING = 1
    LANG = en_US.UTF-8
    PATH = /home/sand/bin:/usr/local/bin:/usr/local/sbin:/usr/sbin:/usr/bin:/sbin:/bin:/usr/games:/usr/local/games:/snap/bin:/usr/local/perl/bin:/usr/X11/bin
    PERL = /tmp/basesmoker-reloperl-pcdd/bin/perl
    PERL5LIB = /tmp/loop_over_bdir-2740-zpdQq4/NoZone-1.3-0/blib/arch:/tmp/loop_over_bdir-2740-zpdQq4/NoZone-1.3-0/blib/lib:/tmp/loop_over_bdir-2740-zpdQq4/dta-tokwrap-0.98-0/blib/arch:/tmp/loop_over_bdir-2740-zpdQq4/dta-tokwrap-0.98-0/blib/lib:/tmp/loop_over_bdir-2740-zpdQq4/CORBA-Python-2.66-0/blib/arch:/tmp/loop_over_bdir-2740-zpdQq4/CORBA-Python-2.66-0/blib/lib:/tmp/loop_over_bdir-2740-zpdQq4/Debian-Packages-0.03-0/blib/arch:/tmp/loop_over_bdir-2740-zpdQq4/Debian-Packages-0.03-0/blib/lib:/tmp/loop_over_bdir-2740-zpdQq4/MP3-PodcastFetch-1.05-0/blib/arch:/tmp/loop_over_bdir-2740-zpdQq4/MP3-PodcastFetch-1.05-0/blib/lib:/tmp/loop_over_bdir-2740-zpdQq4/Net-Async-WebService-lxd-0.03-0/blib/arch:/tmp/loop_over_bdir-2740-zpdQq4/Net-Async-WebService-lxd-0.03-0/blib/lib:/tmp/loop_over_bdir-2740-zpdQq4/HTML-Menu-TreeView-1.22-0/blib/arch:/tmp/loop_over_bdir-2740-zpdQq4/HTML-Menu-TreeView-1.22-0/blib/lib:/tmp/loop_over_bdir-2740-zpdQq4/Dpkg-1.21.22-0/blib/arch:/tmp/loop_over_bdir-2740-zpdQq4/Dpkg-1.21.22-0/blib/lib
    PERL5OPT = 
    PERL5_CPANPLUS_IS_RUNNING = 2749
    PERL5_CPAN_IS_RUNNING = 2749
    PERL_CANARY_STABILITY_NOPROMPT = 1
    PERL_MM_USE_DEFAULT = 1
    PERL_USE_UNSAFE_INC = 1
    SHELL = /usr/bin/zsh
    TERM = screen

Perl special variables (and OS-specific diagnostics, for MSWin32):

    $^X = /tmp/basesmoker-reloperl-pcdd/bin/perl
    $UID/$EUID = 1005 / 1005
    $GID = 1005 1005
    $EGID = 1005 1005

Perl module toolchain versions installed:

    Module              Have    
    ------------------- --------
    CPAN                2.36    
    CPAN::Meta          2.150010
    Cwd                 3.89    
    ExtUtils::CBuilder  0.280238
    ExtUtils::Command   7.70    
    ExtUtils::Install   2.22    
    ExtUtils::MakeMaker 7.70    
    ExtUtils::Manifest  1.73    
    ExtUtils::ParseXS   3.51    
    File::Spec          3.88    
    JSON                4.10    
    JSON::PP            4.16    
    Module::Build       0.4234  
    Module::Signature   0.88    
    Parse::CPAN::Meta   2.150010
    Test2               1.302195
    Test::Harness       3.44    
    Test::More          1.302195
    YAML                1.30    
    YAML::Syck          1.34    
    version             0.9929  


--

Summary of my perl5 (revision 5 version 38 subversion 0) configuration:
  Commit id: 76298ae68aa7796f0ffc05095b127d23f4b2de8f
  Platform:
    osname=linux
    osvers=5.4.0-150-generic
    archname=x86_64-linux
    uname='linux k93focal 5.4.0-150-generic #167-ubuntu smp mon may 15 17:35:05 utc 2023 x86_64 x86_64 x86_64 gnulinux '
    config_args='-Dprefix=/home/sand/src/perl/repoperls/installed-perls/host/k93focal/v5.38.0/b254 -Dmyhostname=k93focal -Dinstallusrbinperl=n -Uversiononly -Dusedevel -des -Ui_db -Dlibswanted=cl pthread socket inet nsl gdbm dbm malloc dl ld sun m crypt sec util c cposix posix ucb BSD gdbm_compat -Uuseithreads -Uuselongdouble -DEBUGGING=both'
    hint=recommended
    useposix=true
    d_sigaction=define
    useithreads=undef
    usemultiplicity=undef
    use64bitint=define
    use64bitall=define
    uselongdouble=undef
    usemymalloc=n
    default_inc_excludes_dot=define
  Compiler:
    cc='cc'
    ccflags ='-fwrapv -DDEBUGGING -fno-strict-aliasing -pipe -fstack-protector-strong -I/usr/local/include -D_LARGEFILE_SOURCE -D_FILE_OFFSET_BITS=64'
    optimize='-O2 -g'
    cppflags='-fwrapv -DDEBUGGING -fno-strict-aliasing -pipe -fstack-protector-strong -I/usr/local/include'
    ccversion=''
    gccversion='9.4.0'
    gccosandvers=''
    intsize=4
    longsize=8
    ptrsize=8
    doublesize=8
    byteorder=12345678
    doublekind=3
    d_longlong=define
    longlongsize=8
    d_longdbl=define
    longdblsize=16
    longdblkind=3
    ivtype='long'
    ivsize=8
    nvtype='double'
    nvsize=8
    Off_t='off_t'
    lseeksize=8
    alignbytes=8
    prototype=define
  Linker and Libraries:
    ld='cc'
    ldflags =' -fstack-protector-strong -L/usr/local/lib'
    libpth=/usr/local/lib /usr/lib/x86_64-linux-gnu /usr/lib /usr/lib64
    libs=-lpthread -lnsl -ldl -lm -lcrypt -lutil -lc
    perllibs=-lpthread -lnsl -ldl -lm -lcrypt -lutil -lc
    libc=libc-2.31.so
    so=so
    useshrplib=false
    libperl=libperl.a
    gnulibc_version='2.31'
  Dynamic Linking:
    dlsrc=dl_dlopen.xs
    dlext=so
    d_dlsymun=undef
    ccdlflags='-Wl,-E'
    cccdlflags='-fPIC'
    lddlflags='-shared -O2 -g -L/usr/local/lib -fstack-protector-strong'


Characteristics of this binary (from libperl): 
  Compile-time options:
    DEBUGGING
    HAS_LONG_DOUBLE
    HAS_STRTOLD
    HAS_TIMES
    PERLIO_LAYERS
    PERL_COPY_ON_WRITE
    PERL_DONT_CREATE_GVSV
    PERL_HASH_FUNC_SIPHASH13
    PERL_HASH_USE_SBOX32
    PERL_MALLOC_WRAP
    PERL_OP_PARENT
    PERL_PRESERVE_IVUV
    PERL_USE_DEVEL
    PERL_USE_SAFE_PUTENV
    USE_64_BIT_ALL
    USE_64_BIT_INT
    USE_LARGE_FILES
    USE_LOCALE
    USE_LOCALE_COLLATE
    USE_LOCALE_CTYPE
    USE_LOCALE_NUMERIC
    USE_LOCALE_TIME
    USE_PERLIO
    USE_PERL_ATOF
  Built under linux
  Compiled at Jul  3 2023 04:01:37
  %ENV:
    PERL="/tmp/basesmoker-reloperl-pcdd/bin/perl"
    PERL5LIB="/tmp/loop_over_bdir-2740-zpdQq4/NoZone-1.3-0/blib/arch:/tmp/loop_over_bdir-2740-zpdQq4/NoZone-1.3-0/blib/lib:/tmp/loop_over_bdir-2740-zpdQq4/dta-tokwrap-0.98-0/blib/arch:/tmp/loop_over_bdir-2740-zpdQq4/dta-tokwrap-0.98-0/blib/lib:/tmp/loop_over_bdir-2740-zpdQq4/CORBA-Python-2.66-0/blib/arch:/tmp/loop_over_bdir-2740-zpdQq4/CORBA-Python-2.66-0/blib/lib:/tmp/loop_over_bdir-2740-zpdQq4/Debian-Packages-0.03-0/blib/arch:/tmp/loop_over_bdir-2740-zpdQq4/Debian-Packages-0.03-0/blib/lib:/tmp/loop_over_bdir-2740-zpdQq4/MP3-PodcastFetch-1.05-0/blib/arch:/tmp/loop_over_bdir-2740-zpdQq4/MP3-PodcastFetch-1.05-0/blib/lib:/tmp/loop_over_bdir-2740-zpdQq4/Net-Async-WebService-lxd-0.03-0/blib/arch:/tmp/loop_over_bdir-2740-zpdQq4/Net-Async-WebService-lxd-0.03-0/blib/lib:/tmp/loop_over_bdir-2740-zpdQq4/HTML-Menu-TreeView-1.22-0/blib/arch:/tmp/loop_over_bdir-2740-zpdQq4/HTML-Menu-TreeView-1.22-0/blib/lib:/tmp/loop_over_bdir-2740-zpdQq4/Dpkg-1.21.22-0/blib/arch:/tmp/loop_over_bdir-2740-zpdQq4/Dpkg-1.21.22-0/blib/lib"
    PERL5OPT=""
    PERL5_CPANPLUS_IS_RUNNING="2749"
    PERL5_CPAN_IS_RUNNING="2749"
    PERL_CANARY_STABILITY_NOPROMPT="1"
    PERL_MM_USE_DEFAULT="1"
    PERL_USE_UNSAFE_INC="1"
  @INC:
    /tmp/loop_over_bdir-2740-zpdQq4/NoZone-1.3-0/blib/arch
    /tmp/loop_over_bdir-2740-zpdQq4/NoZone-1.3-0/blib/lib
    /tmp/loop_over_bdir-2740-zpdQq4/dta-tokwrap-0.98-0/blib/arch
    /tmp/loop_over_bdir-2740-zpdQq4/dta-tokwrap-0.98-0/blib/lib
    /tmp/loop_over_bdir-2740-zpdQq4/CORBA-Python-2.66-0/blib/arch
    /tmp/loop_over_bdir-2740-zpdQq4/CORBA-Python-2.66-0/blib/lib
    /tmp/loop_over_bdir-2740-zpdQq4/Debian-Packages-0.03-0/blib/arch
    /tmp/loop_over_bdir-2740-zpdQq4/Debian-Packages-0.03-0/blib/lib
    /tmp/loop_over_bdir-2740-zpdQq4/MP3-PodcastFetch-1.05-0/blib/arch
    /tmp/loop_over_bdir-2740-zpdQq4/MP3-PodcastFetch-1.05-0/blib/lib
    /tmp/loop_over_bdir-2740-zpdQq4/Net-Async-WebService-lxd-0.03-0/blib/arch
    /tmp/loop_over_bdir-2740-zpdQq4/Net-Async-WebService-lxd-0.03-0/blib/lib
    /tmp/loop_over_bdir-2740-zpdQq4/HTML-Menu-TreeView-1.22-0/blib/arch
    /tmp/loop_over_bdir-2740-zpdQq4/HTML-Menu-TreeView-1.22-0/blib/lib
    /tmp/loop_over_bdir-2740-zpdQq4/Dpkg-1.21.22-0/blib/arch
    /tmp/loop_over_bdir-2740-zpdQq4/Dpkg-1.21.22-0/blib/lib
    /home/sand/src/perl/repoperls/installed-perls/host/k93focal/v5.38.0/b254/lib/site_perl/5.38.0/x86_64-linux
    /home/sand/src/perl/repoperls/installed-perls/host/k93focal/v5.38.0/b254/lib/site_perl/5.38.0
    /home/sand/src/perl/repoperls/installed-perls/host/k93focal/v5.38.0/b254/lib/5.38.0/x86_64-linux
    /home/sand/src/perl/repoperls/installed-perls/host/k93focal/v5.38.0/b254/lib/5.38.0
    .