Report for Module-PrintUsed-0.06

Back
From: metabase:user:314402c4-2aae-11df-837a-5e0a49663a4f
Subject: PASS Module-PrintUsed-0.06 v5.22.3 RC3 GNU/Linux
Date: 2016-08-20T08:55:18Z

This distribution has been tested as part of the CPAN Testers
project, supporting the Perl programming language.  See
http://wiki.cpantesters.org/ for more information or email
questions to cpan-testers-discuss@perl.org


--
Dear Christian Renz,

This is a computer-generated report for Module-PrintUsed-0.06
on perl 5.22.3, created by CPAN-Reporter-1.2018.

Thank you for uploading your work to CPAN.  Congratulations!
All tests were successful.

Sections of this report:

    * Tester comments
    * Program output
    * Prerequisites
    * Environment and other context

------------------------------
TESTER COMMENTS
------------------------------

Additional comments from tester:

none provided

------------------------------
PROGRAM OUTPUT
------------------------------

Output from '/usr/bin/make test':

PERL_DL_NONLAZY=1 "/bbbike/perl-5.22.3-RC3/bin/perl" "-MExtUtils::Command::MM" "-MTest::Harness" "-e" "undef *Test::Harness::Switches; test_harness(0, 'blib/lib', 'blib/arch')" t/*.t

Modules used by t/1-use.t:
 - Carp                      1.38     /opt/perl-5.22.3-RC3/lib/site_perl/5.22.3/Carp.pm
 - Exporter                  5.72     /opt/perl-5.22.3-RC3/lib/5.22.3/Exporter.pm
 - Exporter::Heavy           5.72     /opt/perl-5.22.3-RC3/lib/5.22.3/Exporter/Heavy.pm
 - Module::PrintUsed         0.06     /tmpfs/.cpan-build-cpansand/2016082006/Module-PrintUsed-0.06-ffNj6O/blib/lib/Module/PrintUsed.pm
 - Test                      1.26_01  /opt/perl-5.22.3-RC3/lib/5.22.3/Test.pm
 - strict                    1.09     /opt/perl-5.22.3-RC3/lib/5.22.3/strict.pm
 - vars                      1.03     /opt/perl-5.22.3-RC3/lib/5.22.3/vars.pm
 - warnings                  1.34     /opt/perl-5.22.3-RC3/lib/5.22.3/warnings.pm
 - warnings::register        1.04     /opt/perl-5.22.3-RC3/lib/5.22.3/warnings/register.pm

t/1-use.t ......... ok

Modules used by t/2-modules.t:
 - Carp                      1.38     /opt/perl-5.22.3-RC3/lib/site_perl/5.22.3/Carp.pm
 - Exporter                  5.72     /opt/perl-5.22.3-RC3/lib/5.22.3/Exporter.pm
 - Exporter::Heavy           5.72     /opt/perl-5.22.3-RC3/lib/5.22.3/Exporter/Heavy.pm
 - Module::PrintUsed         0.06     /tmpfs/.cpan-build-cpansand/2016082006/Module-PrintUsed-0.06-ffNj6O/blib/lib/Module/PrintUsed.pm
 - Test                      1.26_01  /opt/perl-5.22.3-RC3/lib/5.22.3/Test.pm
 - strict                    1.09     /opt/perl-5.22.3-RC3/lib/5.22.3/strict.pm
 - vars                      1.03     /opt/perl-5.22.3-RC3/lib/5.22.3/vars.pm
 - warnings                  1.34     /opt/perl-5.22.3-RC3/lib/5.22.3/warnings.pm
 - warnings::register        1.04     /opt/perl-5.22.3-RC3/lib/5.22.3/warnings/register.pm

t/2-modules.t ..... ok
t/meta.t .......... ok

Modules used by t/pod-coverage.t:
 - B                         1.58     /opt/perl-5.22.3-RC3/lib/5.22.3/x86_64-linux/B.pm
 - Carp                      1.38     /opt/perl-5.22.3-RC3/lib/site_perl/5.22.3/Carp.pm
 - Config                    5.022003 /opt/perl-5.22.3-RC3/lib/5.22.3/x86_64-linux/Config.pm
 - Config_git.pl                      /opt/perl-5.22.3-RC3/lib/5.22.3/x86_64-linux/Config_git.pl
 - Config_heavy.pl                    /opt/perl-5.22.3-RC3/lib/5.22.3/x86_64-linux/Config_heavy.pl
 - Cwd                       3.56_02  /opt/perl-5.22.3-RC3/lib/5.22.3/x86_64-linux/Cwd.pm
 - Devel::Symdump            2.17     /opt/perl-5.22.3-RC3/lib/site_perl/5.22.3/Devel/Symdump.pm
 - DynaLoader                1.32     /opt/perl-5.22.3-RC3/lib/5.22.3/x86_64-linux/DynaLoader.pm
 - Exporter                  5.72     /opt/perl-5.22.3-RC3/lib/5.22.3/Exporter.pm
 - File::Basename            2.85     /opt/perl-5.22.3-RC3/lib/5.22.3/File/Basename.pm
 - File::Find                1.29     /opt/perl-5.22.3-RC3/lib/5.22.3/File/Find.pm
 - File::Spec                3.56_02  /opt/perl-5.22.3-RC3/lib/5.22.3/x86_64-linux/File/Spec.pm
 - File::Spec::Unix          3.56_02  /opt/perl-5.22.3-RC3/lib/5.22.3/x86_64-linux/File/Spec/Unix.pm
 - List::Util                1.45     /opt/perl-5.22.3-RC3/lib/site_perl/5.22.3/x86_64-linux/List/Util.pm
 - Module::PrintUsed         0.06     /tmpfs/.cpan-build-cpansand/2016082006/Module-PrintUsed-0.06-ffNj6O/blib/lib/Module/PrintUsed.pm
 - PerlIO                    1.09     /opt/perl-5.22.3-RC3/lib/5.22.3/PerlIO.pm
 - Pod::Coverage             0.23     /opt/perl-5.22.3-RC3/lib/site_perl/5.22.3/Pod/Coverage.pm
 - Pod::Find                 1.63     /opt/perl-5.22.3-RC3/lib/5.22.3/Pod/Find.pm
 - Pod::InputObjects         1.63     /opt/perl-5.22.3-RC3/lib/5.22.3/Pod/InputObjects.pm
 - Pod::Parser               1.63     /opt/perl-5.22.3-RC3/lib/5.22.3/Pod/Parser.pm
 - Scalar::Util              1.45     /opt/perl-5.22.3-RC3/lib/site_perl/5.22.3/x86_64-linux/Scalar/Util.pm
 - Test::Builder             1.302052 /opt/perl-5.22.3-RC3/lib/site_perl/5.22.3/Test/Builder.pm
 - Test::Builder::Formatter  1.302052 /opt/perl-5.22.3-RC3/lib/site_perl/5.22.3/Test/Builder/Formatter.pm
 - Test::Builder::Module     1.302052 /opt/perl-5.22.3-RC3/lib/site_perl/5.22.3/Test/Builder/Module.pm
 - Test::Builder::TodoDiag   1.302052 /opt/perl-5.22.3-RC3/lib/site_perl/5.22.3/Test/Builder/TodoDiag.pm
 - Test::More                1.302052 /opt/perl-5.22.3-RC3/lib/site_perl/5.22.3/Test/More.pm
 - Test::Pod::Coverage       1.10     /opt/perl-5.22.3-RC3/lib/site_perl/5.22.3/Test/Pod/Coverage.pm
 - Test2::API                1.302052 /opt/perl-5.22.3-RC3/lib/site_perl/5.22.3/Test2/API.pm
 - Test2::API::Context       1.302052 /opt/perl-5.22.3-RC3/lib/site_perl/5.22.3/Test2/API/Context.pm
 - Test2::API::Instance      1.302052 /opt/perl-5.22.3-RC3/lib/site_perl/5.22.3/Test2/API/Instance.pm
 - Test2::API::Stack         1.302052 /opt/perl-5.22.3-RC3/lib/site_perl/5.22.3/Test2/API/Stack.pm
 - Test2::Event              1.302052 /opt/perl-5.22.3-RC3/lib/site_perl/5.22.3/Test2/Event.pm
 - Test2::Event::Bail        1.302052 /opt/perl-5.22.3-RC3/lib/site_perl/5.22.3/Test2/Event/Bail.pm
 - Test2::Event::Diag        1.302052 /opt/perl-5.22.3-RC3/lib/site_perl/5.22.3/Test2/Event/Diag.pm
 - Test2::Event::Exception   1.302052 /opt/perl-5.22.3-RC3/lib/site_perl/5.22.3/Test2/Event/Exception.pm
 - Test2::Event::Info        1.302052 /opt/perl-5.22.3-RC3/lib/site_perl/5.22.3/Test2/Event/Info.pm
 - Test2::Event::Note        1.302052 /opt/perl-5.22.3-RC3/lib/site_perl/5.22.3/Test2/Event/Note.pm
 - Test2::Event::Ok          1.302052 /opt/perl-5.22.3-RC3/lib/site_perl/5.22.3/Test2/Event/Ok.pm
 - Test2::Event::Plan        1.302052 /opt/perl-5.22.3-RC3/lib/site_perl/5.22.3/Test2/Event/Plan.pm
 - Test2::Event::Skip        1.302052 /opt/perl-5.22.3-RC3/lib/site_perl/5.22.3/Test2/Event/Skip.pm
 - Test2::Event::Subtest     1.302052 /opt/perl-5.22.3-RC3/lib/site_perl/5.22.3/Test2/Event/Subtest.pm
 - Test2::Event::Waiting     1.302052 /opt/perl-5.22.3-RC3/lib/site_perl/5.22.3/Test2/Event/Waiting.pm
 - Test2::Formatter          1.302052 /opt/perl-5.22.3-RC3/lib/site_perl/5.22.3/Test2/Formatter.pm
 - Test2::Formatter::TAP     1.302052 /opt/perl-5.22.3-RC3/lib/site_perl/5.22.3/Test2/Formatter/TAP.pm
 - Test2::Hub                1.302052 /opt/perl-5.22.3-RC3/lib/site_perl/5.22.3/Test2/Hub.pm
 - Test2::Hub::Interceptor   1.302052 /opt/perl-5.22.3-RC3/lib/site_perl/5.22.3/Test2/Hub/Interceptor.pm
 - Test2::Hub::Interceptor::Terminator 1.302052 /opt/perl-5.22.3-RC3/lib/site_perl/5.22.3/Test2/Hub/Interceptor/Terminator.pm
 - Test2::Hub::Subtest       1.302052 /opt/perl-5.22.3-RC3/lib/site_perl/5.22.3/Test2/Hub/Subtest.pm
 - Test2::Util               1.302052 /opt/perl-5.22.3-RC3/lib/site_perl/5.22.3/Test2/Util.pm
 - Test2::Util::ExternalMeta 1.302052 /opt/perl-5.22.3-RC3/lib/site_perl/5.22.3/Test2/Util/ExternalMeta.pm
 - Test2::Util::HashBase     1.302052 /opt/perl-5.22.3-RC3/lib/site_perl/5.22.3/Test2/Util/HashBase.pm
 - Test2::Util::Trace        1.302052 /opt/perl-5.22.3-RC3/lib/site_perl/5.22.3/Test2/Util/Trace.pm
 - XSLoader                  0.22     /opt/perl-5.22.3-RC3/lib/site_perl/5.22.3/x86_64-linux/XSLoader.pm
 - base                      2.2201   /opt/perl-5.22.3-RC3/lib/5.22.3/base.pm
 - constant                  1.33     /opt/perl-5.22.3-RC3/lib/5.22.3/constant.pm
 - mro                       1.17     /opt/perl-5.22.3-RC3/lib/5.22.3/x86_64-linux/mro.pm
 - re                        0.32     /opt/perl-5.22.3-RC3/lib/5.22.3/x86_64-linux/re.pm
 - strict                    1.09     /opt/perl-5.22.3-RC3/lib/5.22.3/strict.pm
 - vars                      1.03     /opt/perl-5.22.3-RC3/lib/5.22.3/vars.pm
 - warnings                  1.34     /opt/perl-5.22.3-RC3/lib/5.22.3/warnings.pm
 - warnings::register        1.04     /opt/perl-5.22.3-RC3/lib/5.22.3/warnings/register.pm

t/pod-coverage.t .. ok
t/pod.t ........... ok
All tests successful.
Files=5, Tests=8,  1 wallclock secs ( 0.02 usr  0.03 sys +  0.14 cusr  0.02 csys =  0.21 CPU)
Result: PASS

------------------------------
PREREQUISITES
------------------------------

Prerequisite modules loaded:

requires:

    Module              Need  Have    
    ------------------- ----- --------
    perl                5.006 5.022003

build_requires:

    Module              Need  Have    
    ------------------- ----- --------
    ExtUtils::MakeMaker 0     7.22    

configure_requires:

    Module              Need  Have    
    ------------------- ----- --------
    ExtUtils::MakeMaker 0     7.22    


------------------------------
ENVIRONMENT AND OTHER CONTEXT
------------------------------

Environment variables:

    LANG = C
    PATH = /usr/local/bin:/usr/bin:/bin:/usr/local/sbin:/usr/sbin:/sbin:/home/cpansand/bin/linux-gnu:/home/cpansand/bin/sh:/home/cpansand/bin:/usr/games:/home/cpansand/devel:/home/eserte/src/srezic-misc/scripts
    PERL5LIB = 
    PERL5OPT = 
    PERL5_CPANPLUS_IS_RUNNING = 1864
    PERL5_CPAN_IS_RUNNING = 1864
    PERL5_CPAN_IS_RUNNING_IN_RECURSION = 1700,1864
    PERLDOC = -MPod::Perldoc::ToTextOverstrike
    PERL_BATCH = yes
    PERL_CANARY_STABILITY_NOPROMPT = 1
    PERL_CPAN_REPORTER_CONFIG = /run/user/1023/cpansmoker/2016082006/cpanreporter_003_config.ini
    PERL_EXTUTILS_AUTOINSTALL = --defaultdeps
    PERL_USE_UNSAFE_INC = 1
    PISTACHIO_PERL_MANAGER = 1
    SHELL = /bin/zsh
    TERM = screen
    TMPDIR = /run/user/1023/cpansmoker/2016082006

Perl special variables (and OS-specific diagnostics, for MSWin32):

    $^X = /bbbike/perl-5.22.3-RC3/bin/perl
    $UID/$EUID = 1023 / 1023
    $GID = 1023 1023
    $EGID = 1023 1023

Perl module toolchain versions installed:

    Module              Have      
    ------------------- ----------
    CPAN                2.11_01   
    CPAN::Meta          2.150010  
    Cwd                 3.56_02   
    ExtUtils::CBuilder  0.280221  
    ExtUtils::Command   7.22      
    ExtUtils::Install   2.04      
    ExtUtils::MakeMaker 7.22      
    ExtUtils::Manifest  1.70      
    ExtUtils::ParseXS   3.28      
    File::Spec          3.56_02   
    JSON                2.90      
    JSON::PP            2.27300_01
    Module::Build       0.4220    
    Module::Signature   0.80      
    Parse::CPAN::Meta   2.150010  
    Test::Harness       3.35_01   
    Test::More          1.302052  
    YAML                1.18      
    YAML::Syck          1.29      
    version             0.9917    


--

Summary of my perl5 (revision 5 version 22 subversion 3) configuration:
   
  Platform:
    osname=linux, osvers=3.16.0-4-amd64, archname=x86_64-linux
    uname='linux eserte 3.16.0-4-amd64 #1 smp debian 3.16.7-ckt25-2+deb8u3 (2016-07-02) x86_64 gnulinux '
    config_args='-ds -e -Dprefix=/opt/perl-5.22.3-RC3 -Dcf_email=srezic@cpan.org'
    hint=recommended, useposix=true, d_sigaction=define
    useithreads=undef, usemultiplicity=undef
    use64bitint=define, use64bitall=define, uselongdouble=undef
    usemymalloc=n, bincompat5005=undef
  Compiler:
    cc='cc', ccflags ='-fwrapv -fno-strict-aliasing -pipe -fstack-protector-strong -I/usr/local/include -D_LARGEFILE_SOURCE -D_FILE_OFFSET_BITS=64 -D_FORTIFY_SOURCE=2',
    optimize='-O2',
    cppflags='-fwrapv -fno-strict-aliasing -pipe -fstack-protector-strong -I/usr/local/include'
    ccversion='', gccversion='4.9.2', gccosandvers=''
    intsize=4, longsize=8, ptrsize=8, doublesize=8, byteorder=12345678, doublekind=3
    d_longlong=define, longlongsize=8, d_longdbl=define, longdblsize=16, longdblkind=3
    ivtype='long', ivsize=8, nvtype='double', nvsize=8, Off_t='off_t', lseeksize=8
    alignbytes=8, prototype=define
  Linker and Libraries:
    ld='cc', ldflags =' -fstack-protector-strong -L/usr/local/lib'
    libpth=/usr/local/lib /usr/lib/gcc/x86_64-linux-gnu/4.9/include-fixed /usr/include/x86_64-linux-gnu /usr/lib /lib/x86_64-linux-gnu /lib/../lib /usr/lib/x86_64-linux-gnu /usr/lib/../lib /lib
    libs=-lpthread -lnsl -lgdbm -ldb -ldl -lm -lcrypt -lutil -lc -lgdbm_compat
    perllibs=-lpthread -lnsl -ldl -lm -lcrypt -lutil -lc
    libc=libc-2.19.so, so=so, useshrplib=false, libperl=libperl.a
    gnulibc_version='2.19'
  Dynamic Linking:
    dlsrc=dl_dlopen.xs, dlext=so, d_dlsymun=undef, ccdlflags='-Wl,-E'
    cccdlflags='-fPIC', lddlflags='-shared -O2 -L/usr/local/lib -fstack-protector-strong'


Characteristics of this binary (from libperl): 
  Compile-time options: HAS_TIMES PERLIO_LAYERS PERL_DONT_CREATE_GVSV
                        PERL_HASH_FUNC_ONE_AT_A_TIME_HARD PERL_MALLOC_WRAP
                        PERL_NEW_COPY_ON_WRITE PERL_PRESERVE_IVUV
                        USE_64_BIT_ALL USE_64_BIT_INT USE_LARGE_FILES
                        USE_LOCALE USE_LOCALE_COLLATE USE_LOCALE_CTYPE
                        USE_LOCALE_NUMERIC USE_LOCALE_TIME USE_PERLIO
                        USE_PERL_ATOF
  Locally applied patches:
	RC3
  Built under linux
  Compiled at Aug 19 2016 14:03:58
  %ENV:
    PERL5LIB=""
    PERL5OPT=""
    PERL5_CPANPLUS_IS_RUNNING="1864"
    PERL5_CPAN_IS_RUNNING="1864"
    PERL5_CPAN_IS_RUNNING_IN_RECURSION="1700,1864"
    PERLDOC="-MPod::Perldoc::ToTextOverstrike"
    PERL_BATCH="yes"
    PERL_CANARY_STABILITY_NOPROMPT="1"
    PERL_CPAN_REPORTER_CONFIG="/run/user/1023/cpansmoker/2016082006/cpanreporter_003_config.ini"
    PERL_EXTUTILS_AUTOINSTALL="--defaultdeps"
    PERL_USE_UNSAFE_INC="1"
  @INC:
    /opt/perl-5.22.3-RC3/lib/site_perl/5.22.3/x86_64-linux
    /opt/perl-5.22.3-RC3/lib/site_perl/5.22.3
    /opt/perl-5.22.3-RC3/lib/5.22.3/x86_64-linux
    /opt/perl-5.22.3-RC3/lib/5.22.3
    .