Back
From: metabase:user:c2f5ff8c-3c8f-11e3-bf27-fc60afd260fb
Subject: PASS Sort-Bucket-0.02 v5.16.3 GNU/Linux
Date: 2013-12-12T13:03:39Z
This distribution has been tested as part of the CPAN Testers
project, supporting the Perl programming language. See
http://wiki.cpantesters.org/ for more information or email
questions to cpan-testers-discuss@perl.org
--
Dear Nick Cleaton,
This is a computer-generated report for Sort-Bucket-0.02
on perl 5.16.3, created by CPAN-Reporter-1.2010.
Thank you for uploading your work to CPAN. Congratulations!
All tests were successful.
Sections of this report:
* Tester comments
* Program output
* Prerequisites
* Environment and other context
------------------------------
TESTER COMMENTS
------------------------------
Additional comments from tester:
this report is from an automated smoke testing program
and was not reviewed by a human for accuracy
------------------------------
PROGRAM OUTPUT
------------------------------
Output from './Build test':
#
# Benchmark | CORE::sort() | Sort::Bucket | Ratio
# 10k digits | 0.007031s | 0.001205s | 5.834
# 100k digits | 0.1869s | 0.02892s | 6.461
# 200k digits | 0.4483s | 0.07431s | 6.033
# 500k digits | 1.296s | 0.2909s | 4.457
# 1M digits | 3.424s | 0.5214s | 6.567
# 10k binary | 0.3957s | 0.001195s | 331.1
# 100k binary | 0.2944s | 0.01576s | 18.68
# 200k binary | 0.6968s | 0.0549s | 12.69
# 500k binary | 2.527s | 0.1275s | 19.82
# 1M binary | 5.372s | 0.4789s | 11.22
t/benchmark.t ............ ok
t/cbv-nondescending.t .... ok
t/cbv.t .................. ok
t/inplace_bucket_sort.t .. ok
t/inplace_gaps.t ......... ok
t/invalid.t .............. ok
t/ms_do_mergesort.t ...... ok
All tests successful.
Files=7, Tests=1413, 102 wallclock secs ( 0.20 usr 0.10 sys + 99.27 cusr 1.56 csys = 101.13 CPU)
Result: PASS
------------------------------
PREREQUISITES
------------------------------
Prerequisite modules loaded:
requires:
Module Need Have
-------------------- ---- --------
Exporter 0 5.66
XSLoader 0 0.16
build_requires:
Module Need Have
-------------------- ---- --------
Devel::Refcount 0 0.10
Digest::MD5 0 2.51
ExtUtils::CBuilder 0 0.280212
List::Util 0 1.25
Test::Exception 0 0.32
Test::Group 0 0.19
Test::Group::Foreach 0 0.03
Test::More 0.88 0.98
Time::HiRes 0 1.9725
configure_requires:
Module Need Have
-------------------- ---- --------
Module::Build 0.35 0.4007
------------------------------
ENVIRONMENT AND OTHER CONTEXT
------------------------------
Environment variables:
AUTOMATED_TESTING = 1
LANG = ru_RU
LANGUAGE = ru_RU:ru
LC_ADDRESS = en_US.UTF-8
LC_ALL = ru_RU.utf8
LC_IDENTIFICATION = en_US.UTF-8
LC_MEASUREMENT = en_US.UTF-8
LC_MONETARY = en_US.UTF-8
LC_NAME = en_US.UTF-8
LC_NUMERIC = en_US.UTF-8
LC_PAPER = en_US.UTF-8
LC_TELEPHONE = en_US.UTF-8
LC_TIME = en_US.UTF-8
PATH = /home/perltest/perl5/perlbrew/bin:/home/perltest/perl5/perlbrew/perls/perl-5.16.3-thread-multi/bin:/usr/local/sbin:/usr/local/bin:/usr/sbin:/usr/bin:/sbin:/bin:/usr/games:/usr/local/games
PERL5LIB = /home/perltest/.cpan/build/Devel-Refcount-0.10-0NO84O/blib/arch:/home/perltest/.cpan/build/Devel-Refcount-0.10-0NO84O/blib/lib:/home/perltest/.cpan/build/Test-Group-Foreach-0.03-GCSIja/blib/arch:/home/perltest/.cpan/build/Test-Group-Foreach-0.03-GCSIja/blib/lib:/home/perltest/.cpan/build/Test-NameNote-0.04-1qTcsx/blib/arch:/home/perltest/.cpan/build/Test-NameNote-0.04-1qTcsx/blib/lib:/home/perltest/.cpan/build/Sub-Prepend-0.01-rhSFQA/blib/arch:/home/perltest/.cpan/build/Sub-Prepend-0.01-rhSFQA/blib/lib:/home/perltest/.cpan/build/Test-Script-Run-0.08-4mhf4E/blib/arch:/home/perltest/.cpan/build/Test-Script-Run-0.08-4mhf4E/blib/lib:/home/perltest/.cpan/build/Pod-Snippets-0.14-bli3eU/blib/arch:/home/perltest/.cpan/build/Pod-Snippets-0.14-bli3eU/blib/lib:/home/perltest/.cpan/build/Test-Group-0.19-KHtOpW/blib/arch:/home/perltest/.cpan/build/Test-Group-0.19-KHtOpW/blib/lib:/home/perltest/.cpan/build/Test-Cmd-1.05-Mhvc0f/blib/arch:/home/perltest/.cpan/build/Test-Cmd-1.05-Mhvc0f/blib/lib
PERL5OPT =
PERL5_CPANPLUS_IS_RUNNING = 6686
PERL5_CPAN_IS_RUNNING = 6686
PERL5_CPAN_IS_RUNNING_IN_RECURSION = 3056,6686
PERLBREW_BASHRC_VERSION = 0.66
PERLBREW_HOME = /home/perltest/.perlbrew
PERLBREW_MANPATH = /home/perltest/perl5/perlbrew/perls/perl-5.16.3-thread-multi/man
PERLBREW_PATH = /home/perltest/perl5/perlbrew/bin:/home/perltest/perl5/perlbrew/perls/perl-5.16.3-thread-multi/bin
PERLBREW_PERL = perl-5.16.3-thread-multi
PERLBREW_ROOT = /home/perltest/perl5/perlbrew
PERLBREW_VERSION = 0.66
PERL_CR_SMOKER_CURRENT = Sort-Bucket-0.02
PERL_EXTUTILS_AUTOINSTALL = --defaultdeps
PERL_MM_USE_DEFAULT = 1
SHELL = /bin/bash
TERM = xterm
Perl special variables (and OS-specific diagnostics, for MSWin32):
$^X = /home/perltest/perl5/perlbrew/perls/perl-5.16.3-thread-multi/bin/perl
$UID/$EUID = 1001 / 1001
$GID = 1001 1001
$EGID = 1001 1001
Perl module toolchain versions installed:
Module Have
------------------- --------
CPAN 2.00
CPAN::Meta 2.120630
Cwd 3.40
ExtUtils::CBuilder 0.280212
ExtUtils::Command 1.17
ExtUtils::Install 1.58
ExtUtils::MakeMaker 6.63_02
ExtUtils::Manifest 1.61
ExtUtils::ParseXS 3.16
File::Spec 3.40
JSON 2.61
JSON::PP 2.27203
Module::Build 0.4007
Module::Signature n/a
Parse::CPAN::Meta 1.4402
Test::Harness 3.23
Test::More 0.98
YAML 0.84
YAML::Syck 1.27
version 0.9904
--
Summary of my perl5 (revision 5 version 16 subversion 3) configuration:
Platform:
osname=linux, osvers=3.8.0-32-generic, archname=x86_64-linux-thread-multi
uname='linux vm22-ubuntu 3.8.0-32-generic #47-ubuntu smp tue oct 1 22:35:23 utc 2013 x86_64 x86_64 x86_64 gnulinux '
config_args='-de -Dprefix=/home/perltest/perl5/perlbrew/perls/perl-5.16.3-thread-multi -Dusethreads -Dusemultiplicity -Aeval:scriptdir=/home/perltest/perl5/perlbrew/perls/perl-5.16.3-thread-multi/bin'
hint=recommended, useposix=true, d_sigaction=define
useithreads=define, usemultiplicity=define
useperlio=define, d_sfio=undef, uselargefiles=define, usesocks=undef
use64bitint=define, use64bitall=define, uselongdouble=undef
usemymalloc=n, bincompat5005=undef
Compiler:
cc='cc', ccflags ='-D_REENTRANT -D_GNU_SOURCE -fno-strict-aliasing -pipe -fstack-protector -I/usr/local/include -D_LARGEFILE_SOURCE -D_FILE_OFFSET_BITS=64',
optimize='-O2',
cppflags='-D_REENTRANT -D_GNU_SOURCE -fno-strict-aliasing -pipe -fstack-protector -I/usr/local/include'
ccversion='', gccversion='4.7.3', gccosandvers=''
intsize=4, longsize=8, ptrsize=8, doublesize=8, byteorder=12345678
d_longlong=define, longlongsize=8, d_longdbl=define, longdblsize=16
ivtype='long', ivsize=8, nvtype='double', nvsize=8, Off_t='off_t', lseeksize=8
alignbytes=8, prototype=define
Linker and Libraries:
ld='cc', ldflags =' -fstack-protector -L/usr/local/lib'
libpth=/usr/local/lib /lib/x86_64-linux-gnu /lib/../lib /usr/lib/x86_64-linux-gnu /usr/lib/../lib /lib /usr/lib
libs=-lnsl -ldl -lm -lcrypt -lutil -lpthread -lc
perllibs=-lnsl -ldl -lm -lcrypt -lutil -lpthread -lc
libc=, so=so, useshrplib=false, libperl=libperl.a
gnulibc_version='2.17'
Dynamic Linking:
dlsrc=dl_dlopen.xs, dlext=so, d_dlsymun=undef, ccdlflags='-Wl,-E'
cccdlflags='-fPIC', lddlflags='-shared -O2 -L/usr/local/lib -fstack-protector'
Characteristics of this binary (from libperl):
Compile-time options: HAS_TIMES MULTIPLICITY PERLIO_LAYERS
PERL_DONT_CREATE_GVSV PERL_IMPLICIT_CONTEXT
PERL_MALLOC_WRAP PERL_PRESERVE_IVUV USE_64_BIT_ALL
USE_64_BIT_INT USE_ITHREADS USE_LARGE_FILES
USE_LOCALE USE_LOCALE_COLLATE USE_LOCALE_CTYPE
USE_LOCALE_NUMERIC USE_PERLIO USE_PERL_ATOF
USE_REENTRANT_API
Built under linux
Compiled at Oct 24 2013 08:45:12
%ENV:
PERL5LIB="/home/perltest/.cpan/build/Devel-Refcount-0.10-0NO84O/blib/arch:/home/perltest/.cpan/build/Devel-Refcount-0.10-0NO84O/blib/lib:/home/perltest/.cpan/build/Test-Group-Foreach-0.03-GCSIja/blib/arch:/home/perltest/.cpan/build/Test-Group-Foreach-0.03-GCSIja/blib/lib:/home/perltest/.cpan/build/Test-NameNote-0.04-1qTcsx/blib/arch:/home/perltest/.cpan/build/Test-NameNote-0.04-1qTcsx/blib/lib:/home/perltest/.cpan/build/Sub-Prepend-0.01-rhSFQA/blib/arch:/home/perltest/.cpan/build/Sub-Prepend-0.01-rhSFQA/blib/lib:/home/perltest/.cpan/build/Test-Script-Run-0.08-4mhf4E/blib/arch:/home/perltest/.cpan/build/Test-Script-Run-0.08-4mhf4E/blib/lib:/home/perltest/.cpan/build/Pod-Snippets-0.14-bli3eU/blib/arch:/home/perltest/.cpan/build/Pod-Snippets-0.14-bli3eU/blib/lib:/home/perltest/.cpan/build/Test-Group-0.19-KHtOpW/blib/arch:/home/perltest/.cpan/build/Test-Group-0.19-KHtOpW/blib/lib:/home/perltest/.cpan/build/Test-Cmd-1.05-Mhvc0f/blib/arch:/home/perltest/.cpan/build/Test-Cmd-1.05-Mhvc0f/blib/lib"
PERL5OPT=""
PERL5_CPANPLUS_IS_RUNNING="6686"
PERL5_CPAN_IS_RUNNING="6686"
PERL5_CPAN_IS_RUNNING_IN_RECURSION="3056,6686"
PERLBREW_BASHRC_VERSION="0.66"
PERLBREW_HOME="/home/perltest/.perlbrew"
PERLBREW_MANPATH="/home/perltest/perl5/perlbrew/perls/perl-5.16.3-thread-multi/man"
PERLBREW_PATH="/home/perltest/perl5/perlbrew/bin:/home/perltest/perl5/perlbrew/perls/perl-5.16.3-thread-multi/bin"
PERLBREW_PERL="perl-5.16.3-thread-multi"
PERLBREW_ROOT="/home/perltest/perl5/perlbrew"
PERLBREW_VERSION="0.66"
PERL_CR_SMOKER_CURRENT="Sort-Bucket-0.02"
PERL_EXTUTILS_AUTOINSTALL="--defaultdeps"
PERL_MM_USE_DEFAULT="1"
@INC:
/home/perltest/.cpan/build/Devel-Refcount-0.10-0NO84O/blib/arch
/home/perltest/.cpan/build/Devel-Refcount-0.10-0NO84O/blib/lib
/home/perltest/.cpan/build/Test-Group-Foreach-0.03-GCSIja/blib/arch
/home/perltest/.cpan/build/Test-Group-Foreach-0.03-GCSIja/blib/lib
/home/perltest/.cpan/build/Test-NameNote-0.04-1qTcsx/blib/arch
/home/perltest/.cpan/build/Test-NameNote-0.04-1qTcsx/blib/lib
/home/perltest/.cpan/build/Sub-Prepend-0.01-rhSFQA/blib/arch
/home/perltest/.cpan/build/Sub-Prepend-0.01-rhSFQA/blib/lib
/home/perltest/.cpan/build/Test-Script-Run-0.08-4mhf4E/blib/arch
/home/perltest/.cpan/build/Test-Script-Run-0.08-4mhf4E/blib/lib
/home/perltest/.cpan/build/Pod-Snippets-0.14-bli3eU/blib/arch
/home/perltest/.cpan/build/Pod-Snippets-0.14-bli3eU/blib/lib
/home/perltest/.cpan/build/Test-Group-0.19-KHtOpW/blib/arch
/home/perltest/.cpan/build/Test-Group-0.19-KHtOpW/blib/lib
/home/perltest/.cpan/build/Test-Cmd-1.05-Mhvc0f/blib/arch
/home/perltest/.cpan/build/Test-Cmd-1.05-Mhvc0f/blib/lib
/home/perltest/perl5/perlbrew/perls/perl-5.16.3-thread-multi/lib/site_perl/5.16.3/x86_64-linux-thread-multi
/home/perltest/perl5/perlbrew/perls/perl-5.16.3-thread-multi/lib/site_perl/5.16.3
/home/perltest/perl5/perlbrew/perls/perl-5.16.3-thread-multi/lib/5.16.3/x86_64-linux-thread-multi
/home/perltest/perl5/perlbrew/perls/perl-5.16.3-thread-multi/lib/5.16.3
.