Report for autodie-2.29

Back
From: metabase:user:20a45eae-6c1a-1014-abaf-4bc2b30e56df
Subject: PASS autodie-2.29 v5.25.3 Windows (Cygwin)
Date: 2017-01-14T13:33:18Z

This distribution has been tested as part of the CPAN Testers
project, supporting the Perl programming language.  See
http://wiki.cpantesters.org/ for more information or email
questions to cpan-testers-discuss@perl.org


--
Dear Paul Jamieson Fenwick,

This is a computer-generated report for autodie-2.29
on perl 5.25.3, created by CPAN-Reporter-1.2018.

Thank you for uploading your work to CPAN.  Congratulations!
All tests were successful.

Sections of this report:

    * Tester comments
    * Program output
    * Prerequisites
    * Environment and other context

------------------------------
TESTER COMMENTS
------------------------------

Additional comments from tester:

this report is from an automated smoke testing program
and was not reviewed by a human for accuracy

------------------------------
PROGRAM OUTPUT
------------------------------

Output from '/usr/bin/make test':

PERL_DL_NONLAZY=1 "/cygdrive/e/opt/perl5/cygwin_nt-10.0/2.6.1/x86_64/perl/5.25.3/cygwin-thread/bin/perl.exe" "-MExtUtils::Command::MM" "-MTest::Harness" "-e" "undef *Test::Harness::Switches; test_harness(0, 'blib/lib', 'blib/arch')" t/*.t
t/00-load.t ...................... ok
t/args.t ......................... ok
t/author-critic.t ................ skipped: these tests are for testing by the author
t/autodie.t ...................... ok
t/backcompat.t ................... ok
t/basic_exceptions.t ............. ok
t/binmode.t ...................... ok
t/blog_hints.t ................... ok
t/caller.t ....................... ok
t/chmod.t ........................ ok
t/chown.t ........................ ok
t/context.t ...................... ok
t/context_lexical.t .............. ok
t/core-trampoline-slurp.t ........ ok
t/crickey.t ...................... ok
t/critic.t ....................... skipped: Author test.  Set $ENV{AUTHOR_TESTING} to true to run.
t/dbmopen.t ...................... ok
t/eval_error.t ................... ok
t/exception_class.t .............. ok
t/exceptions.t ................... ok
t/exec.t ......................... ok
t/Fatal.t ........................ ok
t/filehandles.t .................. ok
t/fileno.t ....................... ok
t/flock.t ........................ ok
t/fork.t ......................... skipped: BSD::Resource required to test fork()
t/format-clobber.t ............... ok
# Sub::Identify is not loaded
t/hints.t ........................ ok
t/hints_insist.t ................. ok
t/hints_pod_examples.t ........... ok
t/hints_provider_does.t .......... ok
t/hints_provider_easy_does_it.t .. ok
t/hints_provider_isa.t ........... ok
t/import-into.t .................. skipped: Test needs Import::Into >= 1.002004
t/internal-backcompat.t .......... ok
t/internal.t ..................... ok
t/kill.t ......................... ok
t/kwalitee.t ..................... skipped: Author test.  Set $ENV{RELEASE_TESTING} to true to run.
t/lethal.t ....................... ok
t/lex58.t ........................ skipped: IPC::System::Simple required
t/mkdir.t ........................ ok
t/no_carp.t ...................... ok
t/open.t ......................... ok
t/pod-coverage.t ................. skipped: Author test.  Set $ENV{AUTHOR_TESTING} to true to run.
t/pod.t .......................... skipped: Author test.  Set $ENV{AUTHOR_TESTING} to true to run.
t/read.t ......................... ok
t/recv.t ......................... ok
t/release-pod-coverage.t ......... skipped: these tests are for release candidate testing
t/release-pod-syntax.t ........... skipped: these tests are for release candidate testing
t/repeat.t ....................... ok
t/rt-74246.t ..................... ok
t/scope_leak.t ................... ok
t/skip.t ......................... ok
t/socket.t ....................... skipped: Author test.  Set $ENV{AUTHOR_TESTING} to true to run.
t/string-eval-basic.t ............ ok
t/string-eval-leak.t ............. ok
t/sysopen.t ...................... ok
t/system.t ....................... skipped: IPC::System::Simple not installed
t/truncate.t ..................... ok
t/unlink.t ....................... ok
t/user-context.t ................. ok
t/usersub.t ...................... ok
t/utf8_open.t .................... ok
t/utime.t ........................ ok
t/version.t ...................... skipped: Release test.  Set $ENV{RELEASE_TESTING} to true to run.
t/version_tag.t .................. ok
All tests successful.
Files=66, Tests=495, 87 wallclock secs ( 0.27 usr  0.27 sys + 15.70 cusr 68.03 csys = 84.27 CPU)
Result: PASS

------------------------------
PREREQUISITES
------------------------------

Prerequisite modules loaded:

requires:

    Module              Need     Have    
    ------------------- -------- --------
    B                   0        1.62    
    Carp                0        1.41    
    constant            0        1.33    
    Exporter            5.57     5.72    
    Fcntl               0        1.13    
    overload            0        1.26    
    parent              0        0.234   
    perl                5.008004 5.025003
    POSIX               0        1.70    
    Scalar::Util        0        1.45_01 
    strict              0        1.11    
    Tie::RefHash        0        1.39    
    warnings            0        1.37    

build_requires:

    Module              Need     Have    
    ------------------- -------- --------
    ExtUtils::MakeMaker 0        7.18    
    File::Copy          0        2.32    
    File::Spec          0        3.64    
    File::Temp          0        0.2304  
    FindBin             0        1.51    
    if                  0        0.0606  
    IO::Handle          0        1.36    
    lib                 0        0.63    
    Socket              0        2.024   
    Test::More          0        1.302045

configure_requires:

    Module              Need     Have    
    ------------------- -------- --------
    ExtUtils::MakeMaker 0        7.18    


------------------------------
ENVIRONMENT AND OTHER CONTEXT
------------------------------

Environment variables:

    AUTOMATED_TESTING = 1
    COMSPEC = C:\WINDOWS\system32\cmd.exe
    LD_LIBRARY_PATH = 
    NUMBER_OF_PROCESSORS = 8
    PATH = /opt/perl5/cygwin_nt-10.0/2.6.1/x86_64/bin/5.25.3/cygwin-thread:/opt/perl5/cygwin_nt-10.0/2.6.1/x86_64/perl/5.25.3/cygwin-thread/local/bin:/opt/perl5/cygwin_nt-10.0/2.6.1/x86_64/perl/5.25.3/cygwin-thread/bin:/usr/local/bin:/usr/bin
    PERL5LIB = /opt/perl5/cygwin_nt-10.0/2.6.1/x86_64/cpan/5.25.3/cygwin-thread/build/Socket-2.024-0/blib/arch:/opt/perl5/cygwin_nt-10.0/2.6.1/x86_64/cpan/5.25.3/cygwin-thread/build/Socket-2.024-0/blib/lib:/opt/perl5/cygwin_nt-10.0/2.6.1/x86_64/cpan/5.25.3/cygwin-thread/build/Text-Abbrev-1.02-0/blib/arch:/opt/perl5/cygwin_nt-10.0/2.6.1/x86_64/cpan/5.25.3/cygwin-thread/build/Text-Abbrev-1.02-0/blib/lib:/opt/perl5/cygwin_nt-10.0/2.6.1/x86_64/cpan/5.25.3/cygwin-thread/build/Capture-Tiny-0.44-0/blib/arch:/opt/perl5/cygwin_nt-10.0/2.6.1/x86_64/cpan/5.25.3/cygwin-thread/build/Capture-Tiny-0.44-0/blib/lib:/opt/perl5/cygwin_nt-10.0/2.6.1/x86_64/cpan/5.25.3/cygwin-thread/build/File-Fetch-0.52-0/blib/arch:/opt/perl5/cygwin_nt-10.0/2.6.1/x86_64/cpan/5.25.3/cygwin-thread/build/File-Fetch-0.52-0/blib/lib:/opt/perl5/cygwin_nt-10.0/2.6.1/x86_64/cpan/5.25.3/cygwin-thread/build/Module-Load-Conditional-0.68-0/blib/arch:/opt/perl5/cygwin_nt-10.0/2.6.1/x86_64/cpan/5.25.3/cygwin-thread/build/Module-Load-Conditional-0.68-0/blib/lib:/opt/perl5/cygwin_nt-10.0/2.6.1/x86_64/cpan/5.25.3/cygwin-thread/build/AutoLoader-5.74-0/blib/arch:/opt/perl5/cygwin_nt-10.0/2.6.1/x86_64/cpan/5.25.3/cygwin-thread/build/AutoLoader-5.74-0/blib/lib:/opt/perl5/cygwin_nt-10.0/2.6.1/x86_64/perl/5.25.3/cygwin-thread/local/lib/site_perl/5.25.3:/opt/perl5/cygwin_nt-10.0/2.6.1/x86_64/perl/5.25.3/cygwin-thread/local/lib/5.25.3:/opt/perl5/cygwin_nt-10.0/2.6.1/x86_64/perl/5.25.3/cygwin-thread/local/lib/perl5
    PERL5OPT = 
    PERL5_CPANPLUS_IS_RUNNING = 5892
    PERL5_CPAN_IS_RUNNING = 5892
    PERL_CPAN_REPORTER_CONFIG = /opt/perl5/cygwin_nt-10.0/2.6.1/x86_64/cpan/5.25.3/cygwin-thread/reporter/config.ini
    PERL_CPAN_REPORTER_DIR = /opt/perl5/cygwin_nt-10.0/2.6.1/x86_64/cpan/5.25.3/cygwin-thread/reporter
    PERL_EXTUTILS_AUTOINSTALL = 1
    PERL_MM_USE_DEFAULT = 1
    PERL_MY_PREFIX = /opt/perl5
    PERL_MY_SOURCE_DIR = /cygdrive/e/src/perl
    PERL_TEST_CRITIC = 1
    PERL_TEST_CRITIC = 1
    PERL_TEST_POD = 1
    PERL_TEST_POD = 1
    POD_TESTING = 1
    POD_TESTS = 1
    PROCESSOR_IDENTIFIER = Intel64 Family 6 Model 42 Stepping 7, GenuineIntel
    SHELL = /usr/bin/bash
    TEMP = /tmp
    TERM = xterm

Perl special variables (and OS-specific diagnostics, for MSWin32):

    $^X = /cygdrive/e/opt/perl5/cygwin_nt-10.0/2.6.1/x86_64/perl/5.25.3/cygwin-thread/bin/perl
    $UID/$EUID = 197609 / 197609
    $GID = 197609 401408 545 4 66049 11 15 68380 113 66048 262180
    $EGID = 197609 401408 545 4 66049 11 15 68380 113 66048 262180

Perl module toolchain versions installed:

    Module              Have    
    ------------------- --------
    CPAN                2.14    
    CPAN::Meta          2.150005
    Cwd                 3.64    
    ExtUtils::CBuilder  0.280225
    ExtUtils::Command   7.18    
    ExtUtils::Install   2.04    
    ExtUtils::MakeMaker 7.18    
    ExtUtils::Manifest  1.70    
    ExtUtils::ParseXS   3.33    
    File::Spec          3.64    
    JSON                n/a     
    JSON::PP            2.27400 
    Module::Build       n/a     
    Module::Signature   n/a     
    Parse::CPAN::Meta   1.4422  
    Test::Harness       3.36    
    Test::More          1.302045
    YAML                1.21    
    YAML::Syck          n/a     
    version             0.9917  


--

Summary of my perl5 (revision 5 version 25 subversion 3) configuration:
   
  Platform:
    osname=cygwin
    osvers=2.6.1(0.30553)
    archname=cygwin-thread
    uname='cygwin_nt-10.0 rigel 2.6.1(0.30553) 2016-12-16 11:55 x86_64 cygwin '
    config_args='-de -Dmksymlinks -Dusedevel -Dcc=gcc -Dld=g++ -Uinc_version_list -Uinstallusrbinperl -Dusethreads -Uusemultiplicity -Duse64bitint -Uuselongdouble -Dprefix=/opt/perl5/cygwin_nt-10.0/2.6.1/x86_64/perl/5.25.3/cygwin-thread'
    hint=recommended
    useposix=true
    d_sigaction=define
    useithreads=define
    usemultiplicity=undef
    use64bitint=define
    use64bitall=define
    uselongdouble=undef
    usemymalloc=n
    bincompat5005=undef
  Compiler:
    cc='gcc'
    ccflags ='-DPERL_USE_SAFE_PUTENV -U__STRICT_ANSI__ -fwrapv -fno-strict-aliasing -pipe -fstack-protector-strong -D_FORTIFY_SOURCE=2'
    optimize='-O3'
    cppflags='-DPERL_USE_SAFE_PUTENV -U__STRICT_ANSI__ -fwrapv -fno-strict-aliasing -pipe -fstack-protector-strong'
    ccversion=''
    gccversion='5.4.0'
    gccosandvers=''
    intsize=4
    longsize=8
    ptrsize=8
    doublesize=8
    byteorder=12345678
    doublekind=3
    d_longlong=define
    longlongsize=8
    d_longdbl=define
    longdblsize=16
    longdblkind=3
    ivtype='long'
    ivsize=8
    nvtype='double'
    nvsize=8
    Off_t='off_t'
    lseeksize=8
    alignbytes=8
    prototype=define
  Linker and Libraries:
    ld='g++'
    ldflags =' -Wl,--enable-auto-import -Wl,--export-all-symbols -Wl,--enable-auto-image-base -fstack-protector-strong -L/usr/local/lib'
    libpth=/usr/lib /usr/lib/gcc/x86_64-pc-cygwin/5.4.0/../../../../lib/../include/w32api /usr/local/lib /lib
    libs=-lpthread -ldl -lcrypt
    perllibs=-lpthread -ldl -lcrypt
    libc=/usr/lib/libc.a
    so=dll
    useshrplib=true
    libperl=cygperl5_25_3.dll
    gnulibc_version=''
  Dynamic Linking:
    dlsrc=dl_dlopen.xs
    dlext=dll
    d_dlsymun=undef
    ccdlflags=' '
    cccdlflags=' '
    lddlflags=' --shared  -Wl,--enable-auto-import -Wl,--export-all-symbols -Wl,--enable-auto-image-base -L/usr/local/lib -fstack-protector-strong'


Characteristics of this binary (from libperl): 
  Compile-time options:
    HAS_TIMES
    MULTIPLICITY
    PERLIO_LAYERS
    PERL_COPY_ON_WRITE
    PERL_DONT_CREATE_GVSV
    PERL_HASH_FUNC_ONE_AT_A_TIME_HARD
    PERL_IMPLICIT_CONTEXT
    PERL_MALLOC_WRAP
    PERL_OP_PARENT
    PERL_PRESERVE_IVUV
    PERL_USE_DEVEL
    PERL_USE_SAFE_PUTENV
    USE_64_BIT_ALL
    USE_64_BIT_INT
    USE_ITHREADS
    USE_LARGE_FILES
    USE_LOCALE
    USE_LOCALE_COLLATE
    USE_LOCALE_CTYPE
    USE_LOCALE_NUMERIC
    USE_LOCALE_TIME
    USE_PERLIO
    USE_PERL_ATOF
    USE_REENTRANT_API
  Built under cygwin
  Compiled at Dec 22 2016 01:18:12
  %ENV:
    PERL5LIB="/opt/perl5/cygwin_nt-10.0/2.6.1/x86_64/cpan/5.25.3/cygwin-thread/build/Socket-2.024-0/blib/arch:/opt/perl5/cygwin_nt-10.0/2.6.1/x86_64/cpan/5.25.3/cygwin-thread/build/Socket-2.024-0/blib/lib:/opt/perl5/cygwin_nt-10.0/2.6.1/x86_64/cpan/5.25.3/cygwin-thread/build/Text-Abbrev-1.02-0/blib/arch:/opt/perl5/cygwin_nt-10.0/2.6.1/x86_64/cpan/5.25.3/cygwin-thread/build/Text-Abbrev-1.02-0/blib/lib:/opt/perl5/cygwin_nt-10.0/2.6.1/x86_64/cpan/5.25.3/cygwin-thread/build/Capture-Tiny-0.44-0/blib/arch:/opt/perl5/cygwin_nt-10.0/2.6.1/x86_64/cpan/5.25.3/cygwin-thread/build/Capture-Tiny-0.44-0/blib/lib:/opt/perl5/cygwin_nt-10.0/2.6.1/x86_64/cpan/5.25.3/cygwin-thread/build/File-Fetch-0.52-0/blib/arch:/opt/perl5/cygwin_nt-10.0/2.6.1/x86_64/cpan/5.25.3/cygwin-thread/build/File-Fetch-0.52-0/blib/lib:/opt/perl5/cygwin_nt-10.0/2.6.1/x86_64/cpan/5.25.3/cygwin-thread/build/Module-Load-Conditional-0.68-0/blib/arch:/opt/perl5/cygwin_nt-10.0/2.6.1/x86_64/cpan/5.25.3/cygwin-thread/build/Module-Load-Conditional-0.68-0/blib/lib:/opt/perl5/cygwin_nt-10.0/2.6.1/x86_64/cpan/5.25.3/cygwin-thread/build/AutoLoader-5.74-0/blib/arch:/opt/perl5/cygwin_nt-10.0/2.6.1/x86_64/cpan/5.25.3/cygwin-thread/build/AutoLoader-5.74-0/blib/lib:/opt/perl5/cygwin_nt-10.0/2.6.1/x86_64/perl/5.25.3/cygwin-thread/local/lib/site_perl/5.25.3:/opt/perl5/cygwin_nt-10.0/2.6.1/x86_64/perl/5.25.3/cygwin-thread/local/lib/5.25.3:/opt/perl5/cygwin_nt-10.0/2.6.1/x86_64/perl/5.25.3/cygwin-thread/local/lib/perl5"
    PERL5OPT=""
    PERL5_CPANPLUS_IS_RUNNING="5892"
    PERL5_CPAN_IS_RUNNING="5892"
    PERL_CPAN_REPORTER_CONFIG="/opt/perl5/cygwin_nt-10.0/2.6.1/x86_64/cpan/5.25.3/cygwin-thread/reporter/config.ini"
    PERL_CPAN_REPORTER_DIR="/opt/perl5/cygwin_nt-10.0/2.6.1/x86_64/cpan/5.25.3/cygwin-thread/reporter"
    PERL_EXTUTILS_AUTOINSTALL="1"
    PERL_MM_USE_DEFAULT="1"
    PERL_MY_PREFIX="/opt/perl5"
    PERL_MY_SOURCE_DIR="/cygdrive/e/src/perl"
    PERL_TEST_CRITIC="1"
    PERL_TEST_POD="1"
  @INC:
    /opt/perl5/cygwin_nt-10.0/2.6.1/x86_64/cpan/5.25.3/cygwin-thread/build/Socket-2.024-0/blib/arch
    /opt/perl5/cygwin_nt-10.0/2.6.1/x86_64/cpan/5.25.3/cygwin-thread/build/Socket-2.024-0/blib/lib
    /opt/perl5/cygwin_nt-10.0/2.6.1/x86_64/cpan/5.25.3/cygwin-thread/build/Text-Abbrev-1.02-0/blib/arch
    /opt/perl5/cygwin_nt-10.0/2.6.1/x86_64/cpan/5.25.3/cygwin-thread/build/Text-Abbrev-1.02-0/blib/lib
    /opt/perl5/cygwin_nt-10.0/2.6.1/x86_64/cpan/5.25.3/cygwin-thread/build/Capture-Tiny-0.44-0/blib/arch
    /opt/perl5/cygwin_nt-10.0/2.6.1/x86_64/cpan/5.25.3/cygwin-thread/build/Capture-Tiny-0.44-0/blib/lib
    /opt/perl5/cygwin_nt-10.0/2.6.1/x86_64/cpan/5.25.3/cygwin-thread/build/File-Fetch-0.52-0/blib/arch
    /opt/perl5/cygwin_nt-10.0/2.6.1/x86_64/cpan/5.25.3/cygwin-thread/build/File-Fetch-0.52-0/blib/lib
    /opt/perl5/cygwin_nt-10.0/2.6.1/x86_64/cpan/5.25.3/cygwin-thread/build/Module-Load-Conditional-0.68-0/blib/arch
    /opt/perl5/cygwin_nt-10.0/2.6.1/x86_64/cpan/5.25.3/cygwin-thread/build/Module-Load-Conditional-0.68-0/blib/lib
    /opt/perl5/cygwin_nt-10.0/2.6.1/x86_64/cpan/5.25.3/cygwin-thread/build/AutoLoader-5.74-0/blib/arch
    /opt/perl5/cygwin_nt-10.0/2.6.1/x86_64/cpan/5.25.3/cygwin-thread/build/AutoLoader-5.74-0/blib/lib
    /opt/perl5/cygwin_nt-10.0/2.6.1/x86_64/perl/5.25.3/cygwin-thread/local/lib/site_perl/5.25.3/cygwin-thread
    /opt/perl5/cygwin_nt-10.0/2.6.1/x86_64/perl/5.25.3/cygwin-thread/local/lib/site_perl/5.25.3
    /opt/perl5/cygwin_nt-10.0/2.6.1/x86_64/perl/5.25.3/cygwin-thread/local/lib/5.25.3/cygwin-thread
    /opt/perl5/cygwin_nt-10.0/2.6.1/x86_64/perl/5.25.3/cygwin-thread/local/lib/5.25.3
    /opt/perl5/cygwin_nt-10.0/2.6.1/x86_64/perl/5.25.3/cygwin-thread/local/lib/perl5
    /opt/perl5/cygwin_nt-10.0/2.6.1/x86_64/perl/5.25.3/cygwin-thread/lib/site_perl/5.25.3/cygwin-thread
    /opt/perl5/cygwin_nt-10.0/2.6.1/x86_64/perl/5.25.3/cygwin-thread/lib/site_perl/5.25.3
    /opt/perl5/cygwin_nt-10.0/2.6.1/x86_64/perl/5.25.3/cygwin-thread/lib/5.25.3/cygwin-thread
    /opt/perl5/cygwin_nt-10.0/2.6.1/x86_64/perl/5.25.3/cygwin-thread/lib/5.25.3
    .