Report for WebService-HealthGraph-0.000002

Back
From: metabase:user:30977d10-2aae-11df-837a-5e0a49663a4f
Subject: PASS WebService-HealthGraph-0.000002 v5.20.2 GNU/Linux
Date: 2016-06-14T08:48:52Z

This distribution has been tested as part of the CPAN Testers
project, supporting the Perl programming language.  See
http://wiki.cpantesters.org/ for more information or email
questions to cpan-testers-discuss@perl.org


--
Dear Olaf Alders,

This is a computer-generated report for WebService-HealthGraph-0.000002
on perl 5.20.2, created by CPAN-Reporter-1.2017.

Thank you for uploading your work to CPAN.  Congratulations!
All tests were successful.

Sections of this report:

    * Tester comments
    * Program output
    * Prerequisites
    * Environment and other context

------------------------------
TESTER COMMENTS
------------------------------

Additional comments from tester:

this report is from an automated smoke testing program
and was not reviewed by a human for accuracy

------------------------------
PROGRAM OUTPUT
------------------------------

Output from '/usr/bin/make test':

PERL_DL_NONLAZY=1 "/home/stro/perl/5.20.2/bin/perl" "-MExtUtils::Command::MM" "-MTest::Harness" "-e" "undef *Test::Harness::Switches; test_harness(0, 'blib/lib', 'blib/arch')" t/*.t
t/author-pod-coverage.t ... skipped: these tests are for testing by the author
t/author-pod-spell.t ...... skipped: these tests are for testing by the author
t/healthgraph-live.t ...... ok
GET https://api.runkeeper.com/user

.-----------------+-----------------------------------------.
| Request Header  | Value                                   |
+-----------------+-----------------------------------------+
| Accept          | application/vnd.com.runkeeper.User+json |
| Accept-Encoding | gzip, x-gzip, deflate, x-bzip2          |
| User-Agent      | libwww-perl/6.15                        |
'-----------------+-----------------------------------------'

==> 401 Unauthorized

.------------------------+-----------------------------------------------------.
| Response Header        | Value                                               |
+------------------------+-----------------------------------------------------+
| Client-Date            | Tue, 14 Jun 2016 08:34:27 GMT                       |
| Client-Peer            | 54.210.214.213:443                                  |
| Client-Response-Num    | 1                                                   |
| Client-SSL-Cert-Issuer | /C=US/ST=Arizona/L=Scottsdale/O=Starfield Technolo- |
|                        | gies, Inc./OU=http://certs.starfieldtech.com/repos- |
|                        | itory//CN=Starfield Secure Certificate Authority -- |
|                        |  G2                                                 |
| Client-SSL-Cert-Subje- | /OU=Domain Control Validated/CN=runkeeper.com       |
| ct                     |                                                     |
| Client-SSL-Cipher      | ECDHE-RSA-AES128-SHA256                             |
| Client-SSL-Socket-Cla- | IO::Socket::SSL                                     |
| ss                     |                                                     |
| Connection             | Close                                               |
| Content-Language       | en-US                                               |
| Content-Length         | 0                                                   |
| Date                   | Tue, 14 Jun 2016 08:53:11 GMT                       |
| Server                 | Apache-Coyote/1.1                                   |
| WWW-Authenticate       | Bearer                                              |
'------------------------+-----------------------------------------------------'

t/healthgraph.t ........... ok
t/release-cpan-changes.t .. skipped: these tests are for release candidate testing
t/release-synopsis.t ...... skipped: these tests are for release candidate testing
All tests successful.
Files=6, Tests=6, 12 wallclock secs ( 0.02 usr  0.01 sys +  0.61 cusr  0.08 csys =  0.72 CPU)
Result: PASS

------------------------------
PREREQUISITES
------------------------------

Prerequisite modules loaded:

requires:

    Module                    Need     Have    
    ------------------------- -------- --------
    Compress::Zlib            0        2.069   
    JSON::MaybeXS             1.003005 1.003005
    List::AllUtils            0        0.09    
    LWP::ConsoleLogger::Easy  0        0.000024
    LWP::UserAgent            6.15     6.15    
    Moo                       2.001001 2.001001
    perl                      5.006    5.020002
    strict                    0        1.08    
    Type::Tiny                1.000005 1.000005
    Types::Standard           0        1.000005
    Types::URI                0        0.006   
    URI                       1.71     1.71    
    warnings                  0        1.23    

build_requires:

    Module                    Need     Have    
    ------------------------- -------- --------
    Data::Printer             0        0.36    
    Module::Build             0.28     0.4216  
    Test2::Bundle::Extended   0        0.000030
    Test2::Plugin::BailOnFail 0        0.000030
    Test::RequiresInternet    0        0.05    
    URI::FromHash             0        0.05    

configure_requires:

    Module                    Need     Have    
    ------------------------- -------- --------
    ExtUtils::MakeMaker       0        7.18    
    Module::Build             0.28     0.4216  
    perl                      5.006    5.020002


------------------------------
ENVIRONMENT AND OTHER CONTEXT
------------------------------

Environment variables:

    AUTOMATED_TESTING = 1
    LANG = en_US.UTF-8
    PATH = /usr/local/bin:/usr/bin:/bin:/usr/local/games:/usr/games
    PERL5LIB = 
    PERL5OPT = 
    PERL5_CPANPLUS_IS_RUNNING = 5257
    PERL5_CPAN_IS_RUNNING = 5257
    PERL5_CPAN_IS_RUNNING_IN_RECURSION = 30078,5257
    PERL_CR_SMOKER_CURRENT = WebService-HealthGraph-0.000002
    PERL_EXTUTILS_AUTOINSTALL = --defaultdeps
    PERL_MM_USE_DEFAULT = 1
    SHELL = /bin/bash
    TERM = xterm

Perl special variables (and OS-specific diagnostics, for MSWin32):

    $^X = /home/stro/perl/5.20.2/bin/perl
    $UID/$EUID = 1000 / 1000
    $GID = 1000 24 25 29 30 44 46 108 114 1000
    $EGID = 1000 24 25 29 30 44 46 108 114 1000

Perl module toolchain versions installed:

    Module              Have    
    ------------------- --------
    CPAN                2.14    
    CPAN::Meta          2.150005
    Cwd                 3.62    
    ExtUtils::CBuilder  0.280224
    ExtUtils::Command   7.18    
    ExtUtils::Install   1.67    
    ExtUtils::MakeMaker 7.18    
    ExtUtils::Manifest  1.70    
    ExtUtils::ParseXS   3.30    
    File::Spec          3.62    
    JSON                2.90    
    JSON::PP            2.27300 
    Module::Build       0.4216  
    Module::Signature   0.80    
    Parse::CPAN::Meta   1.4414  
    Test::Harness       3.35    
    Test::More          1.302026
    YAML                1.15    
    YAML::Syck          1.29    
    version             0.9917  


--

Summary of my perl5 (revision 5 version 20 subversion 2) configuration:
   
  Platform:
    osname=linux, osvers=3.16.0-4-amd64, archname=x86_64-linux
    uname='linux vm-debian-001 3.16.0-4-amd64 #1 smp debian 3.16.7-ckt11-1 (2015-05-24) x86_64 gnulinux '
    config_args=''
    hint=recommended, useposix=true, d_sigaction=define
    useithreads=undef, usemultiplicity=undef
    use64bitint=define, use64bitall=define, uselongdouble=undef
    usemymalloc=n, bincompat5005=undef
  Compiler:
    cc='cc', ccflags ='-fwrapv -fno-strict-aliasing -pipe -fstack-protector -I/usr/local/include -D_LARGEFILE_SOURCE -D_FILE_OFFSET_BITS=64',
    optimize='-O2',
    cppflags='-fwrapv -fno-strict-aliasing -pipe -fstack-protector -I/usr/local/include'
    ccversion='', gccversion='4.9.2', gccosandvers=''
    intsize=4, longsize=8, ptrsize=8, doublesize=8, byteorder=12345678
    d_longlong=define, longlongsize=8, d_longdbl=define, longdblsize=16
    ivtype='long', ivsize=8, nvtype='double', nvsize=8, Off_t='off_t', lseeksize=8
    alignbytes=8, prototype=define
  Linker and Libraries:
    ld='cc', ldflags =' -fstack-protector -L/usr/local/lib'
    libpth=/usr/local/lib /usr/lib/gcc/x86_64-linux-gnu/4.9/include-fixed /usr/include/x86_64-linux-gnu /usr/lib /lib/x86_64-linux-gnu /lib/../lib /usr/lib/x86_64-linux-gnu /usr/lib/../lib /lib
    libs=-lnsl -ldl -lm -lcrypt -lutil -lc
    perllibs=-lnsl -ldl -lm -lcrypt -lutil -lc
    libc=libc-2.19.so, so=so, useshrplib=false, libperl=libperl.a
    gnulibc_version='2.19'
  Dynamic Linking:
    dlsrc=dl_dlopen.xs, dlext=so, d_dlsymun=undef, ccdlflags='-Wl,-E'
    cccdlflags='-fPIC', lddlflags='-shared -O2 -L/usr/local/lib -fstack-protector'


Characteristics of this binary (from libperl): 
  Compile-time options: HAS_TIMES PERLIO_LAYERS PERL_DONT_CREATE_GVSV
                        PERL_HASH_FUNC_ONE_AT_A_TIME_HARD PERL_MALLOC_WRAP
                        PERL_NEW_COPY_ON_WRITE PERL_PRESERVE_IVUV
                        USE_64_BIT_ALL USE_64_BIT_INT USE_LARGE_FILES
                        USE_LOCALE USE_LOCALE_COLLATE USE_LOCALE_CTYPE
                        USE_LOCALE_NUMERIC USE_PERLIO USE_PERL_ATOF
  Built under linux
  Compiled at Jul 10 2015 16:26:18
  %ENV:
    PERL5LIB=""
    PERL5OPT=""
    PERL5_CPANPLUS_IS_RUNNING="5257"
    PERL5_CPAN_IS_RUNNING="5257"
    PERL5_CPAN_IS_RUNNING_IN_RECURSION="30078,5257"
    PERL_CR_SMOKER_CURRENT="WebService-HealthGraph-0.000002"
    PERL_EXTUTILS_AUTOINSTALL="--defaultdeps"
    PERL_MM_USE_DEFAULT="1"
  @INC:
    /home/stro/perl/5.20.2/lib/site_perl/5.20.2/x86_64-linux
    /home/stro/perl/5.20.2/lib/site_perl/5.20.2
    /home/stro/perl/5.20.2/lib/5.20.2/x86_64-linux
    /home/stro/perl/5.20.2/lib/5.20.2
    .