Net-Statsd-Server v0.20 Perl 5 v5.39.7 x86_64-linux-thread-multi
- Status
- Pass
- From
- Andreas J. König (ANDK)
- Dist
-
Net-Statsd-Server v0.20
- Platform
- Perl 5 v5.39.7 x86_64-linux-thread-multi
- Date
- 2024-02-21 11:31:57
- ID
- d1f19d9a-d0ac-11ee-8d56-0a04880595e5
This distribution has been tested as part of the CPAN Testers
project, supporting the Perl programming language. See
http://wiki.cpantesters.org/ for more information or email
questions to cpan-testers-discuss@perl.org
--
Dear Cosimo Streppone,
This is a computer-generated report for Net-Statsd-Server-0.20
on perl 5.39.7, created by CPAN-Reporter-1.2019.
Thank you for uploading your work to CPAN. Congratulations!
All tests were successful.
Sections of this report:
* Tester comments
* Program output
* Prerequisites
* Environment and other context
------------------------------
TESTER COMMENTS
------------------------------
Additional comments from tester:
this report is from an automated smoke testing program
and was not reviewed by a human for accuracy
------------------------------
PROGRAM OUTPUT
------------------------------
Output from '/usr/bin/make test':
PERL_DL_NONLAZY=1 "/tmp/basesmoker-reloperl-EuHK/bin/perl" "-MExtUtils::Command::MM" "-MTest::Harness" "-e" "undef *Test::Harness::Switches; test_harness(0, 'blib/lib', 'blib/arch')" t/*.t t/integration-tests/*.t
t/000-sanity.t ............................. ok
t/config.t ................................. ok
t/graphite.t ............................... ok
2024-02-21 11:31:25.000000 +0000 note Net::Statsd::Server: Initializing Net::Statsd::Server::Backend::Console backend
2024-02-21 11:31:25.000000 +0000 note Net::Statsd::Server: Initializing Net::Statsd::Server::Backend::Graphite backend
2024-02-21 11:31:25.000000 +0000 info AnyEvent: Autoloaded model 'AnyEvent::Impl::EV', using it.
2024-02-21 11:31:25.716799 +0000 note Net::Statsd::Server: statsd server started on 0.0.0.0:40001 (v0.17)
2024-02-21 11:31:25.717427 +0000 note Net::Statsd::Server: manager interface started on 0.0.0.0:40002
2024-02-21 11:31:25.717477 +0000 note Net::Statsd::Server: metrics flush will happen every 1s
2024-02-21 11:31:26.141954 +0000 warn Net::Statsd::Server: Bad line: 1 in msg "a_bad_test_value|z"
2024-02-21 11:31:26.719044 +0000 note Net::Statsd::Server: flushing metrics
Flushing stats at Wed Feb 21 11:31:26 2024
{"sets":null,"timers":{},"counters":{"statsd.packets_received":1,"statsd.bad_lines_seen":1},"timer_data":{},"gauges":{},"counter_rates":{"statsd.bad_lines_seen":1,"statsd.packets_received":1},"pctThreshold":[90]}
t/integration-tests/bad-message.t .......... ok
2024-02-21 11:31:26.000000 +0000 note Net::Statsd::Server: Initializing Net::Statsd::Server::Backend::Console backend
2024-02-21 11:31:26.000000 +0000 note Net::Statsd::Server: Initializing Net::Statsd::Server::Backend::Graphite backend
2024-02-21 11:31:26.000000 +0000 info AnyEvent: Autoloaded model 'AnyEvent::Impl::EV', using it.
2024-02-21 11:31:26.918231 +0000 note Net::Statsd::Server: statsd server started on 0.0.0.0:40001 (v0.17)
2024-02-21 11:31:26.918272 +0000 note Net::Statsd::Server: manager interface started on 0.0.0.0:40002
2024-02-21 11:31:26.918299 +0000 note Net::Statsd::Server: metrics flush will happen every 1s
2024-02-21 11:31:27.920654 +0000 note Net::Statsd::Server: flushing metrics
Flushing stats at Wed Feb 21 11:31:27 2024
{"counter_rates":{"statsd.packets_received":1,"statsd.bad_lines_seen":0,"a_test_value":100},"timers":{},"pctThreshold":[90],"counters":{"a_test_value":100,"statsd.bad_lines_seen":0,"statsd.packets_received":1},"timer_data":{},"sets":null,"gauges":{}}
# stats.counters.a_test_value.rate 100.000000 1708515087
# stats.counters.a_test_value.count 100 1708515087
# stats.counters.statsd.bad_lines_seen.rate 0.000000 1708515087
# stats.counters.statsd.bad_lines_seen.count 0 1708515087
# stats.counters.statsd.packets_received.rate 1.000000 1708515087
# stats.counters.statsd.packets_received.count 1 1708515087
# stats.statsd.numStats 3 1708515087
# stats.statsd.graphiteStats.calculationtime 0.120000 1708515087
# stats.statsd.processing_time 0.018 1708515087
# stats.statsd.graphiteStats.last_exception 93957297654504 1708515087
# stats.statsd.graphiteStats.last_flush 93957297654504 1708515087
t/integration-tests/counts-are-valid.t ..... ok
2024-02-21 11:31:28.000000 +0000 note Net::Statsd::Server: Initializing Net::Statsd::Server::Backend::Graphite backend
2024-02-21 11:31:28.000000 +0000 info AnyEvent: Autoloaded model 'AnyEvent::Impl::EV', using it.
2024-02-21 11:31:28.118176 +0000 note Net::Statsd::Server: statsd server started on 0.0.0.0:40001 (v0.17)
2024-02-21 11:31:28.118202 +0000 note Net::Statsd::Server: manager interface started on 0.0.0.0:40002
2024-02-21 11:31:28.118230 +0000 note Net::Statsd::Server: metrics flush will happen every 1s
2024-02-21 11:31:29.120342 +0000 note Net::Statsd::Server: flushing metrics
# First flush. Test gauge should be there.
2024-02-21 11:31:30.122400 +0000 note Net::Statsd::Server: flushing metrics
# Second flush. deleteGauges=false should keep the test gauge.
t/integration-tests/delete-gauges-false.t .. ok
2024-02-21 11:31:30.000000 +0000 note Net::Statsd::Server: Initializing Net::Statsd::Server::Backend::Graphite backend
2024-02-21 11:31:30.000000 +0000 info AnyEvent: Autoloaded model 'AnyEvent::Impl::EV', using it.
2024-02-21 11:31:30.314851 +0000 note Net::Statsd::Server: statsd server started on 0.0.0.0:40001 (v0.17)
2024-02-21 11:31:30.314879 +0000 note Net::Statsd::Server: manager interface started on 0.0.0.0:40002
2024-02-21 11:31:30.314905 +0000 note Net::Statsd::Server: metrics flush will happen every 1s
2024-02-21 11:31:31.317549 +0000 note Net::Statsd::Server: flushing metrics
# First flush. Test gauge should be there.
2024-02-21 11:31:32.319412 +0000 note Net::Statsd::Server: flushing metrics
# Second flush. deleteIdleStats should have cleared the test gauge.
t/integration-tests/delete-idle-stats.t .... ok
2024-02-21 11:31:32.000000 +0000 note Net::Statsd::Server: Initializing Net::Statsd::Server::Backend::Console backend
2024-02-21 11:31:32.000000 +0000 note Net::Statsd::Server: Initializing Net::Statsd::Server::Backend::Graphite backend
2024-02-21 11:31:32.000000 +0000 info AnyEvent: Autoloaded model 'AnyEvent::Impl::EV', using it.
2024-02-21 11:31:32.525654 +0000 note Net::Statsd::Server: statsd server started on 0.0.0.0:40001 (v0.17)
2024-02-21 11:31:32.526740 +0000 note Net::Statsd::Server: manager interface started on 0.0.0.0:40002
2024-02-21 11:31:32.527537 +0000 note Net::Statsd::Server: metrics flush will happen every 1s
2024-02-21 11:31:33.526850 +0000 note Net::Statsd::Server: flushing metrics
Flushing stats at Wed Feb 21 11:31:33 2024
{"timer_data":{},"timers":{},"pctThreshold":[90],"sets":null,"gauges":{},"counters":{"a_test_value,category=web,severity=high":100,"statsd.packets_received":1,"statsd.bad_lines_seen":0},"counter_rates":{"a_test_value,category=web,severity=high":100,"statsd.packets_received":1,"statsd.bad_lines_seen":0}}
# stats.counters.a_test_value,category=web,severity=high.rate 100.000000 1708515093
# stats.counters.a_test_value,category=web,severity=high.count 100 1708515093
# stats.counters.statsd.packets_received.rate 1.000000 1708515093
# stats.counters.statsd.packets_received.count 1 1708515093
# stats.counters.statsd.bad_lines_seen.rate 0.000000 1708515093
# stats.counters.statsd.bad_lines_seen.count 0 1708515093
# stats.statsd.numStats 3 1708515093
# stats.statsd.graphiteStats.calculationtime 0.123000 1708515093
# stats.statsd.processing_time 0.018 1708515093
# stats.statsd.graphiteStats.last_exception 94834212567784 1708515093
# stats.statsd.graphiteStats.last_flush 94834212567784 1708515093
t/integration-tests/keys-with-tags.t ....... ok
2024-02-21 11:31:33.000000 +0000 note Net::Statsd::Server: Initializing Net::Statsd::Server::Backend::Graphite backend
2024-02-21 11:31:33.000000 +0000 info AnyEvent: Autoloaded model 'AnyEvent::Impl::EV', using it.
2024-02-21 11:31:33.726063 +0000 note Net::Statsd::Server: statsd server started on 0.0.0.0:40001 (v0.17)
2024-02-21 11:31:33.726092 +0000 note Net::Statsd::Server: manager interface started on 0.0.0.0:40002
2024-02-21 11:31:33.726118 +0000 note Net::Statsd::Server: metrics flush will happen every 1s
# Expected mean value is 2025.29
2024-02-21 11:31:34.728791 +0000 note Net::Statsd::Server: flushing metrics
# stats.counters.statsd.bad_lines_seen.rate 0.000000 1708515094
# stats.counters.statsd.bad_lines_seen.count 0 1708515094
# stats.counters.statsd.packets_received.rate 100.000000 1708515094
# stats.counters.statsd.packets_received.count 100 1708515094
# stats.timers.read_latency.sum_squares_98 426650865.000000 1708515094
# stats.timers.read_latency.sum_98 196549.000000 1708515094
# stats.timers.read_latency.count_99 99.000000 1708515094
# stats.timers.read_latency.count_98 98.000000 1708515094
# stats.timers.read_latency.sum_squares_99 435573034.000000 1708515094
# stats.timers.read_latency.sum_95 187691.000000 1708515094
# stats.timers.read_latency.count 100.000000 1708515094
# stats.timers.read_latency.upper_95 2887.000000 1708515094
# stats.timers.read_latency.upper_99 2987.000000 1708515094
# stats.timers.read_latency.upper_98 2966.000000 1708515094
# stats.timers.read_latency.sum_squares_95 400495635.000000 1708515094
# stats.timers.read_latency.sum_99 199536.000000 1708515094
# stats.timers.read_latency.count_95 95.000000 1708515094
# stats.timers.read_latency.upper 2993.000000 1708515094
# stats.timers.read_latency.mean 2025.290000 1708515094
# stats.timers.read_latency.mean_95 1975.694737 1708515094
# stats.timers.read_latency.mean_99 2015.515152 1708515094
# stats.timers.read_latency.sum 202529.000000 1708515094
# stats.timers.read_latency.mean_98 2005.602041 1708515094
# stats.timers.read_latency.median 2062.000000 1708515094
# stats.timers.read_latency.lower 1028.000000 1708515094
# stats.timers.read_latency.count_ps 100.000000 1708515094
# stats.timers.read_latency.sum_squares 444531083.000000 1708515094
# stats.timers.read_latency.std 586.098324 1708515094
# stats.statsd.numStats 3 1708515094
# stats.statsd.graphiteStats.calculationtime 0.129000 1708515094
# stats.statsd.processing_time 0.234 1708515094
# stats.statsd.graphiteStats.last_exception 94483204963048 1708515094
# stats.statsd.graphiteStats.last_flush 94483204963048 1708515094
t/integration-tests/percent-threshold.t .... ok
2024-02-21 11:31:34.000000 +0000 note Net::Statsd::Server: Initializing Net::Statsd::Server::Backend::Console backend
2024-02-21 11:31:34.000000 +0000 note Net::Statsd::Server: Initializing Net::Statsd::Server::Backend::Graphite backend
2024-02-21 11:31:34.000000 +0000 info AnyEvent: Autoloaded model 'AnyEvent::Impl::EV', using it.
2024-02-21 11:31:34.921166 +0000 note Net::Statsd::Server: statsd server started on 0.0.0.0:40001 (v0.17)
2024-02-21 11:31:34.921200 +0000 note Net::Statsd::Server: manager interface started on 0.0.0.0:40002
2024-02-21 11:31:34.921227 +0000 note Net::Statsd::Server: metrics flush will happen every 1s
2024-02-21 11:31:35.923077 +0000 note Net::Statsd::Server: flushing metrics
Flushing stats at Wed Feb 21 11:31:35 2024
{"counters":{"statsd.packets_received":1,"statsd.bad_lines_seen":0},"counter_rates":{"statsd.packets_received":1,"statsd.bad_lines_seen":0},"timers":{"a_test_value":["100"]},"gauges":{},"timer_data":{"a_test_value":{"mean":100,"lower":"100","count_90":1,"count":1,"count_ps":1,"mean_90":"100","sum_squares":10000,"upper_90":"100","upper":"100","sum_squares_90":10000,"median":"100","std":0,"sum_90":"100","sum":"100"}},"sets":null,"pctThreshold":["90"]}
# stats.counters.statsd.packets_received.rate 1.000000 1708515095
# stats.counters.statsd.packets_received.count 1 1708515095
# stats.counters.statsd.bad_lines_seen.rate 0.000000 1708515095
# stats.counters.statsd.bad_lines_seen.count 0 1708515095
# stats.timers.a_test_value.mean 100.000000 1708515095
# stats.timers.a_test_value.lower 100.000000 1708515095
# stats.timers.a_test_value.count_90 1.000000 1708515095
# stats.timers.a_test_value.count 1.000000 1708515095
# stats.timers.a_test_value.count_ps 1.000000 1708515095
# stats.timers.a_test_value.mean_90 100.000000 1708515095
# stats.timers.a_test_value.sum_squares 10000.000000 1708515095
# stats.timers.a_test_value.upper_90 100.000000 1708515095
# stats.timers.a_test_value.upper 100.000000 1708515095
# stats.timers.a_test_value.sum_squares_90 10000.000000 1708515095
# stats.timers.a_test_value.median 100.000000 1708515095
# stats.timers.a_test_value.std 0.000000 1708515095
# stats.timers.a_test_value.sum_90 100.000000 1708515095
# stats.timers.a_test_value.sum 100.000000 1708515095
# stats.statsd.numStats 3 1708515095
# stats.statsd.graphiteStats.calculationtime 0.062000 1708515095
# stats.statsd.processing_time 0.049 1708515095
# stats.statsd.graphiteStats.last_exception 94830634347240 1708515095
# stats.statsd.graphiteStats.last_flush 94830634347240 1708515095
t/integration-tests/timers-are-valid.t ..... ok
t/process-metrics.t ........................ ok
t/trim.t ................................... ok
All tests successful.
Files=12, Tests=92, 11 wallclock secs ( 0.04 usr 0.02 sys + 1.13 cusr 0.22 csys = 1.41 CPU)
Result: PASS
------------------------------
PREREQUISITES
------------------------------
Prerequisite modules loaded:
requires:
Module Need Have
--------------------- ---- --------
AnyEvent::Handle::UDP 0 0.050
IO::Socket::INET 0 1.55
JSON::XS 0 4.03
build_requires:
Module Need Have
--------------------- ---- --------
ExtUtils::MakeMaker 0 7.70
Test::More 0 1.302198
configure_requires:
Module Need Have
--------------------- ---- --------
ExtUtils::MakeMaker 0 7.70
------------------------------
ENVIRONMENT AND OTHER CONTEXT
------------------------------
Environment variables:
AUTOMATED_TESTING = 1
LANG = en_US.UTF-8
LC_ADDRESS = de_DE.UTF-8
LC_IDENTIFICATION = de_DE.UTF-8
LC_MEASUREMENT = de_DE.UTF-8
LC_MONETARY = de_DE.UTF-8
LC_NAME = de_DE.UTF-8
LC_NUMERIC = de_DE.UTF-8
LC_PAPER = de_DE.UTF-8
LC_TELEPHONE = de_DE.UTF-8
LC_TIME = de_DE.UTF-8
PATH = /home/sand/bin:/usr/local/bin:/usr/local/sbin:/usr/sbin:/usr/bin:/sbin:/bin:/usr/games:/usr/local/games:/snap/bin:/usr/local/perl/bin:/usr/X11/bin
PERL = /tmp/basesmoker-reloperl-EuHK/bin/perl
PERL5LIB = /tmp/loop_over_bdir-355680-lqAWrt/EJBCA-CrlPublish-0.60-0/blib/arch:/tmp/loop_over_bdir-355680-lqAWrt/EJBCA-CrlPublish-0.60-0/blib/lib:/tmp/loop_over_bdir-355680-lqAWrt/App-oo_modulino_zsh_completion_helper-0.04-0/blib/arch:/tmp/loop_over_bdir-355680-lqAWrt/App-oo_modulino_zsh_completion_helper-0.04-0/blib/lib:/tmp/loop_over_bdir-355680-lqAWrt/Business-Shipping-DataFiles-1.02-0/blib/arch:/tmp/loop_over_bdir-355680-lqAWrt/Business-Shipping-DataFiles-1.02-0/blib/lib:/tmp/loop_over_bdir-355680-lqAWrt/Dpkg-1.22.4-0/blib/arch:/tmp/loop_over_bdir-355680-lqAWrt/Dpkg-1.22.4-0/blib/lib:/tmp/loop_over_bdir-355680-lqAWrt/Net-Async-WebService-lxd-0.03-0/blib/arch:/tmp/loop_over_bdir-355680-lqAWrt/Net-Async-WebService-lxd-0.03-0/blib/lib:/tmp/loop_over_bdir-355680-lqAWrt/Devel-Required-0.16-0/blib/arch:/tmp/loop_over_bdir-355680-lqAWrt/Devel-Required-0.16-0/blib/lib
PERL5OPT =
PERL5_CPANPLUS_IS_RUNNING = 355688
PERL5_CPAN_IS_RUNNING = 355688
PERL_CANARY_STABILITY_NOPROMPT = 1
PERL_MM_USE_DEFAULT = 1
PERL_USE_UNSAFE_INC = 1
SHELL = /usr/bin/zsh
TERM = screen
Perl special variables (and OS-specific diagnostics, for MSWin32):
$^X = /tmp/basesmoker-reloperl-EuHK/bin/perl
$UID/$EUID = 1005 / 1005
$GID = 1005 1005
$EGID = 1005 1005
Perl module toolchain versions installed:
Module Have
------------------- --------
CPAN 2.36
CPAN::Meta 2.150010
Cwd 3.90
ExtUtils::CBuilder 0.280240
ExtUtils::Command 7.70
ExtUtils::Install 2.22
ExtUtils::MakeMaker 7.70
ExtUtils::Manifest 1.75
ExtUtils::ParseXS 3.51
File::Spec 3.90
JSON 4.10
JSON::PP 4.16
Module::Build 0.4234
Module::Signature 0.88
Parse::CPAN::Meta 2.150010
Test2 1.302198
Test::Harness 3.48
Test::More 1.302198
YAML 1.31
YAML::Syck 1.34
version 0.9930
--
Summary of my perl5 (revision 5 version 39 subversion 7) configuration:
Commit id: 96559478fdc3f2fe9c51cad02ebbae0c950b7b68
Platform:
osname=linux
osvers=6.5.0-14-generic
archname=x86_64-linux-thread-multi
uname='linux k93jammy 6.5.0-14-generic #14~22.04.1-ubuntu smp preempt_dynamic mon nov 20 18:15:30 utc 2 x86_64 x86_64 x86_64 gnulinux '
config_args='-Dprefix=/home/sand/src/perl/repoperls/installed-perls/host/k93jammy/v5.39.7/b4f3 -Dmyhostname=k93jammy -Dinstallusrbinperl=n -Uversiononly -Dusedevel -des -Ui_db -Dlibswanted=cl pthread socket inet nsl gdbm dbm malloc dl ld sun m crypt sec util c cposix posix ucb BSD gdbm_compat -Duseithreads -Uuselongdouble -DEBUGGING=-g'
hint=recommended
useposix=true
d_sigaction=define
useithreads=define
usemultiplicity=define
use64bitint=define
use64bitall=define
uselongdouble=undef
usemymalloc=n
default_inc_excludes_dot=define
Compiler:
cc='cc'
ccflags ='-D_REENTRANT -D_GNU_SOURCE -fwrapv -fno-strict-aliasing -pipe -fstack-protector-strong -I/usr/local/include -D_LARGEFILE_SOURCE -D_FILE_OFFSET_BITS=64'
optimize='-O2 -g'
cppflags='-D_REENTRANT -D_GNU_SOURCE -fwrapv -fno-strict-aliasing -pipe -fstack-protector-strong -I/usr/local/include'
ccversion=''
gccversion='11.4.0'
gccosandvers=''
intsize=4
longsize=8
ptrsize=8
doublesize=8
byteorder=12345678
doublekind=3
d_longlong=define
longlongsize=8
d_longdbl=define
longdblsize=16
longdblkind=3
ivtype='long'
ivsize=8
nvtype='double'
nvsize=8
Off_t='off_t'
lseeksize=8
alignbytes=8
prototype=define
Linker and Libraries:
ld='cc'
ldflags =' -fstack-protector-strong -L/usr/local/lib'
libpth=/usr/local/lib /usr/lib/x86_64-linux-gnu /usr/lib /usr/lib64
libs=-lpthread -lnsl -ldl -lm -lcrypt -lutil -lc
perllibs=-lpthread -lnsl -ldl -lm -lcrypt -lutil -lc
libc=/lib/x86_64-linux-gnu/libc.so.6
so=so
useshrplib=false
libperl=libperl.a
gnulibc_version='2.35'
Dynamic Linking:
dlsrc=dl_dlopen.xs
dlext=so
d_dlsymun=undef
ccdlflags='-Wl,-E'
cccdlflags='-fPIC'
lddlflags='-shared -O2 -g -L/usr/local/lib -fstack-protector-strong'
Characteristics of this binary (from libperl):
Compile-time options:
HAS_LONG_DOUBLE
HAS_STRTOLD
HAS_TIMES
MULTIPLICITY
PERLIO_LAYERS
PERL_COPY_ON_WRITE
PERL_DONT_CREATE_GVSV
PERL_HASH_FUNC_SIPHASH13
PERL_HASH_USE_SBOX32
PERL_MALLOC_WRAP
PERL_OP_PARENT
PERL_PRESERVE_IVUV
PERL_USE_DEVEL
PERL_USE_SAFE_PUTENV
USE_64_BIT_ALL
USE_64_BIT_INT
USE_ITHREADS
USE_LARGE_FILES
USE_LOCALE
USE_LOCALE_COLLATE
USE_LOCALE_CTYPE
USE_LOCALE_NUMERIC
USE_LOCALE_TIME
USE_PERLIO
USE_PERL_ATOF
USE_REENTRANT_API
USE_THREAD_SAFE_LOCALE
Built under linux
Compiled at Jan 20 2024 14:01:34
%ENV:
PERL="/tmp/basesmoker-reloperl-EuHK/bin/perl"
PERL5LIB="/tmp/loop_over_bdir-355680-lqAWrt/EJBCA-CrlPublish-0.60-0/blib/arch:/tmp/loop_over_bdir-355680-lqAWrt/EJBCA-CrlPublish-0.60-0/blib/lib:/tmp/loop_over_bdir-355680-lqAWrt/App-oo_modulino_zsh_completion_helper-0.04-0/blib/arch:/tmp/loop_over_bdir-355680-lqAWrt/App-oo_modulino_zsh_completion_helper-0.04-0/blib/lib:/tmp/loop_over_bdir-355680-lqAWrt/Business-Shipping-DataFiles-1.02-0/blib/arch:/tmp/loop_over_bdir-355680-lqAWrt/Business-Shipping-DataFiles-1.02-0/blib/lib:/tmp/loop_over_bdir-355680-lqAWrt/Dpkg-1.22.4-0/blib/arch:/tmp/loop_over_bdir-355680-lqAWrt/Dpkg-1.22.4-0/blib/lib:/tmp/loop_over_bdir-355680-lqAWrt/Net-Async-WebService-lxd-0.03-0/blib/arch:/tmp/loop_over_bdir-355680-lqAWrt/Net-Async-WebService-lxd-0.03-0/blib/lib:/tmp/loop_over_bdir-355680-lqAWrt/Devel-Required-0.16-0/blib/arch:/tmp/loop_over_bdir-355680-lqAWrt/Devel-Required-0.16-0/blib/lib"
PERL5OPT=""
PERL5_CPANPLUS_IS_RUNNING="355688"
PERL5_CPAN_IS_RUNNING="355688"
PERL_CANARY_STABILITY_NOPROMPT="1"
PERL_MM_USE_DEFAULT="1"
PERL_USE_UNSAFE_INC="1"
@INC:
/tmp/loop_over_bdir-355680-lqAWrt/EJBCA-CrlPublish-0.60-0/blib/arch
/tmp/loop_over_bdir-355680-lqAWrt/EJBCA-CrlPublish-0.60-0/blib/lib
/tmp/loop_over_bdir-355680-lqAWrt/App-oo_modulino_zsh_completion_helper-0.04-0/blib/arch
/tmp/loop_over_bdir-355680-lqAWrt/App-oo_modulino_zsh_completion_helper-0.04-0/blib/lib
/tmp/loop_over_bdir-355680-lqAWrt/Business-Shipping-DataFiles-1.02-0/blib/arch
/tmp/loop_over_bdir-355680-lqAWrt/Business-Shipping-DataFiles-1.02-0/blib/lib
/tmp/loop_over_bdir-355680-lqAWrt/Dpkg-1.22.4-0/blib/arch
/tmp/loop_over_bdir-355680-lqAWrt/Dpkg-1.22.4-0/blib/lib
/tmp/loop_over_bdir-355680-lqAWrt/Net-Async-WebService-lxd-0.03-0/blib/arch
/tmp/loop_over_bdir-355680-lqAWrt/Net-Async-WebService-lxd-0.03-0/blib/lib
/tmp/loop_over_bdir-355680-lqAWrt/Devel-Required-0.16-0/blib/arch
/tmp/loop_over_bdir-355680-lqAWrt/Devel-Required-0.16-0/blib/lib
/home/sand/src/perl/repoperls/installed-perls/host/k93jammy/v5.39.7/b4f3/lib/site_perl/5.39.7/x86_64-linux-thread-multi
/home/sand/src/perl/repoperls/installed-perls/host/k93jammy/v5.39.7/b4f3/lib/site_perl/5.39.7
/home/sand/src/perl/repoperls/installed-perls/host/k93jammy/v5.39.7/b4f3/lib/5.39.7/x86_64-linux-thread-multi
/home/sand/src/perl/repoperls/installed-perls/host/k93jammy/v5.39.7/b4f3/lib/5.39.7
.