Back
From: metabase:user:30f4dfbe-2aae-11df-837a-5e0a49663a4f
Subject: PASS MooseX-CurriedDelegation-0.003 v5.8.9 Mac OS X
Date: 2016-11-17T03:35:01Z
This distribution has been tested as part of the CPAN Testers
project, supporting the Perl programming language. See
http://wiki.cpantesters.org/ for more information or email
questions to cpan-testers-discuss@perl.org
--
Dear Chris Weyl,
This is a computer-generated report for MooseX-CurriedDelegation-0.003
on perl 5.8.9, created by CPAN-Reporter-1.2018.
Thank you for uploading your work to CPAN. Congratulations!
All tests were successful.
Sections of this report:
* Tester comments
* Program output
* Prerequisites
* Environment and other context
------------------------------
TESTER COMMENTS
------------------------------
Additional comments from tester:
this report is from an automated smoke testing program
and was not reviewed by a human for accuracy
------------------------------
PROGRAM OUTPUT
------------------------------
Output from '/sw/bin/make test':
PERL_DL_NONLAZY=1 "/Users/hornenj/perl5/perlbrew/perls/perl-5.8.9/bin/perl" "-MExtUtils::Command::MM" "-MTest::Harness" "-e" "undef *Test::Harness::Switches; test_harness(0, 'blib/lib', 'blib/arch')" t/*.t
t/00-check-deps.t ...... ok
t/00-compile.t ......... ok
#
# Versions for all modules listed in MYMETA.json (including optional ones):
#
# === Configure Requires ===
#
# Module Want Have
# ------------------- ---- ----
# ExtUtils::MakeMaker any 7.22
#
# === Build Requires ===
#
# Module Want Have
# ------------------- ---- ----
# ExtUtils::MakeMaker any 7.22
#
# === Test Requires ===
#
# Module Want Have
# ------------------- ----- --------
# ExtUtils::MakeMaker any 7.22
# File::Spec any 3.47
# IO::Handle any 1.28
# IPC::Open3 any 1.03
# Test::CheckDeps 0.010 0.010
# Test::Moose any 2.1603
# Test::Moose::More any 0.038
# Test::More 0.94 1.302059
# blib 1.01 1.04
#
# === Test Recommends ===
#
# Module Want Have
# ---------- -------- --------
# CPAN::Meta 2.120900 2.150005
#
# === Runtime Requires ===
#
# Module Want Have
# -------------------- ---- -------
# Moose any 2.1603
# Moose::Exporter any 2.1603
# Moose::Role any 2.1603
# MooseX::Util any 0.006
# aliased any 0.34
# namespace::autoclean any 0.28
# strict any 1.03
# warnings any 1.05_01
#
t/00-report-prereqs.t .. ok
t/basic.t .............. ok
All tests successful.
Test Summary Report
-------------------
t/00-check-deps.t (Wstat: 0 Tests: 21 Failed: 0)
TODO passed: 21
Files=4, Tests=37, 1 wallclock secs ( 0.02 usr 0.01 sys + 0.96 cusr 0.16 csys = 1.15 CPU)
Result: PASS
------------------------------
PREREQUISITES
------------------------------
Prerequisite modules loaded:
requires:
Module Need Have
-------------------- ----- --------
aliased 0 0.34
Moose 0 2.1603
Moose::Exporter 0 2.1603
Moose::Role 0 2.1603
MooseX::Util 0 0.006
namespace::autoclean 0 0.28
perl 5.006 5.008009
strict 0 1.03
warnings 0 1.05_01
build_requires:
Module Need Have
-------------------- ----- --------
blib 1.01 1.04
ExtUtils::MakeMaker 0 7.22
File::Spec 0 3.47
IO::Handle 0 1.28
IPC::Open3 0 1.03
Test::CheckDeps 0.010 0.010
Test::Moose 0 2.1603
Test::Moose::More 0 0.038
Test::More 0.94 1.302059
configure_requires:
Module Need Have
-------------------- ----- --------
ExtUtils::MakeMaker 0 7.22
perl 5.006 5.008009
------------------------------
ENVIRONMENT AND OTHER CONTEXT
------------------------------
Environment variables:
AUTOMATED_TESTING = 1
LANG = en_US.UTF-8
LC_ALL = POSIX
LDFLAGS =
PATH = /Users/hornenj/perl5/perlbrew/bin:/Users/hornenj/perl5/perlbrew/perls/perl-5.8.9/bin:/Users/hornenj/bin:/Users/hornenj/perl5/perlbrew/bin:/sw/lib/perl5/ExtUtils:/sw/bin:/am/ncbiapdata/bin:/usr/bin:/bin:/usr/X11R6/bin:/netopt/ncbi_tools/bin:/usr/local/ncbi/blast/bin:/net/traces01.be-md.ncbi.nlm.nih.gov/trace_software/vdb/mac/release/x86_64/bin
PERL5LIB = /Users/hornenj/.cpan/build/MooseX-Util-0.006-1/blib/arch:/Users/hornenj/.cpan/build/MooseX-Util-0.006-1/blib/lib:/Users/hornenj/.cpan/build/MooseX-TraitFor-Meta-Class-BetterAnonClassNames-0.002002-1/blib/arch:/Users/hornenj/.cpan/build/MooseX-TraitFor-Meta-Class-BetterAnonClassNames-0.002002-1/blib/lib:/Users/hornenj/.cpan/build/autobox-Core-1.32-1/blib/arch:/Users/hornenj/.cpan/build/autobox-Core-1.32-1/blib/lib:/Users/hornenj/.cpan/build/autobox-2.84-2/blib/arch:/Users/hornenj/.cpan/build/autobox-2.84-2/blib/lib:/Users/hornenj/.cpan/build/Want-0.29-12/blib/arch:/Users/hornenj/.cpan/build/Want-0.29-12/blib/lib:/Users/hornenj/.cpan/build/Test-Moose-More-0.038-1/blib/arch:/Users/hornenj/.cpan/build/Test-Moose-More-0.038-1/blib/lib:/Users/hornenj/.cpan/build/TAP-SimpleOutput-0.007-4/blib/arch:/Users/hornenj/.cpan/build/TAP-SimpleOutput-0.007-4/blib/lib:/Users/hornenj/.cpan/build/Syntax-Keyword-Junction-0.003008-4/blib/arch:/Users/hornenj/.cpan/build/Syntax-Keyword-Junction-0.003008-4/blib/lib:/Users/hornenj/.cpan/build/syntax-0.004-4/blib/arch:/Users/hornenj/.cpan/build/syntax-0.004-4/blib/lib:/Users/hornenj/.cpan/build/Perl-Version-1.013-4/blib/arch:/Users/hornenj/.cpan/build/Perl-Version-1.013-4/blib/lib:/Users/hornenj/.cpan/build/File-Slurp-Tiny-0.004-30/blib/arch:/Users/hornenj/.cpan/build/File-Slurp-Tiny-0.004-30/blib/lib
PERL5OPT =
PERL5_CPANPLUS_IS_RUNNING = 82225
PERL5_CPAN_IS_RUNNING = 82225
PERL5_MINISMOKEBOX = 0.58
PERLBREW_BASHRC_VERSION = 0.77
PERLBREW_HOME = /Users/hornenj/.perlbrew
PERLBREW_LIB =
PERLBREW_MANPATH = /Users/hornenj/perl5/perlbrew/perls/perl-5.8.9/man
PERLBREW_PATH = /Users/hornenj/perl5/perlbrew/bin:/Users/hornenj/perl5/perlbrew/perls/perl-5.8.9/bin
PERLBREW_PERL = perl-5.8.9
PERLBREW_ROOT = /Users/hornenj/perl5/perlbrew
PERLBREW_VERSION = 0.77
PERL_EXTUTILS_AUTOINSTALL = --defaultdeps
PERL_LOCAL_LIB_ROOT =
PERL_MM_USE_DEFAULT = 1
SHELL = /bin/bash
TERM = xterm-256color
TMPDIR = /var/folders/pz/pd7y1qjs6s3cbk170cw50fjc000c61/T/
ac_cv_path_INTLTOOL_PERL = /usr/bin/perl
Perl special variables (and OS-specific diagnostics, for MSWin32):
$^X = /Users/hornenj/perl5/perlbrew/perls/perl-5.8.9/bin/perl
$UID/$EUID = 12481 / 12481
$GID = 14 14 5344 37191 527 37223 241
$EGID = 14 14 5344 37191 527 37223 241
Perl module toolchain versions installed:
Module Have
------------------- --------
CPAN 2.14
CPAN::Meta 2.150005
Cwd 3.47
ExtUtils::CBuilder 0.280224
ExtUtils::Command 7.22
ExtUtils::Install 2.04
ExtUtils::MakeMaker 7.22
ExtUtils::Manifest 1.70
ExtUtils::ParseXS 3.30
File::Spec 3.47
JSON 2.90
JSON::PP 2.27400
Module::Build 0.4214
Module::Signature n/a
Parse::CPAN::Meta 1.4422
Test::Harness 3.36
Test::More 1.302059
YAML 1.18
YAML::Syck 1.29
version 0.9912
--
Summary of my perl5 (revision 5 version 8 subversion 9) configuration:
Platform:
osname=darwin, osvers=12.5.0, archname=darwin-thread-multi-2level
uname='darwin ncbimac2008.ncbi.nlm.nih.gov 12.5.0 darwin kernel version 12.5.0: sun sep 29 13:33:47 pdt 2013; root:xnu-2050.48.12~1release_x86_64 x86_64 '
config_args='-de -Dprefix=/Users/hornenj/perl5/perlbrew/perls/perl-5.8.9 -Duseithreads -Dusemultiplicity -Accflags=-O2 -W -Wformat=2 -Wswitch -Wshadow -Wwrite-strings -Wuninitialized -Wall -pipe -mtune=native -march=native -fomit-frame-pointer -msse2 -msse -mmmx -pedantic -D_FORTIFY_SOURCE=2 -Wpointer-arith -Wstrict-prototypes -fstack-protector -Wstack-protector -Wextra -Wbad-function-cast -Wcast-align -Wcast-qual -Wdisabled-optimization -Wendif-labels -Wfloat-equal -Wformat-nonliteral -Winline -Wmissing-declarations -Wmissing-prototypes -Wnested-externs -Wpointer-arith -Wundef -Wformat-security -fassociative-math -Acc=cc -Aeval:scriptdir=/Users/hornenj/perl5/perlbrew/perls/perl-5.8.9/bin'
hint=recommended, useposix=true, d_sigaction=define
usethreads=define use5005threads=undef useithreads=define usemultiplicity=define
useperlio=define d_sfio=undef uselargefiles=define usesocks=undef
use64bitint=define use64bitall=define uselongdouble=undef
usemymalloc=n, bincompat5005=undef
Compiler:
cc=' cc', ccflags ='-fno-common -DPERL_DARWIN -O2 -W -Wformat=2 -Wswitch -Wshadow -Wwrite-strings -Wuninitialized -Wall -pipe -mtune=native -march=native -fomit-frame-pointer -msse2 -msse -mmmx -pedantic -D_FORTIFY_SOURCE=2 -Wpointer-arith -Wstrict-prototypes -fstack-protector -Wstack-protector -Wextra -Wbad-function-cast -Wcast-align -Wcast-qual -Wdisabled-optimization -Wendif-labels -Wfloat-equal -Wformat-nonliteral -Winline -Wmissing-declarations -Wmissing-prototypes -Wnested-externs -Wpointer-arith -Wundef -Wformat-security -fassociative-math -fno-strict-aliasing -I/usr/local/include',
optimize='-O3',
cppflags='-fno-common -DPERL_DARWIN -O2 -W -Wformat=2 -Wswitch -Wshadow -Wwrite-strings -Wuninitialized -Wall -pipe -mtune=native -march=native -fomit-frame-pointer -msse2 -msse -mmmx -pedantic -D_FORTIFY_SOURCE=2 -Wpointer-arith -Wstrict-prototypes -fstack-protector -Wstack-protector -Wextra -Wbad-function-cast -Wcast-align -Wcast-qual -Wdisabled-optimization -Wendif-labels -Wfloat-equal -Wformat-nonliteral -Winline -Wmissing-declarations -Wmissing-prototypes -Wnested-externs -Wpointer-arith -Wundef -Wformat-security -fassociative-math -fno-strict-aliasing -I/usr/local/include'
ccversion='', gccversion='4.2.1 Compatible Apple LLVM 4.2 (clang-425.0.24)', gccosandvers=''
intsize=4, longsize=8, ptrsize=8, doublesize=8, byteorder=12345678
d_longlong=define, longlongsize=8, d_longdbl=define, longdblsize=16
ivtype='long', ivsize=8, nvtype='double', nvsize=8, Off_t='off_t', lseeksize=8
alignbytes=8, prototype=define
Linker and Libraries:
ld='env MACOSX_DEPLOYMENT_TARGET=10.3 cc', ldflags =' -L/usr/local/lib'
libpth=/usr/local/lib /usr/lib
libs=-ldbm -ldl -lm -lutil -lc
perllibs=-ldl -lm -lutil -lc
libc=, so=dylib, useshrplib=false, libperl=libperl.a
gnulibc_version=''
Dynamic Linking:
dlsrc=dl_dlopen.xs, dlext=bundle, d_dlsymun=undef, ccdlflags=' '
cccdlflags=' ', lddlflags=' -bundle -undefined dynamic_lookup -L/usr/local/lib'
Characteristics of this binary (from libperl):
Compile-time options: MULTIPLICITY PERL_IMPLICIT_CONTEXT PERL_MALLOC_WRAP
USE_64_BIT_ALL USE_64_BIT_INT USE_FAST_STDIO
USE_ITHREADS USE_LARGE_FILES USE_PERLIO
USE_REENTRANT_API
Built under darwin
Compiled at Sep 17 2014 09:11:13
%ENV:
PERL5LIB="/Users/hornenj/.cpan/build/MooseX-Util-0.006-1/blib/arch:/Users/hornenj/.cpan/build/MooseX-Util-0.006-1/blib/lib:/Users/hornenj/.cpan/build/MooseX-TraitFor-Meta-Class-BetterAnonClassNames-0.002002-1/blib/arch:/Users/hornenj/.cpan/build/MooseX-TraitFor-Meta-Class-BetterAnonClassNames-0.002002-1/blib/lib:/Users/hornenj/.cpan/build/autobox-Core-1.32-1/blib/arch:/Users/hornenj/.cpan/build/autobox-Core-1.32-1/blib/lib:/Users/hornenj/.cpan/build/autobox-2.84-2/blib/arch:/Users/hornenj/.cpan/build/autobox-2.84-2/blib/lib:/Users/hornenj/.cpan/build/Want-0.29-12/blib/arch:/Users/hornenj/.cpan/build/Want-0.29-12/blib/lib:/Users/hornenj/.cpan/build/Test-Moose-More-0.038-1/blib/arch:/Users/hornenj/.cpan/build/Test-Moose-More-0.038-1/blib/lib:/Users/hornenj/.cpan/build/TAP-SimpleOutput-0.007-4/blib/arch:/Users/hornenj/.cpan/build/TAP-SimpleOutput-0.007-4/blib/lib:/Users/hornenj/.cpan/build/Syntax-Keyword-Junction-0.003008-4/blib/arch:/Users/hornenj/.cpan/build/Syntax-Keyword-Junction-0.003008-4/blib/lib:/Users/hornenj/.cpan/build/syntax-0.004-4/blib/arch:/Users/hornenj/.cpan/build/syntax-0.004-4/blib/lib:/Users/hornenj/.cpan/build/Perl-Version-1.013-4/blib/arch:/Users/hornenj/.cpan/build/Perl-Version-1.013-4/blib/lib:/Users/hornenj/.cpan/build/File-Slurp-Tiny-0.004-30/blib/arch:/Users/hornenj/.cpan/build/File-Slurp-Tiny-0.004-30/blib/lib"
PERL5OPT=""
PERL5_CPANPLUS_IS_RUNNING="82225"
PERL5_CPAN_IS_RUNNING="82225"
PERL5_MINISMOKEBOX="0.58"
PERLBREW_BASHRC_VERSION="0.77"
PERLBREW_HOME="/Users/hornenj/.perlbrew"
PERLBREW_LIB=""
PERLBREW_MANPATH="/Users/hornenj/perl5/perlbrew/perls/perl-5.8.9/man"
PERLBREW_PATH="/Users/hornenj/perl5/perlbrew/bin:/Users/hornenj/perl5/perlbrew/perls/perl-5.8.9/bin"
PERLBREW_PERL="perl-5.8.9"
PERLBREW_ROOT="/Users/hornenj/perl5/perlbrew"
PERLBREW_VERSION="0.77"
PERL_EXTUTILS_AUTOINSTALL="--defaultdeps"
PERL_LOCAL_LIB_ROOT=""
PERL_MM_USE_DEFAULT="1"
@INC:
/Users/hornenj/.cpan/build/MooseX-Util-0.006-1/blib/arch
/Users/hornenj/.cpan/build/MooseX-Util-0.006-1/blib/lib
/Users/hornenj/.cpan/build/MooseX-TraitFor-Meta-Class-BetterAnonClassNames-0.002002-1/blib/arch
/Users/hornenj/.cpan/build/MooseX-TraitFor-Meta-Class-BetterAnonClassNames-0.002002-1/blib/lib
/Users/hornenj/.cpan/build/autobox-Core-1.32-1/blib/arch
/Users/hornenj/.cpan/build/autobox-Core-1.32-1/blib/lib
/Users/hornenj/.cpan/build/autobox-2.84-2/blib/arch
/Users/hornenj/.cpan/build/autobox-2.84-2/blib/lib
/Users/hornenj/.cpan/build/Want-0.29-12/blib/arch
/Users/hornenj/.cpan/build/Want-0.29-12/blib/lib
/Users/hornenj/.cpan/build/Test-Moose-More-0.038-1/blib/arch
/Users/hornenj/.cpan/build/Test-Moose-More-0.038-1/blib/lib
/Users/hornenj/.cpan/build/TAP-SimpleOutput-0.007-4/blib/arch
/Users/hornenj/.cpan/build/TAP-SimpleOutput-0.007-4/blib/lib
/Users/hornenj/.cpan/build/Syntax-Keyword-Junction-0.003008-4/blib/arch
/Users/hornenj/.cpan/build/Syntax-Keyword-Junction-0.003008-4/blib/lib
/Users/hornenj/.cpan/build/syntax-0.004-4/blib/arch
/Users/hornenj/.cpan/build/syntax-0.004-4/blib/lib
/Users/hornenj/.cpan/build/Perl-Version-1.013-4/blib/arch
/Users/hornenj/.cpan/build/Perl-Version-1.013-4/blib/lib
/Users/hornenj/.cpan/build/File-Slurp-Tiny-0.004-30/blib/arch
/Users/hornenj/.cpan/build/File-Slurp-Tiny-0.004-30/blib/lib
/Users/hornenj/perl5/perlbrew/perls/perl-5.8.9/lib/5.8.9/darwin-thread-multi-2level
/Users/hornenj/perl5/perlbrew/perls/perl-5.8.9/lib/5.8.9
/Users/hornenj/perl5/perlbrew/perls/perl-5.8.9/lib/site_perl/5.8.9/darwin-thread-multi-2level
/Users/hornenj/perl5/perlbrew/perls/perl-5.8.9/lib/site_perl/5.8.9
.