CPAN-Testers-ParseReport v0.4.5 Perl 5 v5.24.4 darwin-2level

Status
Pass
From
Nigel Horne
Dist
CPAN-Testers-ParseReport v0.4.5
Platform
Perl 5 v5.24.4 darwin-2level
Date
2018-12-29 23:38:18
ID
d2044878-0bc2-11e9-9983-e8b8fe059962
This distribution has been tested as part of the CPAN Testers
project, supporting the Perl programming language.  See
http://wiki.cpantesters.org/ for more information or email
questions to cpan-testers-discuss@perl.org


--
Dear Andreas J. Koenig,

This is a computer-generated report for CPAN-Testers-ParseReport-0.4.5
on perl 5.24.4, created by CPAN-Reporter-1.2018.

Thank you for uploading your work to CPAN.  Congratulations!
All tests were successful.

Sections of this report:

    * Tester comments
    * Program output
    * Prerequisites
    * Environment and other context

------------------------------
TESTER COMMENTS
------------------------------

Additional comments from tester:

this report is from an automated smoke testing program
and was not reviewed by a human for accuracy

------------------------------
PROGRAM OUTPUT
------------------------------

Output from '/sw/bin/make test':

PERL_DL_NONLAZY=1 "/Users/hornenj/perl5/perlbrew/perls/perl-5.24.4/bin/perl" "-MExtUtils::Command::MM" "-MTest::Harness" "-e" "undef *Test::Harness::Switches; test_harness(0, 'blib/lib', 'blib/arch')" t/*.t
t/ctgr-live.t .......... skipped: envariable AUTHOR_TEST not set
t/nytprof.t ............ skipped: envariable AUTHOR_TEST not set
t/parse_long_report.t .. skipped: envariable AUTHOR_TEST not set
t/01-metayaml.t ........ ok
t/pod.t ................ ok
# Testing CPAN::Testers::ParseReport 0.4.5, Perl 5.024004, /Users/hornenj/perl5/perlbrew/perls/perl-5.24.4/bin/perl
t/00-load.t ............ ok
t/pod-coverage.t ....... ok
t/run.t ................ ok
t/ctgetreports.t ....... ok
All tests successful.
Files=9, Tests=105,  4 wallclock secs ( 0.04 usr  0.02 sys +  4.98 cusr  1.03 csys =  6.07 CPU)
Result: PASS

------------------------------
PREREQUISITES
------------------------------

Prerequisite modules loaded:

requires:

    Module                     Need     Have    
    -------------------------- -------- --------
    Class::ISA                 0        0.36    
    Compress::Zlib             0        2.081   
    CPAN::Meta::Converter      2.110440 2.150010
    CPAN::Meta::YAML           0.018    0.018   
    DateTime                   0        1.49    
    DateTime::Format::Strptime 0        1.75    
    ExtUtils::MakeMaker        6.48     7.34    
    File::Path                 1.08     2.15    
    File::Spec                 3.75     3.75    
    Getopt::Long               0        2.5     
    Hash::Util                 0        0.19    
    HTML::Entities             0        3.69    
    JSON::PP                   2.97001  2.97001 
    JSON::XS                   0        3.04    
    List::AllUtils             0        0.15    
    LWP::UserAgent             0        6.36    
    MIME::QuotedPrint          3.07     3.13    
    Parse::CPAN::Meta          2.150010 2.150010
    perl                       5.008    5.024004
    Pod::Usage                 1.33     1.69    
    Statistics::Regression     0        0.53    
    Test::More                 0        1.302136
    Test::Pod                  0        1.52    
    Time::Local                1.11     1.25    
    version                    0.9924   0.9924  

build_requires:

    Module                     Need     Have    
    -------------------------- -------- --------
    ExtUtils::MakeMaker        0        7.34    

configure_requires:

    Module                     Need     Have    
    -------------------------- -------- --------
    ExtUtils::MakeMaker        0        7.34    


------------------------------
ENVIRONMENT AND OTHER CONTEXT
------------------------------

Environment variables:

    AUTOMATED_TESTING = 1
    HARNESS_OPTIONS = j4
    LANG = en_US.UTF-8
    LC_ALL = POSIX
    NONINTERACTIVE_TESTING = 1
    PATH = /Users/hornenj/perl5/perlbrew/bin:/Users/hornenj/perl5/perlbrew/perls/perl-5.24.4/bin:src/njh/smoker/bin:/Users/hornenj/homebrew/bin:/Users/hornenj/bin:/usr/bin:/bin:/usr/X11R6/bin:/sw/bin
    PERL5LIB = /Users/hornenj/.cpan/build/Statistics-Regression-0.53-7/blib/arch:/Users/hornenj/.cpan/build/Statistics-Regression-0.53-7/blib/lib:/Users/hornenj/.cpan/build/List-AllUtils-0.15-7/blib/arch:/Users/hornenj/.cpan/build/List-AllUtils-0.15-7/blib/lib:/Users/hornenj/.cpan/build/List-UtilsBy-0.11-7/blib/arch:/Users/hornenj/.cpan/build/List-UtilsBy-0.11-7/blib/lib:/Users/hornenj/.cpan/build/List-SomeUtils-0.56-3/blib/arch:/Users/hornenj/.cpan/build/List-SomeUtils-0.56-3/blib/lib:/Users/hornenj/.cpan/build/List-SomeUtils-XS-0.58-3/blib/arch:/Users/hornenj/.cpan/build/List-SomeUtils-XS-0.58-3/blib/lib:/Users/hornenj/.cpan/build/DateTime-Format-Strptime-1.75-6/blib/arch:/Users/hornenj/.cpan/build/DateTime-Format-Strptime-1.75-6/blib/lib:/Users/hornenj/.cpan/build/Class-ISA-0.36-7/blib/arch:/Users/hornenj/.cpan/build/Class-ISA-0.36-7/blib/lib:/Users/hornenj/.cpan/build/Mojolicious-Plugin-Piwik-0.26_1-7/blib/arch:/Users/hornenj/.cpan/build/Mojolicious-Plugin-Piwik-0.26_1-7/blib/lib
    PERL5OPT = 
    PERL5_CPANPLUS_IS_RUNNING = 41489
    PERL5_CPAN_IS_RUNNING = 41489
    PERLBREW_HOME = /Users/hornenj/.perlbrew
    PERLBREW_MANPATH = /Users/hornenj/perl5/perlbrew/perls/perl-5.24.4/man
    PERLBREW_PATH = /Users/hornenj/perl5/perlbrew/bin:/Users/hornenj/perl5/perlbrew/perls/perl-5.24.4/bin
    PERLBREW_PERL = perl-5.24.4
    PERLBREW_ROOT = /Users/hornenj/perl5/perlbrew
    PERLBREW_SHELLRC_VERSION = 0.85
    PERLBREW_VERSION = 0.85
    PERL_MM_USE_DEFAULT = 1
    SHELL = /bin/bash
    TERM = xterm-256color
    TMPDIR = /var/folders/pz/pd7y1qjs6s3cbk170cw50fjc000c61/T//testwrapper.41475
    VERSIONER_PERL_PREFER_32_BIT = no
    VERSIONER_PERL_VERSION = 5.18

Perl special variables (and OS-specific diagnostics, for MSWin32):

    $^X = /Users/hornenj/perl5/perlbrew/perls/perl-5.24.4/bin/perl
    $UID/$EUID = 12481 / 12481
    $GID = 14 14 206 5344 37191 527 12 62 98 204 399 37223 241 223 100
    $EGID = 14 14 206 5344 37191 527 12 62 98 204 399 37223 241 223 100

Perl module toolchain versions installed:

    Module              Have    
    ------------------- --------
    CPAN                2.16    
    CPAN::Meta          2.150010
    Cwd                 3.75    
    ExtUtils::CBuilder  0.280230
    ExtUtils::Command   7.34    
    ExtUtils::Install   2.14    
    ExtUtils::MakeMaker 7.34    
    ExtUtils::Manifest  1.71    
    ExtUtils::ParseXS   3.35    
    File::Spec          3.75    
    JSON                4.00    
    JSON::PP            2.97001 
    Module::Build       0.4224  
    Module::Signature   n/a     
    Parse::CPAN::Meta   2.150010
    Test::Harness       3.42    
    Test::More          1.302136
    YAML                1.27    
    YAML::Syck          1.31    
    version             0.9924  


--

Summary of my perl5 (revision 5 version 24 subversion 4) configuration:
   
  Platform:
    osname=darwin, osvers=17.5.0, archname=darwin-2level
    uname='darwin ncbimac2024 17.5.0 darwin kernel version 17.5.0: fri apr 13 19:32:32 pdt 2018; root:xnu-4570.51.2~1release_x86_64 x86_64 '
    config_args='-de -Dprefix=/Users/hornenj/perl5/perlbrew/perls/perl-5.24.4 -Aeval:scriptdir=/Users/hornenj/perl5/perlbrew/perls/perl-5.24.4/bin'
    hint=recommended, useposix=true, d_sigaction=define
    useithreads=undef, usemultiplicity=undef
    use64bitint=define, use64bitall=define, uselongdouble=undef
    usemymalloc=n, bincompat5005=undef
  Compiler:
    cc='cc', ccflags ='-fno-common -DPERL_DARWIN -fno-strict-aliasing -pipe -fstack-protector-strong',
    optimize='-O3',
    cppflags='-fno-common -DPERL_DARWIN -fno-strict-aliasing -pipe -fstack-protector-strong'
    ccversion='', gccversion='4.2.1 Compatible Apple LLVM 9.1.0 (clang-902.0.39.1)', gccosandvers=''
    intsize=4, longsize=8, ptrsize=8, doublesize=8, byteorder=12345678, doublekind=3
    d_longlong=define, longlongsize=8, d_longdbl=define, longdblsize=16, longdblkind=3
    ivtype='long', ivsize=8, nvtype='double', nvsize=8, Off_t='off_t', lseeksize=8
    alignbytes=8, prototype=define
  Linker and Libraries:
    ld='env MACOSX_DEPLOYMENT_TARGET=10.3 cc', ldflags =' -fstack-protector-strong -L/usr/local/lib'
    libpth=/Applications/Xcode.app/Contents/Developer/Toolchains/XcodeDefault.xctoolchain/usr/lib/clang/9.1.0/lib /Applications/Xcode.app/Contents/Developer/Toolchains/XcodeDefault.xctoolchain/usr/lib /usr/lib /usr/local/lib
    libs=-lpthread -ldbm -ldl -lm -lutil -lc
    perllibs=-lpthread -ldl -lm -lutil -lc
    libc=, so=dylib, useshrplib=false, libperl=libperl.a
    gnulibc_version=''
  Dynamic Linking:
    dlsrc=dl_dlopen.xs, dlext=bundle, d_dlsymun=undef, ccdlflags=' '
    cccdlflags=' ', lddlflags=' -bundle -undefined dynamic_lookup -L/usr/local/lib -fstack-protector-strong'


Characteristics of this binary (from libperl): 
  Compile-time options: HAS_TIMES PERLIO_LAYERS PERL_COPY_ON_WRITE
                        PERL_DONT_CREATE_GVSV
                        PERL_HASH_FUNC_ONE_AT_A_TIME_HARD PERL_MALLOC_WRAP
                        PERL_PRESERVE_IVUV USE_64_BIT_ALL USE_64_BIT_INT
                        USE_LARGE_FILES USE_LOCALE USE_LOCALE_COLLATE
                        USE_LOCALE_CTYPE USE_LOCALE_NUMERIC USE_LOCALE_TIME
                        USE_PERLIO USE_PERL_ATOF
  Locally applied patches:
	Devel::PatchPerl 1.30
  Built under darwin
  Compiled at Apr 30 2018 11:41:32
  %ENV:
    PERL5LIB="/Users/hornenj/.cpan/build/Statistics-Regression-0.53-7/blib/arch:/Users/hornenj/.cpan/build/Statistics-Regression-0.53-7/blib/lib:/Users/hornenj/.cpan/build/List-AllUtils-0.15-7/blib/arch:/Users/hornenj/.cpan/build/List-AllUtils-0.15-7/blib/lib:/Users/hornenj/.cpan/build/List-UtilsBy-0.11-7/blib/arch:/Users/hornenj/.cpan/build/List-UtilsBy-0.11-7/blib/lib:/Users/hornenj/.cpan/build/List-SomeUtils-0.56-3/blib/arch:/Users/hornenj/.cpan/build/List-SomeUtils-0.56-3/blib/lib:/Users/hornenj/.cpan/build/List-SomeUtils-XS-0.58-3/blib/arch:/Users/hornenj/.cpan/build/List-SomeUtils-XS-0.58-3/blib/lib:/Users/hornenj/.cpan/build/DateTime-Format-Strptime-1.75-6/blib/arch:/Users/hornenj/.cpan/build/DateTime-Format-Strptime-1.75-6/blib/lib:/Users/hornenj/.cpan/build/Class-ISA-0.36-7/blib/arch:/Users/hornenj/.cpan/build/Class-ISA-0.36-7/blib/lib:/Users/hornenj/.cpan/build/Mojolicious-Plugin-Piwik-0.26_1-7/blib/arch:/Users/hornenj/.cpan/build/Mojolicious-Plugin-Piwik-0.26_1-7/blib/lib"
    PERL5OPT=""
    PERL5_CPANPLUS_IS_RUNNING="41489"
    PERL5_CPAN_IS_RUNNING="41489"
    PERLBREW_HOME="/Users/hornenj/.perlbrew"
    PERLBREW_MANPATH="/Users/hornenj/perl5/perlbrew/perls/perl-5.24.4/man"
    PERLBREW_PATH="/Users/hornenj/perl5/perlbrew/bin:/Users/hornenj/perl5/perlbrew/perls/perl-5.24.4/bin"
    PERLBREW_PERL="perl-5.24.4"
    PERLBREW_ROOT="/Users/hornenj/perl5/perlbrew"
    PERLBREW_SHELLRC_VERSION="0.85"
    PERLBREW_VERSION="0.85"
    PERL_MM_USE_DEFAULT="1"
  @INC:
    /Users/hornenj/.cpan/build/Statistics-Regression-0.53-7/blib/arch
    /Users/hornenj/.cpan/build/Statistics-Regression-0.53-7/blib/lib
    /Users/hornenj/.cpan/build/List-AllUtils-0.15-7/blib/arch
    /Users/hornenj/.cpan/build/List-AllUtils-0.15-7/blib/lib
    /Users/hornenj/.cpan/build/List-UtilsBy-0.11-7/blib/arch
    /Users/hornenj/.cpan/build/List-UtilsBy-0.11-7/blib/lib
    /Users/hornenj/.cpan/build/List-SomeUtils-0.56-3/blib/arch
    /Users/hornenj/.cpan/build/List-SomeUtils-0.56-3/blib/lib
    /Users/hornenj/.cpan/build/List-SomeUtils-XS-0.58-3/blib/arch
    /Users/hornenj/.cpan/build/List-SomeUtils-XS-0.58-3/blib/lib
    /Users/hornenj/.cpan/build/DateTime-Format-Strptime-1.75-6/blib/arch
    /Users/hornenj/.cpan/build/DateTime-Format-Strptime-1.75-6/blib/lib
    /Users/hornenj/.cpan/build/Class-ISA-0.36-7/blib/arch
    /Users/hornenj/.cpan/build/Class-ISA-0.36-7/blib/lib
    /Users/hornenj/.cpan/build/Mojolicious-Plugin-Piwik-0.26_1-7/blib/arch
    /Users/hornenj/.cpan/build/Mojolicious-Plugin-Piwik-0.26_1-7/blib/lib
    /Users/hornenj/perl5/perlbrew/perls/perl-5.24.4/lib/site_perl/5.24.4/darwin-2level
    /Users/hornenj/perl5/perlbrew/perls/perl-5.24.4/lib/site_perl/5.24.4
    /Users/hornenj/perl5/perlbrew/perls/perl-5.24.4/lib/5.24.4/darwin-2level
    /Users/hornenj/perl5/perlbrew/perls/perl-5.24.4/lib/5.24.4
    .