Stepford v0.006001 Perl 5 v5.40.3 x86_64-linux-ld
- Status
- Pass
- From
- Andreas J. König (ANDK)
- Dist
-
Stepford v0.006001
- Platform
- Perl 5 v5.40.3 x86_64-linux-ld
- Date
- 2025-08-06 02:41:14
- ID
- d2061d82-726e-11f0-98b7-a8a59a761f37
This distribution has been tested as part of the CPAN Testers
project, supporting the Perl programming language. See
http://wiki.cpantesters.org/ for more information or email
questions to cpan-testers-discuss@perl.org
--
Dear MaxMind, Inc.,
This is a computer-generated report for Stepford-0.006001
on perl 5.40.3, created by CPAN-Reporter-1.2020.
Thank you for uploading your work to CPAN. Congratulations!
All tests were successful.
Sections of this report:
* Tester comments
* Program output
* Prerequisites
* Environment and other context
------------------------------
TESTER COMMENTS
------------------------------
Additional comments from tester:
this report is from an automated smoke testing program
and was not reviewed by a human for accuracy
------------------------------
PROGRAM OUTPUT
------------------------------
Output from '/usr/bin/make test':
PERL_DL_NONLAZY=1 "/tmp/basesmoker-reloperl-oQgT/bin/perl" "-MExtUtils::Command::MM" "-MTest::Harness" "-e" "undef *Test::Harness::Switches; test_harness(0, 'blib/lib', 'blib/arch')" t/*.t
#
# Versions for all modules listed in MYMETA.json (including optional ones):
#
# === Configure Requires ===
#
# Module Want Have
# ------------------- ---- ----
# ExtUtils::MakeMaker any 7.76
#
# === Configure Suggests ===
#
# Module Want Have
# -------- ------- ----
# JSON::PP 2.27300 4.16
#
# === Build Requires ===
#
# Module Want Have
# ------------------- ---- ----
# ExtUtils::MakeMaker any 7.76
#
# === Test Requires ===
#
# Module Want Have
# ------------------------- ---- --------
# Capture::Tiny any 0.50
# ExtUtils::MakeMaker any 7.76
# File::Spec any 3.91
# Log::Dispatch::Array any 1.005
# MooseX::Types::Path::Tiny any 0.012
# Path::Tiny any 0.150
# Test::Differences any 0.72
# Test::Fatal any 0.017
# Test::More 0.96 1.302214
# autodie any 2.37
# lib any 0.65
#
# === Test Recommends ===
#
# Module Want Have
# ---------- -------- --------
# CPAN::Meta 2.120900 2.150010
#
# === Runtime Requires ===
#
# Module Want Have
# ------------------------------ ------ --------
# Carp any 1.54
# List::AllUtils any 0.19
# Log::Dispatch any 2.71
# Log::Dispatch::Null any 2.71
# Module::Pluggable::Object any 5.2
# Moose any 2.4000
# Moose::Role any 2.4000
# Moose::Util::TypeConstraints any 2.4000
# MooseX::Params::Validate any 0.21
# MooseX::StrictConstructor any 0.21
# MooseX::Types any 0.51
# MooseX::Types::Combine any 0.51
# MooseX::Types::Common::Numeric any 0.001015
# MooseX::Types::Common::String any 0.001015
# MooseX::Types::Moose any 0.51
# MooseX::Types::Path::Class any 0.09
# Parallel::ForkManager any 2.03
# Path::Class any 0.37
# Scope::Guard any 0.21
# Throwable::Error any 1.001
# Time::HiRes 1.9726 1.9777
# Try::Tiny any 0.32
# namespace::autoclean any 0.31
# namespace::clean any 0.27
# parent any 0.244
# strict any 1.13
# warnings any 1.70
#
# === Runtime Recommends ===
#
# Module Want Have
# ------------- ---- -------
# Memory::Stats any missing
#
t/00-report-prereqs.t ................... ok
t/Runner-child-death.t .................. ok
t/Runner-diamond-graph.t ................ ok
t/Runner-dry-run.t ...................... ok
t/Runner-inner-steps.t .................. ok
t/Runner-integration.t .................. ok
t/Runner-no-unnecessary-rebuild.t ....... ok
t/Runner-parallel-unserializable.t ...... ok
t/Runner-parallel.t ..................... ok
t/Runner-rebuild-on-missing-files.t ..... ok
t/Runner-rebuild.t ...................... ok
t/Runner-step-modifies-topic.t .......... ok
t/Runner.t .............................. ok
t/Step-FileGenerator-Atomic-fork-bug.t .. ok
t/Step-FileGenerator-Atomic.t ........... ok
t/Step.t ................................ ok
All tests successful.
Files=16, Tests=81, 39 wallclock secs ( 0.05 usr 0.03 sys + 9.20 cusr 1.60 csys = 10.88 CPU)
Result: PASS
------------------------------
PREREQUISITES
------------------------------
Prerequisite modules loaded:
requires:
Module Need Have
------------------------------ ------ --------
Carp 0 1.54
List::AllUtils 0 0.19
Log::Dispatch 0 2.71
Log::Dispatch::Null 0 2.71
Module::Pluggable::Object 0 5.2
Moose 0 2.4000
Moose::Role 0 2.4000
Moose::Util::TypeConstraints 0 2.4000
MooseX::Params::Validate 0 0.21
MooseX::StrictConstructor 0 0.21
MooseX::Types 0 0.51
MooseX::Types::Combine 0 0.51
MooseX::Types::Common::Numeric 0 0.001015
MooseX::Types::Common::String 0 0.001015
MooseX::Types::Moose 0 0.51
MooseX::Types::Path::Class 0 0.09
namespace::autoclean 0 0.31
namespace::clean 0 0.27
Parallel::ForkManager 0 2.03
parent 0 0.244
Path::Class 0 0.37
Scope::Guard 0 0.21
strict 0 1.13
Throwable::Error 0 1.001
Time::HiRes 1.9726 1.9777
Try::Tiny 0 0.32
warnings 0 1.70
build_requires:
Module Need Have
------------------------------ ------ --------
autodie 0 2.37
Capture::Tiny 0 0.50
ExtUtils::MakeMaker 0 7.76
File::Spec 0 3.91
lib 0 0.65
Log::Dispatch::Array 0 1.005
MooseX::Types::Path::Tiny 0 0.012
Path::Tiny 0 0.150
Test::Differences 0 0.72
Test::Fatal 0 0.017
Test::More 0.96 1.302214
configure_requires:
Module Need Have
------------------------------ ------ --------
ExtUtils::MakeMaker 0 7.76
opt_requires:
Module Need Have
------------------------------ ------ --------
! Memory::Stats 0 n/a
------------------------------
ENVIRONMENT AND OTHER CONTEXT
------------------------------
Environment variables:
AUTOMATED_TESTING = 1
LANG = en_US.UTF-8
LC_ADDRESS = de_DE.UTF-8
LC_IDENTIFICATION = de_DE.UTF-8
LC_MEASUREMENT = de_DE.UTF-8
LC_MONETARY = de_DE.UTF-8
LC_NAME = de_DE.UTF-8
LC_NUMERIC = de_DE.UTF-8
LC_PAPER = de_DE.UTF-8
LC_TELEPHONE = de_DE.UTF-8
LC_TIME = de_DE.UTF-8
PATH = /home/sand/bin:/usr/local/bin:/usr/local/sbin:/usr/sbin:/usr/bin:/sbin:/bin:/usr/games:/usr/local/games:/snap/bin:/usr/local/perl/bin:/usr/X11/bin
PERL = /tmp/basesmoker-reloperl-oQgT/bin/perl
PERL5LIB = /tmp/loop_over_bdir-702062-GQOSHc/Dpkg-1.22.21-0/blib/arch:/tmp/loop_over_bdir-702062-GQOSHc/Dpkg-1.22.21-0/blib/lib
PERL5OPT =
PERL5_CPANPLUS_IS_RUNNING = 702070
PERL5_CPAN_IS_RUNNING = 702070
PERL_CANARY_STABILITY_NOPROMPT = 1
PERL_MM_USE_DEFAULT = 1
PERL_USE_UNSAFE_INC = 1
SHELL = /usr/bin/zsh
TERM = screen
Perl special variables (and OS-specific diagnostics, for MSWin32):
$^X = /tmp/basesmoker-reloperl-oQgT/bin/perl
$UID/$EUID = 1005 / 1005
$GID = 1005 1005
$EGID = 1005 1005
Perl module toolchain versions installed:
Module Have
------------------- --------
CPAN 2.38
CPAN::Meta 2.150010
Cwd 3.91
ExtUtils::CBuilder 0.280240
ExtUtils::Command 7.76
ExtUtils::Install 2.22
ExtUtils::MakeMaker 7.76
ExtUtils::Manifest 1.75
ExtUtils::ParseXS 3.51
File::Spec 3.91
JSON 4.10
JSON::PP 4.16
Module::Build 0.4234
Module::Signature 0.93
Parse::CPAN::Meta 2.150010
Test2 1.302214
Test::Harness 3.52
Test::More 1.302214
YAML 1.31
YAML::Syck 1.34
version 0.9933
--
Summary of my perl5 (revision 5 version 40 subversion 3) configuration:
Commit id: f0594ea45aebda152be29d14a09562adcb5b00c0
Platform:
osname=linux
osvers=6.8.0-64-generic
archname=x86_64-linux-ld
uname='linux k93jammy 6.8.0-64-generic #67~22.04.1-ubuntu smp preempt_dynamic tue jun 24 15:19:46 utc 2 x86_64 x86_64 x86_64 gnulinux '
config_args='-Dprefix=/home/sand/src/perl/repoperls/installed-perls/host/k93jammy/v5.40.3/5674 -Dmyhostname=k93jammy -Dinstallusrbinperl=n -Uversiononly -Dusedevel -des -Ui_db -Dlibswanted=cl pthread socket inet nsl gdbm dbm malloc dl ld sun m crypt sec util c cposix posix ucb BSD gdbm_compat -Uuseithreads -Duselongdouble -DEBUGGING=-g'
hint=recommended
useposix=true
d_sigaction=define
useithreads=undef
usemultiplicity=undef
use64bitint=define
use64bitall=define
uselongdouble=define
usemymalloc=n
default_inc_excludes_dot=define
Compiler:
cc='cc'
ccflags ='-fwrapv -fno-strict-aliasing -pipe -fstack-protector-strong -I/usr/local/include -D_LARGEFILE_SOURCE -D_FILE_OFFSET_BITS=64'
optimize='-O2 -g'
cppflags='-fwrapv -fno-strict-aliasing -pipe -fstack-protector-strong -I/usr/local/include'
ccversion=''
gccversion='11.4.0'
gccosandvers=''
intsize=4
longsize=8
ptrsize=8
doublesize=8
byteorder=12345678
doublekind=3
d_longlong=define
longlongsize=8
d_longdbl=define
longdblsize=16
longdblkind=3
ivtype='long'
ivsize=8
nvtype='long double'
nvsize=16
Off_t='off_t'
lseeksize=8
alignbytes=16
prototype=define
Linker and Libraries:
ld='cc'
ldflags =' -fstack-protector-strong -L/usr/local/lib'
libpth=/usr/local/lib /usr/lib/x86_64-linux-gnu /usr/lib /usr/lib64
libs=-lpthread -lnsl -ldl -lm -lcrypt -lutil -lc
perllibs=-lpthread -lnsl -ldl -lm -lcrypt -lutil -lc
libc=/lib/x86_64-linux-gnu/libc.so.6
so=so
useshrplib=false
libperl=libperl.a
gnulibc_version='2.35'
Dynamic Linking:
dlsrc=dl_dlopen.xs
dlext=so
d_dlsymun=undef
ccdlflags='-Wl,-E'
cccdlflags='-fPIC'
lddlflags='-shared -O2 -g -L/usr/local/lib -fstack-protector-strong'
Characteristics of this binary (from libperl):
Compile-time options:
HAS_LONG_DOUBLE
HAS_STRTOLD
HAS_TIMES
PERLIO_LAYERS
PERL_COPY_ON_WRITE
PERL_DONT_CREATE_GVSV
PERL_HASH_FUNC_SIPHASH13
PERL_HASH_USE_SBOX32
PERL_MALLOC_WRAP
PERL_OP_PARENT
PERL_PRESERVE_IVUV
PERL_USE_DEVEL
PERL_USE_SAFE_PUTENV
USE_64_BIT_ALL
USE_64_BIT_INT
USE_LARGE_FILES
USE_LOCALE
USE_LOCALE_COLLATE
USE_LOCALE_CTYPE
USE_LOCALE_NUMERIC
USE_LOCALE_TIME
USE_LONG_DOUBLE
USE_PERLIO
USE_PERL_ATOF
Built under linux
Compiled at Aug 4 2025 07:23:00
%ENV:
PERL="/tmp/basesmoker-reloperl-oQgT/bin/perl"
PERL5LIB="/tmp/loop_over_bdir-702062-GQOSHc/Dpkg-1.22.21-0/blib/arch:/tmp/loop_over_bdir-702062-GQOSHc/Dpkg-1.22.21-0/blib/lib"
PERL5OPT=""
PERL5_CPANPLUS_IS_RUNNING="702070"
PERL5_CPAN_IS_RUNNING="702070"
PERL_CANARY_STABILITY_NOPROMPT="1"
PERL_MM_USE_DEFAULT="1"
PERL_USE_UNSAFE_INC="1"
@INC:
/tmp/loop_over_bdir-702062-GQOSHc/Dpkg-1.22.21-0/blib/arch
/tmp/loop_over_bdir-702062-GQOSHc/Dpkg-1.22.21-0/blib/lib
/home/sand/src/perl/repoperls/installed-perls/host/k93jammy/v5.40.3/5674/lib/site_perl/5.40.3/x86_64-linux-ld
/home/sand/src/perl/repoperls/installed-perls/host/k93jammy/v5.40.3/5674/lib/site_perl/5.40.3
/home/sand/src/perl/repoperls/installed-perls/host/k93jammy/v5.40.3/5674/lib/5.40.3/x86_64-linux-ld
/home/sand/src/perl/repoperls/installed-perls/host/k93jammy/v5.40.3/5674/lib/5.40.3
.