Report for TAP-Harness-JUnit-0.37

Back
From: metabase:user:30f4dfbe-2aae-11df-837a-5e0a49663a4f
Subject: PASS TAP-Harness-JUnit-0.37 v5.13.4 GNU/Linux
Date: 2012-08-06T07:17:46Z

This distribution has been tested as part of the CPAN Testers
project, supporting the Perl programming language.  See
http://wiki.cpantesters.org/ for more information or email
questions to cpan-testers-discuss@perl.org


--
Dear Jeff Lavallee,

This is a computer-generated report for TAP-Harness-JUnit-0.37
on perl 5.13.4, created by CPAN-Reporter-1.2006.

Thank you for uploading your work to CPAN.  Congratulations!
All tests were successful.

Sections of this report:

    * Tester comments
    * Program output
    * Prerequisites
    * Environment and other context

------------------------------
TESTER COMMENTS
------------------------------

Additional comments from tester:

this report is from an automated smoke testing program
and was not reviewed by a human for accuracy

------------------------------
PROGRAM OUTPUT
------------------------------

Output from './Build test':

t/large_suite.t ........ ok
t/outputs.t ............ ok
t/outputs_with_time.t .. ok
t/package.t ............ ok
t/use.t ................ ok
t/xmlfile_default.t .... ok
All tests successful.
Files=6, Tests=35,  1 wallclock secs ( 0.02 usr  0.00 sys +  1.32 cusr  0.08 csys =  1.42 CPU)
Result: PASS

------------------------------
PREREQUISITES
------------------------------

Prerequisite modules loaded:

requires:

    Module        Need Have  
    ------------- ---- ------
    Encode        0    2.45  
    File::Temp    0    0.22  
    Scalar::Util  0    1.25  
    TAP::Harness  3.05 3.25  
    TAP::Parser   0    3.25  
    Test::More    0    0.98  
    XML::Simple   0    2.20  

build_requires:

    Module        Need Have  
    ------------- ---- ------
    Test::Deep    0    0.110 

configure_requires:

    Module        Need Have  
    ------------- ---- ------
    Module::Build 0.36 0.4002


------------------------------
ENVIRONMENT AND OTHER CONTEXT
------------------------------

Environment variables:

    AUTOMATED_TESTING = 1
    LANG = en_GB.UTF-8
    LANGUAGE = en_GB:en
    PATH = /home/njh/perl5/perlbrew/bin:/home/njh/perl5/perlbrew/perls/perl-5.13.4/bin:/usr/bin:/bin
    PERL5LIB = /home/njh/.cpan/build/XML-Simple-2.20-SsJIEp/blib/arch:/home/njh/.cpan/build/XML-Simple-2.20-SsJIEp/blib/lib:/home/njh/.cpan/build/XML-SAX-Expat-0.40-V2rG3P/blib/arch:/home/njh/.cpan/build/XML-SAX-Expat-0.40-V2rG3P/blib/lib
    PERL5OPT = 
    PERL5_CPANPLUS_IS_RUNNING = 16754
    PERL5_CPAN_IS_RUNNING = 16754
    PERL5_MINISMOKEBOX = 0.54
    PERLBREW_MANPATH = /home/njh/perl5/perlbrew/perls/perl-5.13.4/man
    PERLBREW_PATH = /home/njh/perl5/perlbrew/bin:/home/njh/perl5/perlbrew/perls/perl-5.13.4/bin
    PERLBREW_PERL = perl-5.13.4
    PERLBREW_ROOT = /home/njh/perl5/perlbrew
    PERLBREW_VERSION = 0.46
    PERL_EXTUTILS_AUTOINSTALL = --defaultdeps
    PERL_MM_USE_DEFAULT = 1
    SHELL = /bin/sh

Perl special variables (and OS-specific diagnostics, for MSWin32):

    $^X = /home/njh/perl5/perlbrew/perls/perl-5.13.4/bin/perl5.13.4
    $UID/$EUID = 1000 / 1000
    $GID = 1000 24 25 29 30 44 46 108 112 1000
    $EGID = 1000 24 25 29 30 44 46 108 112 1000

Perl module toolchain versions installed:

    Module              Have    
    ------------------- --------
    CPAN                1.9800  
    CPAN::Meta          2.120921
    Cwd                 3.33    
    ExtUtils::CBuilder  0.280205
    ExtUtils::Command   1.17    
    ExtUtils::Install   1.55    
    ExtUtils::MakeMaker 6.62    
    ExtUtils::Manifest  1.60    
    ExtUtils::ParseXS   3.15    
    File::Spec          3.33    
    JSON                2.53    
    JSON::PP            2.27200 
    Module::Build       0.4002  
    Module::Signature   0.68    
    Parse::CPAN::Meta   1.4404  
    Test::Harness       3.25    
    Test::More          0.98    
    YAML                0.84    
    YAML::Syck          1.20    
    version             0.99    


--

Summary of my perl5 (revision 5 version 13 subversion 4) configuration:
   
  Platform:
    osname=linux, osvers=3.2.0-2-amd64, archname=x86_64-linux
    uname='linux gateway 3.2.0-2-amd64 #1 smp sun apr 15 16:47:38 utc 2012 x86_64 gnulinux '
    config_args='-de -Dprefix=/home/njh/perl5/perlbrew/perls/perl-5.13.4 -Dusedevel -Accflags=-O2 -W -Wformat=2 -Wswitch -Wshadow -Wwrite-strings -Wuninitialized -Wall -pipe -mtune=native -march=native -fomit-frame-pointer -mfpmath=sse -pedantic -D_FORTIFY_SOURCE=2 -Wpointer-arith -Wstrict-prototypes -fstack-protector -Wstack-protector -Wextra -Wbad-function-cast -Wcast-align -Wcast-qual -Wdisabled-optimization -Wendif-labels -Wfloat-equal -Wformat-nonliteral -Winline -Wmissing-declarations -Wmissing-prototypes -Wnested-externs -Wpointer-arith -Wundef -Wformat-security'
    hint=recommended, useposix=true, d_sigaction=define
    useithreads=undef, usemultiplicity=undef
    useperlio=define, d_sfio=undef, uselargefiles=define, usesocks=undef
    use64bitint=define, use64bitall=define, uselongdouble=undef
    usemymalloc=n, bincompat5005=undef
  Compiler:
    cc='cc', ccflags ='-O2 -W -Wformat=2 -Wswitch -Wshadow -Wwrite-strings -Wuninitialized -Wall -pipe -mtune=native -march=native -fomit-frame-pointer -mfpmath=sse -pedantic -D_FORTIFY_SOURCE=2 -Wpointer-arith -Wstrict-prototypes -fstack-protector -Wstack-protector -Wextra -Wbad-function-cast -Wcast-align -Wcast-qual -Wdisabled-optimization -Wendif-labels -Wfloat-equal -Wformat-nonliteral -Winline -Wmissing-declarations -Wmissing-prototypes -Wnested-externs -Wpointer-arith -Wundef -Wformat-security -fno-strict-aliasing -I/usr/local/include -D_LARGEFILE_SOURCE -D_FILE_OFFSET_BITS=64',
    optimize='-O2',
    cppflags='-O2 -W -Wformat=2 -Wswitch -Wshadow -Wwrite-strings -Wuninitialized -Wall -pipe -mtune=native -march=native -fomit-frame-pointer -mfpmath=sse -pedantic -D_FORTIFY_SOURCE=2 -Wpointer-arith -Wstrict-prototypes -fstack-protector -Wstack-protector -Wextra -Wbad-function-cast -Wcast-align -Wcast-qual -Wdisabled-optimization -Wendif-labels -Wfloat-equal -Wformat-nonliteral -Winline -Wmissing-declarations -Wmissing-prototypes -Wnested-externs -Wpointer-arith -Wundef -Wformat-security -fno-strict-aliasing -I/usr/local/include'
    ccversion='', gccversion='4.6.3', gccosandvers=''
    intsize=4, longsize=8, ptrsize=8, doublesize=8, byteorder=12345678
    d_longlong=define, longlongsize=8, d_longdbl=define, longdblsize=16
    ivtype='long', ivsize=8, nvtype='double', nvsize=8, Off_t='off_t', lseeksize=8
    alignbytes=8, prototype=define
  Linker and Libraries:
    ld='cc', ldflags =' -fstack-protector -L/usr/local/lib'
    libpth=/usr/local/lib /lib/x86_64-linux-gnu /lib/../lib /usr/lib/x86_64-linux-gnu /usr/lib/../lib /lib /usr/lib
    libs=-lnsl -lgdbm -ldb -ldl -lm -lcrypt -lutil -lc -lgdbm_compat
    perllibs=-lnsl -ldl -lm -lcrypt -lutil -lc
    libc=, so=so, useshrplib=false, libperl=libperl.a
    gnulibc_version='2.13'
  Dynamic Linking:
    dlsrc=dl_dlopen.xs, dlext=so, d_dlsymun=undef, ccdlflags='-Wl,-E'
    cccdlflags='-fPIC', lddlflags='-shared -O2 -L/usr/local/lib -fstack-protector'


Characteristics of this binary (from libperl): 
  Compile-time options: PERL_DONT_CREATE_GVSV PERL_MALLOC_WRAP PERL_USE_DEVEL
                        USE_64_BIT_ALL USE_64_BIT_INT USE_LARGE_FILES
                        USE_PERLIO USE_PERL_ATOF
  Built under linux
  Compiled at Apr 22 2012 09:50:38
  %ENV:
    PERL5LIB="/home/njh/.cpan/build/XML-Simple-2.20-SsJIEp/blib/arch:/home/njh/.cpan/build/XML-Simple-2.20-SsJIEp/blib/lib:/home/njh/.cpan/build/XML-SAX-Expat-0.40-V2rG3P/blib/arch:/home/njh/.cpan/build/XML-SAX-Expat-0.40-V2rG3P/blib/lib"
    PERL5OPT=""
    PERL5_CPANPLUS_IS_RUNNING="16754"
    PERL5_CPAN_IS_RUNNING="16754"
    PERL5_MINISMOKEBOX="0.54"
    PERLBREW_MANPATH="/home/njh/perl5/perlbrew/perls/perl-5.13.4/man"
    PERLBREW_PATH="/home/njh/perl5/perlbrew/bin:/home/njh/perl5/perlbrew/perls/perl-5.13.4/bin"
    PERLBREW_PERL="perl-5.13.4"
    PERLBREW_ROOT="/home/njh/perl5/perlbrew"
    PERLBREW_VERSION="0.46"
    PERL_EXTUTILS_AUTOINSTALL="--defaultdeps"
    PERL_MM_USE_DEFAULT="1"
  @INC:
    /home/njh/.cpan/build/XML-Simple-2.20-SsJIEp/blib/arch
    /home/njh/.cpan/build/XML-Simple-2.20-SsJIEp/blib/lib
    /home/njh/.cpan/build/XML-SAX-Expat-0.40-V2rG3P/blib/arch
    /home/njh/.cpan/build/XML-SAX-Expat-0.40-V2rG3P/blib/lib
    /home/njh/perl5/perlbrew/perls/perl-5.13.4/lib/site_perl/5.13.4/x86_64-linux
    /home/njh/perl5/perlbrew/perls/perl-5.13.4/lib/site_perl/5.13.4
    /home/njh/perl5/perlbrew/perls/perl-5.13.4/lib/5.13.4/x86_64-linux
    /home/njh/perl5/perlbrew/perls/perl-5.13.4/lib/5.13.4
    .