Back
From: metabase:user:838e5b0a-2bb6-1016-a696-43a2537fa0c6
Subject: PASS SOAP-WSDL-2.00.99_3 v5.10.1 Windows (Cygwin)
Date: 2013-11-15T01:23:29Z
This distribution has been tested as part of the CPAN Testers
project, supporting the Perl programming language. See
http://wiki.cpantesters.org/ for more information or email
questions to cpan-testers-discuss@perl.org
--
Dear Martin Kutter,
This is a computer-generated report for SOAP-WSDL-2.00.99_3
on perl 5.10.1, created by CPAN-Reporter-1.2010.
Thank you for uploading your work to CPAN. Congratulations!
All tests were successful.
Sections of this report:
* Tester comments
* Program output
* Prerequisites
* Environment and other context
------------------------------
TESTER COMMENTS
------------------------------
Additional comments from tester:
this report is from an automated smoke testing program
and was not reviewed by a human for accuracy
------------------------------
PROGRAM OUTPUT
------------------------------
Output from './Build test':
t/002_parse_wsdl.t ....................................... ok
t/003_wsdl_based_serializer.t ............................ ok
t/011_simpleType.t ....................................... ok
t/012_element.t .......................................... ok
t/013_complexType.t ...................................... ok
t/016_client_object.t .................................... ok
t/094_cpan_meta.t ........................................ skipped: Author test. Set $ENV{RELEASE_TESTING} to a true value to run.
t/095_copying.t .......................................... skipped: Author test. Set $ENV{RELEASE_TESTING} to a true value to run.
t/096_characters.t ....................................... skipped: Author test. Set $ENV{RELEASE_TESTING} to a true value to run.
t/097_kwalitee.t ......................................... skipped: Author test. Set $ENV{RELEASE_TESTING} to a true value to run.
t/098_pod.t .............................................. ok
t/099_pod_coverage.t ..................................... skipped: Author test. Set $ENV{RELEASE_TESTING} to a true value to run.
t/SOAP/WSDL/Base.t ....................................... ok
t/SOAP/WSDL/Client.t ..................................... ok
t/SOAP/WSDL/Client/Base.t ................................ ok
t/SOAP/WSDL/Definitions.t ................................ ok
t/SOAP/WSDL/Deserializer/Hash.t .......................... ok
t/SOAP/WSDL/Deserializer/SOM.t ........................... skipped: SOAP::Lite not available
t/SOAP/WSDL/Deserializer/XSD.t ........................... ok
t/SOAP/WSDL/Expat/Base.t ................................. ok
t/SOAP/WSDL/Expat/MessageParser.t ........................ ok
file:///home/solimanod/.cpan/build/SOAP-WSDL-2.00.99_3-caJsIH/t/acceptance/wsdl/WSDLParser-imported.wsdl already imported; ignoring it.
t/SOAP/WSDL/Expat/WSDLParser.t ........................... ok
t/SOAP/WSDL/Factory/Deserializer.t ....................... ok
t/SOAP/WSDL/Factory/Serializer.t ......................... ok
t/SOAP/WSDL/Factory/Transport.t .......................... ok
t/SOAP/WSDL/Generator/Template.t ......................... ok
t/SOAP/WSDL/Generator/Template/XSD/Import.t .............. ok
t/SOAP/WSDL/Generator/Template/XSD/MultipleNamespaces.t .. ok
t/SOAP/WSDL/Generator/Template/XSD/Unqualified.t ......... ok
t/SOAP/WSDL/Generator/Visitor.t .......................... ok
t/SOAP/WSDL/Generator/Visitor/Typemap.t .................. ok
Multiple parts detected in message testMultiPartWarning.
WS-I BP demands 0 to 1 parts in message body
Multiple parts detected in message testMultiPartWarning.
WS-I BP demands 0 to 1 parts in message body
t/SOAP/WSDL/Generator/XSD.t .............................. ok
Multiple parts detected in message testMultiPartWarning.
WS-I BP demands 0 to 1 parts in message body
Multiple parts detected in message testMultiPartWarning.
WS-I BP demands 0 to 1 parts in message body
t/SOAP/WSDL/Generator/XSD_custom_resolver.t .............. ok
Multiple parts detected in message testMultiPartWarning.
WS-I BP demands 0 to 1 parts in message body
Multiple parts detected in message testMultiPartWarning.
WS-I BP demands 0 to 1 parts in message body
t/SOAP/WSDL/Generator/XSD_dot_names.t .................... ok
t/SOAP/WSDL/Generator/XSD_nested_complextype.t ........... ok
Creating complexType class SCALAR(0x205b1e68)
Creating element class SCALAR(0x205b1e68)
Creating element class SCALAR(0x205b1e68)
Creating element class SCALAR(0x205b1e68)
Creating element class SCALAR(0x205b1e68)
t/SOAP/WSDL/Generator/XSD_recursive.t .................... ok
t/SOAP/WSDL/Generator/XSD_unsupported.t .................. ok
t/SOAP/WSDL/Part.t ....................................... ok
t/SOAP/WSDL/PortType.t ................................... ok
t/SOAP/WSDL/SOAP/Typelib/Fault11.t ....................... ok
t/SOAP/WSDL/Serializer/XSD.t ............................. ok
t/SOAP/WSDL/Server.t ..................................... ok
t/SOAP/WSDL/Server/CGI.t ................................. ok
t/SOAP/WSDL/Server/Mod_Perl2.t ........................... skipped: Test::MockObject required for faking mod_perl
HTTP/1.0 500 Internal Server Error
Content-Type: text/xml; charset="utf-8"
<SOAP-ENV:Envelope xmlns:xs="http://www.w3.org/2001/XMLSchema" xmlns:xsi="http://www.w3.org/2001/XMLSchema-instance" xmlns:SOAP-ENV="http://schemas.xmlsoap.org/soap/envelope/" ><SOAP-ENV:Body><Fault xmlns="http://schemas.xmlsoap.org/soap/envelope/"><faultcode>SOAP-ENV:Server</faultcode><faultstring>No handler registered</faultstring><faultactor>urn:localhost</faultactor></Fault></SOAP-ENV:Body></SOAP-ENV:Envelope>
Subroutine SOAP::WSDL::Server::Simple::_output redefined at t/SOAP/WSDL/Server/Simple.t line 52.
Subroutine SOAP::WSDL::Server::Simple::_output redefined at t/SOAP/WSDL/Server/Simple.t line 80.
Subroutine SOAP::WSDL::Server::handle redefined at t/SOAP/WSDL/Server/Simple.t line 85.
Subroutine SOAP::WSDL::Server::Simple::_output redefined at t/SOAP/WSDL/Server/Simple.t line 108.
Subroutine SOAP::WSDL::Server::handle redefined at t/SOAP/WSDL/Server/Simple.t line 113.
t/SOAP/WSDL/Server/Simple.t .............................. ok
t/SOAP/WSDL/Transport/01_Test.t .......................... ok
t/SOAP/WSDL/Transport/HTTP.t ............................. ok
t/SOAP/WSDL/Typelib/Fault11.t ............................ ok
t/SOAP/WSDL/Types.t ...................................... ok
t/SOAP/WSDL/XSD/Attribute.t .............................. ok
t/SOAP/WSDL/XSD/AttributeGroup.t ......................... ok
t/SOAP/WSDL/XSD/Builtin.t ................................ ok
t/SOAP/WSDL/XSD/ComplexType.t ............................ ok
t/SOAP/WSDL/XSD/Element.t ................................ ok
t/SOAP/WSDL/XSD/Enumeration.t ............................ ok
t/SOAP/WSDL/XSD/Schema.t ................................. ok
t/SOAP/WSDL/XSD/SimpleType.t ............................. ok
t/SOAP/WSDL/XSD/Typelib/Attribute.t ...................... ok
t/SOAP/WSDL/XSD/Typelib/Builtin/ENTITY.t ................. ok
t/SOAP/WSDL/XSD/Typelib/Builtin/ID.t ..................... ok
t/SOAP/WSDL/XSD/Typelib/Builtin/IDREF.t .................. ok
t/SOAP/WSDL/XSD/Typelib/Builtin/IDREFS.t ................. ok
t/SOAP/WSDL/XSD/Typelib/Builtin/NCName.t ................. ok
t/SOAP/WSDL/XSD/Typelib/Builtin/NMTOKEN.t ................ ok
t/SOAP/WSDL/XSD/Typelib/Builtin/NMTOKENS.t ............... ok
t/SOAP/WSDL/XSD/Typelib/Builtin/NOTATION.t ............... ok
t/SOAP/WSDL/XSD/Typelib/Builtin/Name.t ................... ok
t/SOAP/WSDL/XSD/Typelib/Builtin/QName.t .................. ok
t/SOAP/WSDL/XSD/Typelib/Builtin/anySimpleType.t .......... ok
t/SOAP/WSDL/XSD/Typelib/Builtin/anyType.t ................ ok
t/SOAP/WSDL/XSD/Typelib/Builtin/anyURI.t ................. ok
t/SOAP/WSDL/XSD/Typelib/Builtin/base64Binary.t ........... ok
t/SOAP/WSDL/XSD/Typelib/Builtin/boolean.t ................ ok
t/SOAP/WSDL/XSD/Typelib/Builtin/byte.t ................... ok
t/SOAP/WSDL/XSD/Typelib/Builtin/date.t ................... ok
t/SOAP/WSDL/XSD/Typelib/Builtin/dateTime.t ............... ok
t/SOAP/WSDL/XSD/Typelib/Builtin/decimal.t ................ ok
t/SOAP/WSDL/XSD/Typelib/Builtin/double.t ................. ok
t/SOAP/WSDL/XSD/Typelib/Builtin/duration.t ............... ok
t/SOAP/WSDL/XSD/Typelib/Builtin/float.t .................. ok
t/SOAP/WSDL/XSD/Typelib/Builtin/gDay.t ................... ok
t/SOAP/WSDL/XSD/Typelib/Builtin/gMonth.t ................. ok
t/SOAP/WSDL/XSD/Typelib/Builtin/gMonthDay.t .............. ok
t/SOAP/WSDL/XSD/Typelib/Builtin/gYear.t .................. ok
t/SOAP/WSDL/XSD/Typelib/Builtin/gYearMonth.t ............. ok
t/SOAP/WSDL/XSD/Typelib/Builtin/hexBinary.t .............. ok
t/SOAP/WSDL/XSD/Typelib/Builtin/int.t .................... ok
t/SOAP/WSDL/XSD/Typelib/Builtin/integer.t ................ ok
t/SOAP/WSDL/XSD/Typelib/Builtin/language.t ............... ok
t/SOAP/WSDL/XSD/Typelib/Builtin/list.t ................... ok
t/SOAP/WSDL/XSD/Typelib/Builtin/long.t ................... ok
t/SOAP/WSDL/XSD/Typelib/Builtin/negativeInteger.t ........ ok
t/SOAP/WSDL/XSD/Typelib/Builtin/nonNegativeInteger.t ..... ok
t/SOAP/WSDL/XSD/Typelib/Builtin/nonPositiveInteger.t ..... ok
t/SOAP/WSDL/XSD/Typelib/Builtin/normalizedString.t ....... ok
t/SOAP/WSDL/XSD/Typelib/Builtin/positiveInteger.t ........ ok
t/SOAP/WSDL/XSD/Typelib/Builtin/short.t .................. ok
t/SOAP/WSDL/XSD/Typelib/Builtin/string.t ................. ok
t/SOAP/WSDL/XSD/Typelib/Builtin/time.t ................... ok
t/SOAP/WSDL/XSD/Typelib/Builtin/token.t .................. ok
t/SOAP/WSDL/XSD/Typelib/Builtin/unsignedByte.t ........... ok
t/SOAP/WSDL/XSD/Typelib/Builtin/unsignedInt.t ............ ok
t/SOAP/WSDL/XSD/Typelib/Builtin/unsignedLong.t ........... ok
t/SOAP/WSDL/XSD/Typelib/Builtin/unsignedShort.t .......... ok
t/SOAP/WSDL/XSD/Typelib/ComplexType.t .................... ok
t/SOAP/WSDL/XSD/Typelib/Element.t ........................ ok
All tests successful.
Files=106, Tests=1097, 95 wallclock secs ( 4.30 usr 0.64 sys + 43.14 cusr 41.06 csys = 89.14 CPU)
Result: PASS
------------------------------
PREREQUISITES
------------------------------
Prerequisite modules loaded:
requires:
Module Need Have
------------------ ------ --------
Class::Std::Fast v0.0.5 0.0.8
Data::Dumper 0 2.145
Date::Format 0 2.24
Date::Parse 0 2.30
File::Basename 0 2.77
File::Path 0 2.07_03
Getopt::Long 0 2.38
List::Util 0 1.21
LWP::UserAgent 0 6.04
perl v5.8.0 5.010001
Template 2.18 2.25
Term::ReadKey 0 2.30
URI 0 1.60
XML::Parser::Expat 0 2.41
build_requires:
Module Need Have
------------------ ------ --------
Class::Std::Fast v0.0.5 0.0.8
Cwd 0 3.40
Date::Format 0 2.24
Date::Parse 0 2.30
File::Basename 0 2.77
File::Path 0 2.07_03
File::Spec 0 3.40
Getopt::Long 0 2.38
List::Util 0 1.21
LWP::UserAgent 0 6.04
Module::Build 0 0.4007
Storable 0 2.20
Template 2.18 2.25
Test::More 0 0.98
XML::Parser::Expat 0 2.41
configure_requires:
Module Need Have
------------------ ------ --------
Module::Build 0.36 0.4007
------------------------------
ENVIRONMENT AND OTHER CONTEXT
------------------------------
Environment variables:
AUTOMATED_TESTING = 1
COMSPEC = C:\Windows\system32\cmd.exe
LANG = en_US.UTF-8
NUMBER_OF_PROCESSORS = 8
PATH = /home/solimanod/perl5/perlbrew/bin:/usr/local/bin:/usr/bin:/cygdrive/c/tt/ttm:/cygdrive/c/tt/bin:/cygdrive/c/Program Files/MiKTeX/2.9/miktex/bin:/cygdrive/c/Windows/system32:/cygdrive/c/Windows:/cygdrive/c/Windows/System32/Wbem:/cygdrive/c/Windows/System32/WindowsPowerShell/v1.0:/cygdrive/c/rv/BIN:/cygdrive/c/Program Files/Microsoft SQL Server/100/Tools/Binn:/cygdrive/c/Program Files/Microsoft SQL Server/100/DTS/Binn:/cygdrive/c/Program Files/Microsoft SQL Server/100/Tools/Binn/VSShell/Common7/IDE:/cygdrive/c/Program Files/Microsoft Visual Studio 9.0/Common7/IDE/PrivateAssemblies:/cygdrive/c/Program Files/Microsoft SQL Server/80/Tools/Binn:/cygdrive/c/Program Files/Microsoft SQL Server/90/Tools/binn:/cygdrive/c/Program Files/Microsoft SQL Server/90/DTS/Binn:/cygdrive/c/Program Files/Microsoft SQL Server/90/Tools/Binn/VSShell/Common7/IDE:/cygdrive/c/Program Files/Microsoft Visual Studio 8/Common7/IDE/PrivateAssemblies:/cygdrive/c/Program Files/TortoiseSVN/bin:/cygdrive/c/Program Files/MIT/Kerberos/bin:/cygdrive/f/strawberry/c/bin:/cygdrive/f/strawberry/perl/site/bin:/cygdrive/f/strawberry/perl/bin:/cygdrive/c/Program Files/Common Files/Citrix/System32:/cygdrive/c/Program Files/Citrix/ICAService:/cygdrive/c/Program Files/Citrix/System32:/cygdrive/c/Users/DSolimano/AppData/Local/Fidessa/systemfiles
PATH_WITHOUT_PERLBREW = /usr/local/bin:/usr/bin:/cygdrive/c/tt/ttm:/cygdrive/c/tt/bin:/cygdrive/c/Program Files/MiKTeX/2.9/miktex/bin:/cygdrive/c/Windows/system32:/cygdrive/c/Windows:/cygdrive/c/Windows/System32/Wbem:/cygdrive/c/Windows/System32/WindowsPowerShell/v1.0:/cygdrive/c/rv/BIN:/cygdrive/c/Program Files/Microsoft SQL Server/100/Tools/Binn:/cygdrive/c/Program Files/Microsoft SQL Server/100/DTS/Binn:/cygdrive/c/Program Files/Microsoft SQL Server/100/Tools/Binn/VSShell/Common7/IDE:/cygdrive/c/Program Files/Microsoft Visual Studio 9.0/Common7/IDE/PrivateAssemblies:/cygdrive/c/Program Files/Microsoft SQL Server/80/Tools/Binn:/cygdrive/c/Program Files/Microsoft SQL Server/90/Tools/binn:/cygdrive/c/Program Files/Microsoft SQL Server/90/DTS/Binn:/cygdrive/c/Program Files/Microsoft SQL Server/90/Tools/Binn/VSShell/Common7/IDE:/cygdrive/c/Program Files/Microsoft Visual Studio 8/Common7/IDE/PrivateAssemblies:/cygdrive/c/Program Files/TortoiseSVN/bin:/cygdrive/c/Program Files/MIT/Kerberos/bin:/cygdrive/f/strawberry/c/bin:/cygdrive/f/strawberry/perl/site/bin:/cygdrive/f/strawberry/perl/bin:/cygdrive/c/Program Files/Common Files/Citrix/System32:/cygdrive/c/Program Files/Citrix/ICAService:/cygdrive/c/Program Files/Citrix/System32:/cygdrive/c/Users/DSolimano/AppData/Local/Fidessa/systemfiles
PERL5LIB = /home/solimanod/.cpan/build/Template-Toolkit-2.25-dS46xY/blib/arch:/home/solimanod/.cpan/build/Template-Toolkit-2.25-dS46xY/blib/lib:/home/solimanod/.cpan/build/AppConfig-1.66-rRNKQQ/blib/arch:/home/solimanod/.cpan/build/AppConfig-1.66-rRNKQQ/blib/lib:/home/solimanod/.cpan/build/Class-Std-Fast-v0.0.8-nOW7Bo/blib/arch:/home/solimanod/.cpan/build/Class-Std-Fast-v0.0.8-nOW7Bo/blib/lib:/home/solimanod/.cpan/build/Class-Std-0.011-JzPNcj/blib/arch:/home/solimanod/.cpan/build/Class-Std-0.011-JzPNcj/blib/lib
PERL5OPT =
PERL5_CPANPLUS_IS_RUNNING = 16872
PERL5_CPAN_IS_RUNNING = 16872
PERL5_CPAN_IS_RUNNING_IN_RECURSION = 7208,16872
PERLBREW_BASHRC_VERSION = 0.31
PERLBREW_HOME = /home/solimanod/.perlbrew
PERLBREW_PATH = /home/solimanod/perl5/perlbrew/bin
PERLBREW_ROOT = /home/solimanod/perl5/perlbrew
PERL_CR_SMOKER_CURRENT = SOAP-WSDL-2.00.99_3
PERL_EXTUTILS_AUTOINSTALL = --defaultdeps
PERL_JSON_BACKEND = JSON::XS
PERL_MM_USE_DEFAULT = 1
PERL_YAML_BACKEND = YAML
PROCESSOR_IDENTIFIER = x86 Family 6 Model 23 Stepping 6, GenuineIntel
SHELL = /bin/bash
TEMP = /tmp
TERM = xterm
Perl special variables (and OS-specific diagnostics, for MSWin32):
$^X = /usr/bin/perl
$UID/$EUID = 184280 / 184280
$GID = 10513 0 544 545 1012 15641 15886 25229 184120 192757 237589 237731 251266 194555 76114 192482 10513 71661 61715 184156 184165 184167 237398 192370 184190 184243 77842
$EGID = 10513 0 544 545 1012 15641 15886 25229 184120 192757 237589 237731 251266 194555 76114 192482 10513 71661 61715 184156 184165 184167 237398 192370 184190 184243 77842
Perl module toolchain versions installed:
Module Have
------------------- --------
CPAN 2.00
CPAN::Meta 2.132661
Cwd 3.40
ExtUtils::CBuilder 0.2702
ExtUtils::Command 1.16_01
ExtUtils::Install 1.54
ExtUtils::MakeMaker 6.72
ExtUtils::Manifest 1.60
ExtUtils::ParseXS 2.2206
File::Spec 3.40
JSON 2.53
JSON::PP 2.27200
Module::Build 0.4007
Module::Signature 0.61
Parse::CPAN::Meta 1.4409
Test::Harness 3.28
Test::More 0.98
YAML 0.84
YAML::Syck 1.20
version 0.99
--
Summary of my perl5 (revision 5 version 10 subversion 1) configuration:
Platform:
osname=cygwin, osvers=1.7.5(0.22553), archname=i686-cygwin-thread-multi-64int
uname='cygwin_nt-5.1 reini 1.7.5(0.22553) 2010-04-12 19:07 i686 cygwin '
config_args='-de -Dlibperl=cygperl5_10.dll -Dcc=gcc-4 -Dld=g++-4 -Dmksymlinks -Dusethreads -Dmad=y -Doptimize=-O3 -Accflags=-g3'
hint=recommended, useposix=true, d_sigaction=define
useithreads=define, usemultiplicity=define
useperlio=define, d_sfio=undef, uselargefiles=define, usesocks=undef
use64bitint=define, use64bitall=undef, uselongdouble=undef
usemymalloc=y, bincompat5005=undef
Compiler:
cc='gcc-4', ccflags ='-DPERL_USE_SAFE_PUTENV -U__STRICT_ANSI__ -g3 -fno-strict-aliasing -pipe -fstack-protector -I/usr/local/include',
optimize='-O3',
cppflags='-DPERL_USE_SAFE_PUTENV -U__STRICT_ANSI__ -g3 -fno-strict-aliasing -pipe -fstack-protector -I/usr/local/include'
ccversion='', gccversion='4.3.4 20090804 (release) 1', gccosandvers=''
intsize=4, longsize=4, ptrsize=4, doublesize=8, byteorder=12345678
d_longlong=define, longlongsize=8, d_longdbl=define, longdblsize=12
ivtype='long long', ivsize=8, nvtype='double', nvsize=8, Off_t='off_t', lseeksize=8
alignbytes=8, prototype=define
Linker and Libraries:
ld='g++-4', ldflags =' -Wl,--enable-auto-import -Wl,--export-all-symbols -Wl,--stack,8388608 -Wl,--enable-auto-image-base -fstack-protector -L/usr/local/lib'
libpth=/usr/local/lib /usr/lib /lib
libs=-lgdbm -ldb -ldl -lcrypt -lgdbm_compat
perllibs=-ldl -lcrypt
libc=/usr/lib/libc.a, so=dll, useshrplib=true, libperl=cygperl5_10.dll
gnulibc_version=''
Dynamic Linking:
dlsrc=dl_dlopen.xs, dlext=dll, d_dlsymun=undef, ccdlflags=' '
cccdlflags=' ', lddlflags=' --shared -Wl,--enable-auto-import -Wl,--export-all-symbols -Wl,--stack,8388608 -Wl,--enable-auto-image-base -L/usr/local/lib -fstack-protector'
Characteristics of this binary (from libperl):
Compile-time options: MULTIPLICITY MYMALLOC PERL_DONT_CREATE_GVSV
PERL_IMPLICIT_CONTEXT PERL_MAD PERL_USE_SAFE_PUTENV
USE_64_BIT_INT USE_ITHREADS USE_LARGE_FILES
USE_PERLIO USE_REENTRANT_API
Locally applied patches:
CYG11 no-bs
CYG12 no archlib in otherlibdirs
CYG14 Dynaloader
CYG15 static-Win32CORE
CYG17 utf8-paths
CYG21 LibList-Kid.patch
CYG22 cygwin-1.7 hints
CYG23 544-stat
CYG24 build man pages
CYG25 rebase_privlib
Module-Build-0.36_13
Bug#55162 CYG18 File::Spec::case_tolerant performance
disable ExtUtils::MakeMaker::Coverage in Sys-Syslog
Built under cygwin
Compiled at Aug 28 2010 20:17:29
%ENV:
PERL5LIB="/home/solimanod/.cpan/build/Template-Toolkit-2.25-dS46xY/blib/arch:/home/solimanod/.cpan/build/Template-Toolkit-2.25-dS46xY/blib/lib:/home/solimanod/.cpan/build/AppConfig-1.66-rRNKQQ/blib/arch:/home/solimanod/.cpan/build/AppConfig-1.66-rRNKQQ/blib/lib:/home/solimanod/.cpan/build/Class-Std-Fast-v0.0.8-nOW7Bo/blib/arch:/home/solimanod/.cpan/build/Class-Std-Fast-v0.0.8-nOW7Bo/blib/lib:/home/solimanod/.cpan/build/Class-Std-0.011-JzPNcj/blib/arch:/home/solimanod/.cpan/build/Class-Std-0.011-JzPNcj/blib/lib"
PERL5OPT=""
PERL5_CPANPLUS_IS_RUNNING="16872"
PERL5_CPAN_IS_RUNNING="16872"
PERL5_CPAN_IS_RUNNING_IN_RECURSION="7208,16872"
PERLBREW_BASHRC_VERSION="0.31"
PERLBREW_HOME="/home/solimanod/.perlbrew"
PERLBREW_PATH="/home/solimanod/perl5/perlbrew/bin"
PERLBREW_ROOT="/home/solimanod/perl5/perlbrew"
PERL_CR_SMOKER_CURRENT="SOAP-WSDL-2.00.99_3"
PERL_EXTUTILS_AUTOINSTALL="--defaultdeps"
PERL_JSON_BACKEND="JSON::XS"
PERL_MM_USE_DEFAULT="1"
PERL_YAML_BACKEND="YAML"
CYGWIN=""
@INC:
/home/solimanod/.cpan/build/Template-Toolkit-2.25-dS46xY/blib/arch
/home/solimanod/.cpan/build/Template-Toolkit-2.25-dS46xY/blib/lib
/home/solimanod/.cpan/build/AppConfig-1.66-rRNKQQ/blib/arch
/home/solimanod/.cpan/build/AppConfig-1.66-rRNKQQ/blib/lib
/home/solimanod/.cpan/build/Class-Std-Fast-v0.0.8-nOW7Bo/blib/arch
/home/solimanod/.cpan/build/Class-Std-Fast-v0.0.8-nOW7Bo/blib/lib
/home/solimanod/.cpan/build/Class-Std-0.011-JzPNcj/blib/arch
/home/solimanod/.cpan/build/Class-Std-0.011-JzPNcj/blib/lib
/usr/lib/perl5/5.10/i686-cygwin
/usr/lib/perl5/5.10
/usr/lib/perl5/site_perl/5.10/i686-cygwin
/usr/lib/perl5/site_perl/5.10
/usr/lib/perl5/vendor_perl/5.10/i686-cygwin
/usr/lib/perl5/vendor_perl/5.10
/usr/lib/perl5/vendor_perl/5.10
/usr/lib/perl5/site_perl/5.8
/usr/lib/perl5/vendor_perl/5.8
.