Back
From: metabase:user:320bfe00-2aae-11df-837a-5e0a49663a4f
Subject: PASS Data-Math-0.01 v5.16.3 GNU/Linux
Date: 2017-01-19T01:01:33Z
This distribution has been tested as part of the CPAN Testers
project, supporting the Perl programming language. See
http://wiki.cpantesters.org/ for more information or email
questions to cpan-testers-discuss@perl.org
--
Dear Joseph Brenner,
This is a computer-generated report for Data-Math-0.01
on perl 5.16.3, created by CPAN-Reporter-1.2018.
Thank you for uploading your work to CPAN. Congratulations!
All tests were successful.
Sections of this report:
* Tester comments
* Program output
* Prerequisites
* Environment and other context
------------------------------
TESTER COMMENTS
------------------------------
Additional comments from tester:
this report is from an automated smoke testing program
and was not reviewed by a human for accuracy
------------------------------
PROGRAM OUTPUT
------------------------------
Output from './Build test':
t/05-Data-Math-hash_of_hash_with_holes.t ...... ok
t/06-Data-Math-array_of_hash.t ................ ok
t/07-Data-Math-hash_of_hash_with_skip_keys.t .. ok
t/08-Data-Math-blessed_hashes.t ............... ok
t/09-Data-Math-scalar_operations.t ............ ok
t/16-Data-Math-array_of_hash_with_holes.t ..... ok
t/17-Data-Math-merge_hashes.t ................. ok
t/19-Data-Math-string_handler.t ............... ok
t/20-Data-Math-string_policy.t ................ ok
t/30-Data-Math-qualify_array.t ................ ok
t/31-Data-Math-qualify_hash.t ................. ok
t/40-Data-Math-many_args.t .................... ok
t/author-pod-syntax.t ......................... skipped: these tests are for testing by the author
All tests successful.
Files=13, Tests=106, 4 wallclock secs ( 0.03 usr 0.10 sys + 1.10 cusr 0.24 csys = 1.47 CPU)
Result: PASS
------------------------------
PREREQUISITES
------------------------------
Prerequisite modules loaded:
requires:
Module Need Have
---------------------------- -------- --------
Carp 0 1.26
Data::Dumper 0 2.161
FindBin 0 1.51
lib 0 0.63
List::MoreUtils 0 0.416
List::Util 0 1.47
Moo 0 2.003000
MooX::Types::MooseLike::Base 0 0.29
perl 5.008005 5.016003
Scalar::Classify 0 0.02
Scalar::Util 0 1.47
strict 0 1.07
warnings 0 1.13
build_requires:
Module Need Have
---------------------------- -------- --------
Cwd 0 3.62
Data::Dumper 0 2.161
Env 0 1.03
Fatal 0 2.29
File::Basename 0 2.84
File::Copy 0 2.23
File::Path 0 2.08_01
FindBin 0 1.51
lib 0 0.63
List::MoreUtils 0 0.416
Test::Deep 0 1.126
Test::Exception 0 0.43
Test::More 0.96 1.302075
Test::Trap 0 0.3.2
configure_requires:
Module Need Have
---------------------------- -------- --------
Module::Build::Tiny 0.034 0.039
------------------------------
ENVIRONMENT AND OTHER CONTEXT
------------------------------
Environment variables:
AUTOMATED_TESTING = 1
LANG = C
PATH = /home/sand/bin:/usr/local/bin:/usr/bin:/bin:/usr/games:/usr/local/perl/bin:/usr/X11/bin:/sbin:/usr/sbin
PERL5LIB =
PERL5OPT =
PERL5_CPANPLUS_IS_RUNNING = 13983
PERL5_CPAN_IS_RUNNING = 13983
PERL_CANARY_STABILITY_NOPROMPT = 1
PERL_MM_USE_DEFAULT = 1
SHELL = /usr/bin/zsh
TERM = screen
Perl special variables (and OS-specific diagnostics, for MSWin32):
$^X = /home/sand/src/perl/repoperls/installed-perls/host/k93msid/v5.16.3/2d7c/bin/perl
$UID/$EUID = 1005 / 1005
$GID = 1005 1005
$EGID = 1005 1005
Perl module toolchain versions installed:
Module Have
------------------- --------
CPAN 2.16
CPAN::Meta 2.150010
Cwd 3.62
ExtUtils::CBuilder 0.280224
ExtUtils::Command 7.24
ExtUtils::Install 1.58
ExtUtils::MakeMaker 7.24
ExtUtils::Manifest 1.70
ExtUtils::ParseXS 3.30
File::Spec 3.62
JSON 2.91_03
JSON::PP 2.91_04
Module::Build 0.4220
Module::Signature 0.81
Parse::CPAN::Meta 2.150010
Test::Harness 3.36
Test::More 1.302075
YAML 1.21
YAML::Syck 1.29
version 0.9917
--
Summary of my perl5 (revision 5 version 16 subversion 3) configuration:
Derived from: fd04d42d38f4751b981eb6e9213ee1ab8ef11ea6
Platform:
osname=linux, osvers=4.8.0-2-amd64, archname=x86_64-linux-ld
uname='linux k93msid 4.8.0-2-amd64 #1 smp debian 4.8.11-1 (2016-12-02) x86_64 gnulinux '
config_args='-Dprefix=/home/sand/src/perl/repoperls/installed-perls/host/k93msid/v5.16.3/2d7c -Dmyhostname=k93msid -Dinstallusrbinperl=n -Uversiononly -Dusedevel -des -Ui_db -Dlibswanted=cl pthread socket inet nsl gdbm dbm malloc dl ld sun m crypt sec util c cposix posix ucb BSD gdbm_compat -Uuseithreads -Duselongdouble -DDEBUGGING=-g'
hint=recommended, useposix=true, d_sigaction=define
useithreads=undef, usemultiplicity=undef
useperlio=define, d_sfio=undef, uselargefiles=define, usesocks=undef
use64bitint=define, use64bitall=define, uselongdouble=define
usemymalloc=n, bincompat5005=undef
Compiler:
cc='cc', ccflags ='-fno-strict-aliasing -pipe -fstack-protector -I/usr/local/include -D_LARGEFILE_SOURCE -D_FILE_OFFSET_BITS=64',
optimize='-O2 -g',
cppflags='-fno-strict-aliasing -pipe -fstack-protector -I/usr/local/include'
ccversion='', gccversion='6.2.1 20161124', gccosandvers=''
intsize=4, longsize=8, ptrsize=8, doublesize=8, byteorder=12345678
d_longlong=define, longlongsize=8, d_longdbl=define, longdblsize=16
ivtype='long', ivsize=8, nvtype='long double', nvsize=16, Off_t='off_t', lseeksize=8
alignbytes=16, prototype=define
Linker and Libraries:
ld='cc', ldflags =' -fstack-protector -L/usr/local/lib'
libpth=/usr/local/lib /lib/x86_64-linux-gnu /lib/../lib /usr/lib/x86_64-linux-gnu /usr/lib/../lib /lib /usr/lib
libs=-lpthread -lnsl -ldl -lm -lcrypt -lutil -lc
perllibs=-lpthread -lnsl -ldl -lm -lcrypt -lutil -lc
libc=libc-2.24.so, so=so, useshrplib=false, libperl=libperl.a
gnulibc_version='2.24'
Dynamic Linking:
dlsrc=dl_dlopen.xs, dlext=so, d_dlsymun=undef, ccdlflags='-Wl,-E'
cccdlflags='-fPIC', lddlflags='-shared -O2 -g -L/usr/local/lib -fstack-protector'
Characteristics of this binary (from libperl):
Compile-time options: HAS_TIMES PERLIO_LAYERS PERL_DONT_CREATE_GVSV
PERL_MALLOC_WRAP PERL_PRESERVE_IVUV PERL_USE_DEVEL
USE_64_BIT_ALL USE_64_BIT_INT USE_LARGE_FILES
USE_LOCALE USE_LOCALE_COLLATE USE_LOCALE_CTYPE
USE_LOCALE_NUMERIC USE_LONG_DOUBLE USE_PERLIO
USE_PERL_ATOF
Locally applied patches:
uncommitted-changes
Built under linux
Compiled at Jan 4 2017 10:35:21
%ENV:
PERL5LIB=""
PERL5OPT=""
PERL5_CPANPLUS_IS_RUNNING="13983"
PERL5_CPAN_IS_RUNNING="13983"
PERL_CANARY_STABILITY_NOPROMPT="1"
PERL_MM_USE_DEFAULT="1"
@INC:
/home/sand/src/perl/repoperls/installed-perls/host/k93msid/v5.16.3/2d7c/lib/site_perl/5.16.3/x86_64-linux-ld
/home/sand/src/perl/repoperls/installed-perls/host/k93msid/v5.16.3/2d7c/lib/site_perl/5.16.3
/home/sand/src/perl/repoperls/installed-perls/host/k93msid/v5.16.3/2d7c/lib/5.16.3/x86_64-linux-ld
/home/sand/src/perl/repoperls/installed-perls/host/k93msid/v5.16.3/2d7c/lib/5.16.3
.